BEGIN:VCALENDAR
VERSION:2.0
PRODID:-//College of Earth, Life, and Health Sciences - ECPv6.15.17.1//NONSGML v1.0//EN
CALSCALE:GREGORIAN
METHOD:PUBLISH
X-WR-CALNAME:College of Earth, Life, and Health Sciences
X-ORIGINAL-URL:https://elh.umaine.edu
X-WR-CALDESC:Events for College of Earth, Life, and Health Sciences
REFRESH-INTERVAL;VALUE=DURATION:PT1H
X-Robots-Tag:noindex
X-PUBLISHED-TTL:PT1H
BEGIN:VTIMEZONE
TZID:America/New_York
BEGIN:DAYLIGHT
TZOFFSETFROM:-0500
TZOFFSETTO:-0400
TZNAME:EDT
DTSTART:20140309T070000
END:DAYLIGHT
BEGIN:STANDARD
TZOFFSETFROM:-0400
TZOFFSETTO:-0500
TZNAME:EST
DTSTART:20141102T060000
END:STANDARD
BEGIN:DAYLIGHT
TZOFFSETFROM:-0500
TZOFFSETTO:-0400
TZNAME:EDT
DTSTART:20150308T070000
END:DAYLIGHT
BEGIN:STANDARD
TZOFFSETFROM:-0400
TZOFFSETTO:-0500
TZNAME:EST
DTSTART:20151101T060000
END:STANDARD
BEGIN:DAYLIGHT
TZOFFSETFROM:-0500
TZOFFSETTO:-0400
TZNAME:EDT
DTSTART:20160313T070000
END:DAYLIGHT
BEGIN:STANDARD
TZOFFSETFROM:-0400
TZOFFSETTO:-0500
TZNAME:EST
DTSTART:20161106T060000
END:STANDARD
END:VTIMEZONE
BEGIN:VEVENT
DTSTART;TZID=America/New_York:20150918T110000
DTEND;TZID=America/New_York:20150918T120000
DTSTAMP:20260419T195648
CREATED:20150914T193506Z
LAST-MODIFIED:20150914T193506Z
UID:10000090-1442574000-1442577600@elh.umaine.edu
SUMMARY:"Dissecting Functionality of Multi Level Governance Arrangements in Small-Scale Fisheries: An Example from the Gulf of California\, Mexico"
DESCRIPTION:Speaker: Dr. Mateja Nenadovic\, Marine Policy Candidate\, Duke University \n  \nHosted by: SMS Fall 2015 Seminar Series
URL:https://elh.umaine.edu/event/dissecting-functionality-of-multi-level-governance-arrangements-in-small-scale-fisheries-an-example-from-the-gulf-of-california-mexico/
LOCATION:354 Aubert Hall\, 354 Aubert Hall\, Orono\, ME\, United States
GEO:44.9012912;-68.6707296
X-APPLE-STRUCTURED-LOCATION;VALUE=URI;X-ADDRESS=354 Aubert Hall 354 Aubert Hall Orono ME United States;X-APPLE-RADIUS=500;X-TITLE=354 Aubert Hall:geo:-68.6707296,44.9012912
END:VEVENT
END:VCALENDAR