BEGIN:VCALENDAR
VERSION:2.0
PRODID:-//College of Earth, Life, and Health Sciences - ECPv6.15.17.1//NONSGML v1.0//EN
CALSCALE:GREGORIAN
METHOD:PUBLISH
X-WR-CALNAME:College of Earth, Life, and Health Sciences
X-ORIGINAL-URL:https://elh.umaine.edu
X-WR-CALDESC:Events for College of Earth, Life, and Health Sciences
REFRESH-INTERVAL;VALUE=DURATION:PT1H
X-Robots-Tag:noindex
X-PUBLISHED-TTL:PT1H
BEGIN:VTIMEZONE
TZID:America/New_York
BEGIN:DAYLIGHT
TZOFFSETFROM:-0500
TZOFFSETTO:-0400
TZNAME:EDT
DTSTART:20140309T070000
END:DAYLIGHT
BEGIN:STANDARD
TZOFFSETFROM:-0400
TZOFFSETTO:-0500
TZNAME:EST
DTSTART:20141102T060000
END:STANDARD
BEGIN:DAYLIGHT
TZOFFSETFROM:-0500
TZOFFSETTO:-0400
TZNAME:EDT
DTSTART:20150308T070000
END:DAYLIGHT
BEGIN:STANDARD
TZOFFSETFROM:-0400
TZOFFSETTO:-0500
TZNAME:EST
DTSTART:20151101T060000
END:STANDARD
BEGIN:DAYLIGHT
TZOFFSETFROM:-0500
TZOFFSETTO:-0400
TZNAME:EDT
DTSTART:20160313T070000
END:DAYLIGHT
BEGIN:STANDARD
TZOFFSETFROM:-0400
TZOFFSETTO:-0500
TZNAME:EST
DTSTART:20161106T060000
END:STANDARD
END:VTIMEZONE
BEGIN:VEVENT
DTSTART;TZID=America/New_York:20150923T120000
DTEND;TZID=America/New_York:20150923T130000
DTSTAMP:20260419T125608
CREATED:20150904T191356Z
LAST-MODIFIED:20150904T191356Z
UID:10000043-1443009600-1443013200@elh.umaine.edu
SUMMARY:ERS Seminar - "Little Ice Age Wetting of Interior Asian Deserts and the Rise of the Mongol Empire"
DESCRIPTION:Brown Bag Luncheon Seminar presented by Dr. Aaron Putnam.
URL:https://elh.umaine.edu/event/ers-seminar-little-ice-age-wetting-of-interior-asian-deserts-and-the-rise-of-the-mongol-empire/
LOCATION:ME
END:VEVENT
END:VCALENDAR