BEGIN:VCALENDAR
VERSION:2.0
PRODID:-//College of Earth, Life, and Health Sciences - ECPv6.15.17.1//NONSGML v1.0//EN
CALSCALE:GREGORIAN
METHOD:PUBLISH
X-ORIGINAL-URL:https://elh.umaine.edu
X-WR-CALDESC:Events for College of Earth, Life, and Health Sciences
REFRESH-INTERVAL;VALUE=DURATION:PT1H
X-Robots-Tag:noindex
X-PUBLISHED-TTL:PT1H
BEGIN:VTIMEZONE
TZID:America/New_York
BEGIN:DAYLIGHT
TZOFFSETFROM:-0500
TZOFFSETTO:-0400
TZNAME:EDT
DTSTART:20140309T070000
END:DAYLIGHT
BEGIN:STANDARD
TZOFFSETFROM:-0400
TZOFFSETTO:-0500
TZNAME:EST
DTSTART:20141102T060000
END:STANDARD
BEGIN:DAYLIGHT
TZOFFSETFROM:-0500
TZOFFSETTO:-0400
TZNAME:EDT
DTSTART:20150308T070000
END:DAYLIGHT
BEGIN:STANDARD
TZOFFSETFROM:-0400
TZOFFSETTO:-0500
TZNAME:EST
DTSTART:20151101T060000
END:STANDARD
BEGIN:DAYLIGHT
TZOFFSETFROM:-0500
TZOFFSETTO:-0400
TZNAME:EDT
DTSTART:20160313T070000
END:DAYLIGHT
BEGIN:STANDARD
TZOFFSETFROM:-0400
TZOFFSETTO:-0500
TZNAME:EST
DTSTART:20161106T060000
END:STANDARD
END:VTIMEZONE
BEGIN:VEVENT
DTSTART;TZID=America/New_York:20151005T120000
DTEND;TZID=America/New_York:20151005T130000
DTSTAMP:20260421T135202
CREATED:20150918T170321Z
LAST-MODIFIED:20150918T170321Z
UID:10000084-1444046400-1444050000@elh.umaine.edu
SUMMARY:"Movements and Management of Diadromous Fish Species in the Northwestern Atlantic"
DESCRIPTION:Presented by:  Adrian Jordaan\, University of Massachusetts\, Amherst \nDepartment of Wildlife\, Fisheries\, and Conservation Biology Fall 2015 Seminar Series
URL:https://elh.umaine.edu/event/movements-and-management-of-diadromous-fish-species-in-the-northwestern-atlantic/
LOCATION:ME
CATEGORIES:Lectures & Seminars
END:VEVENT
BEGIN:VEVENT
DTSTART;TZID=America/New_York:20151005T120000
DTEND;TZID=America/New_York:20151005T130000
DTSTAMP:20260421T135202
CREATED:20150925T174357Z
LAST-MODIFIED:20150925T174357Z
UID:10000121-1444046400-1444050000@elh.umaine.edu
SUMMARY:"Intercultural Competence: A Discourse on Awareness\, Knowledge\, and Skills"
DESCRIPTION:Presented by:  Dr. Caroline Brackette \nHosted by:  School of Forest Resources and the U.S. Forest Service
URL:https://elh.umaine.edu/event/intercultural-competence-a-discourse-on-awareness-knowledge-and-skills/
LOCATION:107 Mitchell Center\, ME\, United States
CATEGORIES:Lectures & Seminars
GEO:45.253783;-69.4454689
END:VEVENT
BEGIN:VEVENT
DTSTART;TZID=America/New_York:20151005T150000
DTEND;TZID=America/New_York:20151005T160000
DTSTAMP:20260421T135202
CREATED:20150915T223918Z
LAST-MODIFIED:20150915T230101Z
UID:10000093-1444057200-1444060800@elh.umaine.edu
SUMMARY:"Restoring the Rio Grande and Colorado Rivers: the Visionary and the Practical"
DESCRIPTION:Presented by:  Jack Schmidt\, Professor of Stream Geomorphology\, Utah State University \nHosted by: Senator George J. Mitchell Center for Sustainability Solutions
URL:https://elh.umaine.edu/event/restoring-the-rio-grande-and-colorado-rivers-the-visionary-and-the-practical/
LOCATION:ME
CATEGORIES:Lectures & Seminars
END:VEVENT
BEGIN:VEVENT
DTSTART;TZID=America/New_York:20151005T153000
DTEND;TZID=America/New_York:20151005T170000
DTSTAMP:20260421T135202
CREATED:20150831T205245Z
LAST-MODIFIED:20150831T205649Z
UID:10000054-1444059000-1444064400@elh.umaine.edu
SUMMARY:14th Annual Geddes Simpson Lecture
DESCRIPTION:Open Season on Chickadees: A Field Guide to the Anthropocene \nBy Mark W. Anderson
URL:https://elh.umaine.edu/event/14th-annual-geddes-simpson-lecture/
LOCATION:McIntire Room\, Buchanan Alumni House\, University of Maine\, Orono\, ME\, 04469\, United States
CATEGORIES:Lectures & Seminars
GEO:44.897732;-68.6687076
X-APPLE-STRUCTURED-LOCATION;VALUE=URI;X-ADDRESS=McIntire Room Buchanan Alumni House University of Maine Orono ME 04469 United States;X-APPLE-RADIUS=500;X-TITLE=University of Maine:geo:-68.6687076,44.897732
END:VEVENT
END:VCALENDAR