BEGIN:VCALENDAR
VERSION:2.0
PRODID:-//College of Earth, Life, and Health Sciences - ECPv6.15.17.1//NONSGML v1.0//EN
CALSCALE:GREGORIAN
METHOD:PUBLISH
X-ORIGINAL-URL:https://elh.umaine.edu
X-WR-CALDESC:Events for College of Earth, Life, and Health Sciences
REFRESH-INTERVAL;VALUE=DURATION:PT1H
X-Robots-Tag:noindex
X-PUBLISHED-TTL:PT1H
BEGIN:VTIMEZONE
TZID:America/New_York
BEGIN:DAYLIGHT
TZOFFSETFROM:-0500
TZOFFSETTO:-0400
TZNAME:EDT
DTSTART:20150308T070000
END:DAYLIGHT
BEGIN:STANDARD
TZOFFSETFROM:-0400
TZOFFSETTO:-0500
TZNAME:EST
DTSTART:20151101T060000
END:STANDARD
BEGIN:DAYLIGHT
TZOFFSETFROM:-0500
TZOFFSETTO:-0400
TZNAME:EDT
DTSTART:20160313T070000
END:DAYLIGHT
BEGIN:STANDARD
TZOFFSETFROM:-0400
TZOFFSETTO:-0500
TZNAME:EST
DTSTART:20161106T060000
END:STANDARD
BEGIN:DAYLIGHT
TZOFFSETFROM:-0500
TZOFFSETTO:-0400
TZNAME:EDT
DTSTART:20170312T070000
END:DAYLIGHT
BEGIN:STANDARD
TZOFFSETFROM:-0400
TZOFFSETTO:-0500
TZNAME:EST
DTSTART:20171105T060000
END:STANDARD
END:VTIMEZONE
BEGIN:VEVENT
DTSTART;TZID=America/New_York:20160505T120000
DTEND;TZID=America/New_York:20160505T130000
DTSTAMP:20260422T203654
CREATED:20160426T125056Z
LAST-MODIFIED:20160426T125056Z
UID:10000110-1462449600-1462453200@elh.umaine.edu
SUMMARY:"Improving Fire Behavior Modeling Through Remote Sensing"
DESCRIPTION:Presented by: Dr. Scott Goodrick\, Research Meteorologist\, USDA Forest Service – Southern Research Station \nHosted by: The Barbara Wheatland Seminar Series \nPlum Creek Room
URL:https://elh.umaine.edu/event/improving-fire-behavior-modeling-remote-sensing/
LOCATION:204 Nutting Hall\, Orono\, ME\, United States
CATEGORIES:Lectures & Seminars
GEO:44.8831125;-68.6719411
END:VEVENT
END:VCALENDAR