BEGIN:VCALENDAR
VERSION:2.0
PRODID:-//College of Earth, Life, and Health Sciences - ECPv6.15.17.1//NONSGML v1.0//EN
CALSCALE:GREGORIAN
METHOD:PUBLISH
X-WR-CALNAME:College of Earth, Life, and Health Sciences
X-ORIGINAL-URL:https://elh.umaine.edu
X-WR-CALDESC:Events for College of Earth, Life, and Health Sciences
REFRESH-INTERVAL;VALUE=DURATION:PT1H
X-Robots-Tag:noindex
X-PUBLISHED-TTL:PT1H
BEGIN:VTIMEZONE
TZID:America/New_York
BEGIN:DAYLIGHT
TZOFFSETFROM:-0500
TZOFFSETTO:-0400
TZNAME:EDT
DTSTART:20150308T070000
END:DAYLIGHT
BEGIN:STANDARD
TZOFFSETFROM:-0400
TZOFFSETTO:-0500
TZNAME:EST
DTSTART:20151101T060000
END:STANDARD
BEGIN:DAYLIGHT
TZOFFSETFROM:-0500
TZOFFSETTO:-0400
TZNAME:EDT
DTSTART:20160313T070000
END:DAYLIGHT
BEGIN:STANDARD
TZOFFSETFROM:-0400
TZOFFSETTO:-0500
TZNAME:EST
DTSTART:20161106T060000
END:STANDARD
BEGIN:DAYLIGHT
TZOFFSETFROM:-0500
TZOFFSETTO:-0400
TZNAME:EDT
DTSTART:20170312T070000
END:DAYLIGHT
BEGIN:STANDARD
TZOFFSETFROM:-0400
TZOFFSETTO:-0500
TZNAME:EST
DTSTART:20171105T060000
END:STANDARD
END:VTIMEZONE
BEGIN:VEVENT
DTSTART;TZID=America/New_York:20161017T120000
DTEND;TZID=America/New_York:20161017T130000
DTSTAMP:20260419T222031
CREATED:20161017T132129Z
LAST-MODIFIED:20161017T132129Z
UID:10002665-1476705600-1476709200@elh.umaine.edu
SUMMARY:Innovative ways of looking at predation on salmonids
DESCRIPTION:Department of Wildlife\, Fisheries\, and Conservation Biology presents \nSean Hayes \nNOAA \nInnovative ways of looking at predation on salmonids \n10/17/2016 at 12:00 PM \nRoom 204 Nutting Hall \n  \nPlease contact Alejandro Molina Moctezuma (alejandro.molina@maine.edu) to make arrangements to meet with the speaker. \nIf you are a person with a disability and need an accommodation to participate in this program\, please call Kris Hoffmann at 978.660.7991 to discuss your needs. Receiving requests for accommodations at least two days before the program provides a reasonable amount of time to meet the request\, however all requests will be considered.
URL:https://elh.umaine.edu/event/innovative-ways-looking-predation-salmonids/
LOCATION:204 Nutting Hall\, Orono\, ME\, United States
CATEGORIES:Lectures & Seminars
GEO:44.8831125;-68.6719411
END:VEVENT
BEGIN:VEVENT
DTSTART;TZID=America/New_York:20161017T133000
DTEND;TZID=America/New_York:20161017T143000
DTSTAMP:20260419T222031
CREATED:20161007T191656Z
LAST-MODIFIED:20161007T191656Z
UID:10002604-1476711000-1476714600@elh.umaine.edu
SUMMARY:Staples Lecture: The biology of the p450 branch of the aracidonate cascade. A finger in many pies.
DESCRIPTION:Staples Lecture by biochemist/toxicologist Bruce Hammock. \nStaples Lecturer in Biochemistry at the University of Maine. A generous gift from the late Basil and Jeanette Staples allows us to invite distinguished scientists to our campus as visiting Lecturers in Biochemistry.   Past recipients of this lectureship include  Tom Maniatis (1988)\, Harvey Lodish (1989)\, Stuart Kornfeld (1990)\,  Lee Hood (1990)\,  Nick Cozzarrelli (1992)\, Phil Cohen (1996)\, Maxine Singer and Paul Berg (1997)\, Susan S. Taylor (2005)\, Joan Brugge (2006)\, Melanie Cobb (2011)\, Lew Cantley (2012) and Nobel Laureates Tom Cech (1993) and Rod MacKinnon (2011).
URL:https://elh.umaine.edu/event/staples-lecture-biology-p450-branch-aracidonate-cascade-finger-many-pies/
LOCATION:203 Hitchner Hall\, Orono\, ME\, 04469\, United States
CATEGORIES:Lectures & Seminars
GEO:44.9024546;-68.6638413
END:VEVENT
BEGIN:VEVENT
DTSTART;TZID=America/New_York:20161017T193000
DTEND;TZID=America/New_York:20161017T203000
DTSTAMP:20260419T222031
CREATED:20161007T191821Z
LAST-MODIFIED:20161007T191828Z
UID:10002606-1476732600-1476736200@elh.umaine.edu
SUMMARY:Staples Lecture: Can universities do tech transfer?  A discussion.
DESCRIPTION:Led by biochemist/toxicologist Bruce Hammock. \nStaples Lecturer in Biochemistry at the University of Maine. A generous gift from the late Basil and Jeanette Staples allows us to invite distinguished scientists to our campus as visiting Lecturers in Biochemistry.   Past recipients of this lectureship include  Tom Maniatis (1988)\, Harvey Lodish (1989)\, Stuart Kornfeld (1990)\,  Lee Hood (1990)\,  Nick Cozzarrelli (1992)\, Phil Cohen (1996)\, Maxine Singer and Paul Berg (1997)\, Susan S. Taylor (2005)\, Joan Brugge (2006)\, Melanie Cobb (2011)\, Lew Cantley (2012) and Nobel Laureates Tom Cech (1993) and Rod MacKinnon (2011).
URL:https://elh.umaine.edu/event/staples-lecture-can-universities-tech-transfer-discussion/
LOCATION:McIntire Room\, Buchanan Alumni House\, University of Maine\, Orono\, ME\, 04469\, United States
CATEGORIES:Lectures & Seminars
GEO:44.897732;-68.6687076
X-APPLE-STRUCTURED-LOCATION;VALUE=URI;X-ADDRESS=McIntire Room Buchanan Alumni House University of Maine Orono ME 04469 United States;X-APPLE-RADIUS=500;X-TITLE=University of Maine:geo:-68.6687076,44.897732
END:VEVENT
END:VCALENDAR