BEGIN:VCALENDAR
VERSION:2.0
PRODID:-//College of Earth, Life, and Health Sciences - ECPv6.15.17.1//NONSGML v1.0//EN
CALSCALE:GREGORIAN
METHOD:PUBLISH
X-WR-CALNAME:College of Earth, Life, and Health Sciences
X-ORIGINAL-URL:https://elh.umaine.edu
X-WR-CALDESC:Events for College of Earth, Life, and Health Sciences
REFRESH-INTERVAL;VALUE=DURATION:PT1H
X-Robots-Tag:noindex
X-PUBLISHED-TTL:PT1H
BEGIN:VTIMEZONE
TZID:America/New_York
BEGIN:DAYLIGHT
TZOFFSETFROM:-0500
TZOFFSETTO:-0400
TZNAME:EDT
DTSTART:20150308T070000
END:DAYLIGHT
BEGIN:STANDARD
TZOFFSETFROM:-0400
TZOFFSETTO:-0500
TZNAME:EST
DTSTART:20151101T060000
END:STANDARD
BEGIN:DAYLIGHT
TZOFFSETFROM:-0500
TZOFFSETTO:-0400
TZNAME:EDT
DTSTART:20160313T070000
END:DAYLIGHT
BEGIN:STANDARD
TZOFFSETFROM:-0400
TZOFFSETTO:-0500
TZNAME:EST
DTSTART:20161106T060000
END:STANDARD
BEGIN:DAYLIGHT
TZOFFSETFROM:-0500
TZOFFSETTO:-0400
TZNAME:EDT
DTSTART:20170312T070000
END:DAYLIGHT
BEGIN:STANDARD
TZOFFSETFROM:-0400
TZOFFSETTO:-0500
TZNAME:EST
DTSTART:20171105T060000
END:STANDARD
END:VTIMEZONE
BEGIN:VEVENT
DTSTART;TZID=America/New_York:20161019T120000
DTEND;TZID=America/New_York:20161019T130000
DTSTAMP:20260420T171833
CREATED:20161017T131933Z
LAST-MODIFIED:20161017T134307Z
UID:10002663-1476878400-1476882000@elh.umaine.edu
SUMMARY:What to do about fossil fuel CO2
DESCRIPTION:The School of Earth and Climate Sciences and Climate Change Institute present:\n\nWhat to do about fossil fuel CO2\na guest lecture by:Dr. Wallace S. Broecker\n\nNewberry Professor of Earth and Environmental Sciences\n \n\nDepartment of Earth and Environmental Sciences\n\nand\n\nLamont-Doherty Earth Observatory\n\n\nColumbia University \n  \n\nWednesday\, October 19\, 2016\n12 PM\nBryand Global Sciences Center Rm. 100\n\n\nPlease do not hesitate to contact Linda Cappuccio or Aaron Putnam for more information.\nLinda Cappuccio – ph.: 581-2152; email: linda.cappuccio@maine.edu\n\nThe University of Maine does not discriminate on the grounds of race\, color\, religion\, sex\, sexual orientation\, \nincluding transgender status and gender expression\, national origin\, citizenship status\, age\, disability\, genetic \ninformation or veteran’s status in employment\, education\, and all other programs and activities. The following \nperson has been designated to handle inquiries regarding nondiscrimination policies: Director\, Office of Equal \nOpportunity\, 101 North Stevens Hall\, 207.581.1226. If you are a person with a disability and need an \naccommodation to participate in this program please call Linda Cappuccio at the School of Earth and Climate \nSciences as early as possible\, at (207) 581-2152 to discuss your needs.
URL:https://elh.umaine.edu/event/fossil-fuel-co2/
LOCATION:ME
CATEGORIES:Lectures & Seminars
END:VEVENT
BEGIN:VEVENT
DTSTART;TZID=America/New_York:20161019T183000
DTEND;TZID=America/New_York:20161019T203000
DTSTAMP:20260420T171833
CREATED:20161017T132740Z
LAST-MODIFIED:20161017T132740Z
UID:10002669-1476901800-1476909000@elh.umaine.edu
SUMMARY:Autumn Dessert Social for Darling Marine Center Friends and Neighbors
DESCRIPTION:Friends and neighbors of the Darling Marine Center are invited to an Autumn Dessert Social on Wednesday\, October 19\, to learn about the developing plans for the future of University of Maine’s marine laboratory. \nThe social will take place in Brooke Hall on the DMC’s lower waterfront campus from 6:30 to 8:00 p.m. The event is free and open to the public\, but seating is limited. RSVP by October 17 online at dmc.umaine.edu or by calling 207.563.3146. \n“We have been hard at work since last spring\, developing a strategic plan for the Darling Marine Center’s next decade\,” said DMC Director Heather Leslie. “This draft plan will be publicly available soon. This event is an informal opportunity for our neighbors and local supporters to come together with good food and good company\, and preview where we are headed\, in terms of research\, education\, and community and industry engagement.” \nLeslie\, who began as DMC director in August 2015\, has been working closely with the Steering Committee composed of UMaine faculty\, staff\, and students in Walpole and Orono on the draft plan. She emphasized that this and other listening sessions are an essential part of the plan development. \n“We are eager to hear from our neighbors about how the Darling Center can have an even greater impact on the coastal communities and marine economy of Maine\,” Leslie explained. “With our business incubation spaces and close partnerships with oyster growers and fishermen\, the DMC has a long and deep track record of responsive\, industry relevant research. We want to be sure that we build on that tradition and understand what Maine’s marine industries and local communities need in order to continue to thriving in this changing environment.” \nHigh school students are particularly encouraged to attend. UMaine undergraduate marine science students\, along with DMC-based faculty and staff\, will be on hand to talk about their work at the marine lab. This fall\, 25 students are in residence at the DMC\, as part of Semester by the Sea\, UMaine’s experiential program in marine sciences. Students enrolled in UMaine’s School of Marine Sciences live at the DMC for the semester\, taking ecology\, oceanography\, and biology classes and working directly with DMC researchers on projects related to Maine’s marine ecosystems and aquaculture and lobster industries\, among other topics. \nLocated at 193 Clarks Cove Road in Walpole\, the University of Maine’s Darling Marine Center is an active center of marine research\, education\, and community engagement. We study coastal and marine ecosystems\, as well as the human communities that are a part of them\, in Maine and around the world. For directions or more information about the DMC please visit our website dmc.umaine.edu.
URL:https://elh.umaine.edu/event/autumn-dessert-social-darling-marine-center-friends-neighbors/
LOCATION:Darling Marine Center\, 193 Clarks Cove Road\, walpole\, ME\, 04573\, United States
CATEGORIES:Outreach Events
GEO:43.9445648;-69.5675849
X-APPLE-STRUCTURED-LOCATION;VALUE=URI;X-ADDRESS=Darling Marine Center 193 Clarks Cove Road walpole ME 04573 United States;X-APPLE-RADIUS=500;X-TITLE=193 Clarks Cove Road:geo:-69.5675849,43.9445648
END:VEVENT
END:VCALENDAR