BEGIN:VCALENDAR
VERSION:2.0
PRODID:-//College of Earth, Life, and Health Sciences - ECPv6.15.17.1//NONSGML v1.0//EN
CALSCALE:GREGORIAN
METHOD:PUBLISH
X-WR-CALNAME:College of Earth, Life, and Health Sciences
X-ORIGINAL-URL:https://elh.umaine.edu
X-WR-CALDESC:Events for College of Earth, Life, and Health Sciences
REFRESH-INTERVAL;VALUE=DURATION:PT1H
X-Robots-Tag:noindex
X-PUBLISHED-TTL:PT1H
BEGIN:VTIMEZONE
TZID:America/New_York
BEGIN:DAYLIGHT
TZOFFSETFROM:-0500
TZOFFSETTO:-0400
TZNAME:EDT
DTSTART:20150308T070000
END:DAYLIGHT
BEGIN:STANDARD
TZOFFSETFROM:-0400
TZOFFSETTO:-0500
TZNAME:EST
DTSTART:20151101T060000
END:STANDARD
BEGIN:DAYLIGHT
TZOFFSETFROM:-0500
TZOFFSETTO:-0400
TZNAME:EDT
DTSTART:20160313T070000
END:DAYLIGHT
BEGIN:STANDARD
TZOFFSETFROM:-0400
TZOFFSETTO:-0500
TZNAME:EST
DTSTART:20161106T060000
END:STANDARD
BEGIN:DAYLIGHT
TZOFFSETFROM:-0500
TZOFFSETTO:-0400
TZNAME:EDT
DTSTART:20170312T070000
END:DAYLIGHT
BEGIN:STANDARD
TZOFFSETFROM:-0400
TZOFFSETTO:-0500
TZNAME:EST
DTSTART:20171105T060000
END:STANDARD
END:VTIMEZONE
BEGIN:VEVENT
DTSTART;TZID=America/New_York:20161020T140000
DTEND;TZID=America/New_York:20161020T150000
DTSTAMP:20260420T024923
CREATED:20161017T134141Z
LAST-MODIFIED:20161017T134141Z
UID:10002672-1476972000-1476975600@elh.umaine.edu
SUMMARY:Deep sea corals and policy of the Northeast Canyons and Seamounts National Monument
DESCRIPTION:Deep sea corals and policy of the Northeast Canyons and Seamounts National Monument \nDrs. Rhian Waller and Aaron Strong \nUniversity of Maine \n  \nOn September 15th\, 2016\, President Obama designated the 4\,913 square-mile Northeast Canyons and Seamounts National Marine Monument off the coast of New England. Among the main drivers for its creation was the preservation of marine diversity\, most notably that of deep sea corals. Deep sea corals are integral in providing the foundation for vibrant deep-sea ecosystems\, but due to their relative inaccessibility compared to their shallow water counterparts\, they represent more of an enigma in the public eye. Amidst the designation (roughly the size of Connecticut)\, industry members particularly in fisheries have raised objections to the executive authority exercised in creating the monument. At a time when conservationists seem to be rejoicing\, fishing industry members face dimmer future prospects in a region and occupation already rife with uncertainty. In this special seminar\, Dr. Waller will give an overview of deep sea coral biology and ecology. Dr. Strong will follow with a broad discussion of the legal and policy ramifications associated with the designation. The presentations will be followed by an open discussion period. \n  \nThe University of Maine does not discriminate on the grounds of race\, color\, religion\, sex\, sexual orientation\, including transgender status and gender expression\, national origin\, citizenship status\, age\, disability\, genetic information or veteran’s status in employment\, education\, and all other programs and activities. The following person has been designated to handle inquiries regarding non-discrimination policies: Director\, Office of Equal Opportunity\, 101 North Stevens Hall\, 581-1226. If you are a person with a disability and need an accommodation to participate in this program\, please call Dr. Susan Brawley \, as early as possible\, at 207.581.2973 or Dr. Lee Karp-Boss at 207-581.4305 to discuss your needs. \nFor those interested\, a short introduction to Cnidarians and a chance to view deep sea corals under a microscope with Dr. Waller will precede the seminar in Aubert 488 at 1:00 pm. All are welcome!\nHost: Robert Boenish (robert.boenish@maine.edu)
URL:https://elh.umaine.edu/event/deep-sea-corals-policy-northeast-canyons-seamounts-national-monument/
LOCATION:Little Hall\, Room 211\, 38\, 64 E Mall Rd\, Orono\, ME\, 04473\, United States
CATEGORIES:Lectures & Seminars
GEO:44.9017481;-68.6692821
X-APPLE-STRUCTURED-LOCATION;VALUE=URI;X-ADDRESS=Little Hall Room 211 38 64 E Mall Rd Orono ME 04473 United States;X-APPLE-RADIUS=500;X-TITLE=38\, 64 E Mall Rd:geo:-68.6692821,44.9017481
END:VEVENT
END:VCALENDAR