BEGIN:VCALENDAR
VERSION:2.0
PRODID:-//College of Earth, Life, and Health Sciences - ECPv6.15.17.1//NONSGML v1.0//EN
CALSCALE:GREGORIAN
METHOD:PUBLISH
X-WR-CALNAME:College of Earth, Life, and Health Sciences
X-ORIGINAL-URL:https://elh.umaine.edu
X-WR-CALDESC:Events for College of Earth, Life, and Health Sciences
REFRESH-INTERVAL;VALUE=DURATION:PT1H
X-Robots-Tag:noindex
X-PUBLISHED-TTL:PT1H
BEGIN:VTIMEZONE
TZID:America/New_York
BEGIN:DAYLIGHT
TZOFFSETFROM:-0500
TZOFFSETTO:-0400
TZNAME:EDT
DTSTART:20150308T070000
END:DAYLIGHT
BEGIN:STANDARD
TZOFFSETFROM:-0400
TZOFFSETTO:-0500
TZNAME:EST
DTSTART:20151101T060000
END:STANDARD
BEGIN:DAYLIGHT
TZOFFSETFROM:-0500
TZOFFSETTO:-0400
TZNAME:EDT
DTSTART:20160313T070000
END:DAYLIGHT
BEGIN:STANDARD
TZOFFSETFROM:-0400
TZOFFSETTO:-0500
TZNAME:EST
DTSTART:20161106T060000
END:STANDARD
BEGIN:DAYLIGHT
TZOFFSETFROM:-0500
TZOFFSETTO:-0400
TZNAME:EDT
DTSTART:20170312T070000
END:DAYLIGHT
BEGIN:STANDARD
TZOFFSETFROM:-0400
TZOFFSETTO:-0500
TZNAME:EST
DTSTART:20171105T060000
END:STANDARD
END:VTIMEZONE
BEGIN:VEVENT
DTSTART;TZID=America/New_York:20161024T090000
DTEND;TZID=America/New_York:20161024T220000
DTSTAMP:20260420T054924
CREATED:20161017T132449Z
LAST-MODIFIED:20161017T132513Z
UID:10002667-1477299600-1477346400@elh.umaine.edu
SUMMARY:The habitat ecology of pool-breeding amphibians during all annual life history periods in the Mountains of the Dawn
DESCRIPTION:Department of Wildlife\, Fisheries\, and Conservation Biology Seminar\nThe habitat ecology of pool-breeding amphibians during all annual life history periods in the Mountains of the Dawn \nLuke Groff \nMonday\, October 24\nRoom 107\, Norman Smith Hall \nIf you are a person with a disability and need an accommodation to participate in this program\, please call Kris Hoffmann at 978.660.7991 to discuss your needs. Receiving requests for accommodations at least two days before the program provides a reasonable amount of time to meet the request\, however all requests will be considered.
URL:https://elh.umaine.edu/event/5806/
LOCATION:107 Norman Smith Hall\, orono\, ME\, United States
CATEGORIES:Lectures & Seminars
GEO:44.8831125;-68.6719411
END:VEVENT
END:VCALENDAR