BEGIN:VCALENDAR
VERSION:2.0
PRODID:-//College of Earth, Life, and Health Sciences - ECPv6.15.17.1//NONSGML v1.0//EN
CALSCALE:GREGORIAN
METHOD:PUBLISH
X-WR-CALNAME:College of Earth, Life, and Health Sciences
X-ORIGINAL-URL:https://elh.umaine.edu
X-WR-CALDESC:Events for College of Earth, Life, and Health Sciences
REFRESH-INTERVAL;VALUE=DURATION:PT1H
X-Robots-Tag:noindex
X-PUBLISHED-TTL:PT1H
BEGIN:VTIMEZONE
TZID:America/New_York
BEGIN:DAYLIGHT
TZOFFSETFROM:-0500
TZOFFSETTO:-0400
TZNAME:EDT
DTSTART:20150308T070000
END:DAYLIGHT
BEGIN:STANDARD
TZOFFSETFROM:-0400
TZOFFSETTO:-0500
TZNAME:EST
DTSTART:20151101T060000
END:STANDARD
BEGIN:DAYLIGHT
TZOFFSETFROM:-0500
TZOFFSETTO:-0400
TZNAME:EDT
DTSTART:20160313T070000
END:DAYLIGHT
BEGIN:STANDARD
TZOFFSETFROM:-0400
TZOFFSETTO:-0500
TZNAME:EST
DTSTART:20161106T060000
END:STANDARD
BEGIN:DAYLIGHT
TZOFFSETFROM:-0500
TZOFFSETTO:-0400
TZNAME:EDT
DTSTART:20170312T070000
END:DAYLIGHT
BEGIN:STANDARD
TZOFFSETFROM:-0400
TZOFFSETTO:-0500
TZNAME:EST
DTSTART:20171105T060000
END:STANDARD
END:VTIMEZONE
BEGIN:VEVENT
DTSTART;TZID=America/New_York:20161026T120000
DTEND;TZID=America/New_York:20161026T130000
DTSTAMP:20260422T091405
CREATED:20160915T191209Z
LAST-MODIFIED:20160915T191209Z
UID:10002618-1477483200-1477486800@elh.umaine.edu
SUMMARY:The Barbara Wheatland Seminar Series
DESCRIPTION:Presented by:  Scott Ollinger | Professor | University of New Hampshire \n\nHosted by: The Barbara Wheatland Seminar Series \n\nThe Barbara Wheatland Seminar Series seeks to recruit prominent speakers on advanced\, cutting edge research and applications of remote sensing and associated geospatial technology that relate to forestry\, conservation\, climate change\, or other areas of concern. \nThe Series is possible with generous support from the Maine Timberlands Charitable Trust. \nIf you are a person with a disability and need an accommodation to participate in this program\, please call Cindy Paschal\, School of Forest Resources\, as early as possible at 581-2841 or cpaschal@maine.edu to discuss your needs. \nThe University of Maine does not discriminate on the grounds of race\, color\, religion\, sex\, sexual orientation\, including transgender status and gender expression\, national origin\, citizenship status\, age\, disability\, genetic information\, or veteran status in employment\, education\, and all other programs and activities. The following person has been designated to handle inquiries regarding nondiscrimination policies: Director\, Office of Equal Opportunity\, 101 North Stevens Hall\, 581.1226\, eoinfo@umit.maine.edu.
URL:https://elh.umaine.edu/event/barbara-wheatland-seminar-series/
LOCATION:ME
CATEGORIES:Lectures & Seminars
END:VEVENT
END:VCALENDAR