BEGIN:VCALENDAR
VERSION:2.0
PRODID:-//College of Earth, Life, and Health Sciences - ECPv6.15.17.1//NONSGML v1.0//EN
CALSCALE:GREGORIAN
METHOD:PUBLISH
X-WR-CALNAME:College of Earth, Life, and Health Sciences
X-ORIGINAL-URL:https://elh.umaine.edu
X-WR-CALDESC:Events for College of Earth, Life, and Health Sciences
REFRESH-INTERVAL;VALUE=DURATION:PT1H
X-Robots-Tag:noindex
X-PUBLISHED-TTL:PT1H
BEGIN:VTIMEZONE
TZID:America/New_York
BEGIN:DAYLIGHT
TZOFFSETFROM:-0500
TZOFFSETTO:-0400
TZNAME:EDT
DTSTART:20150308T070000
END:DAYLIGHT
BEGIN:STANDARD
TZOFFSETFROM:-0400
TZOFFSETTO:-0500
TZNAME:EST
DTSTART:20151101T060000
END:STANDARD
BEGIN:DAYLIGHT
TZOFFSETFROM:-0500
TZOFFSETTO:-0400
TZNAME:EDT
DTSTART:20160313T070000
END:DAYLIGHT
BEGIN:STANDARD
TZOFFSETFROM:-0400
TZOFFSETTO:-0500
TZNAME:EST
DTSTART:20161106T060000
END:STANDARD
BEGIN:DAYLIGHT
TZOFFSETFROM:-0500
TZOFFSETTO:-0400
TZNAME:EDT
DTSTART:20170312T070000
END:DAYLIGHT
BEGIN:STANDARD
TZOFFSETFROM:-0400
TZOFFSETTO:-0500
TZNAME:EST
DTSTART:20171105T060000
END:STANDARD
END:VTIMEZONE
BEGIN:VEVENT
DTSTART;TZID=America/New_York:20161202T130000
DTEND;TZID=America/New_York:20161202T140000
DTSTAMP:20260419T120320
CREATED:20161122T195140Z
LAST-MODIFIED:20161122T195140Z
UID:10000076-1480683600-1480687200@elh.umaine.edu
SUMMARY:Thesis Defense: Environmental DNA Detection of Invasive Species
DESCRIPTION:Geneva York \nIn partial fulfillment of the degree requirements for the degree of M.S. in Marine Biology \nEnvironmental DNA Detection of Invasive Species \nAdvisory Committee:\nDr. Michael Kinnison\, Chair\nDr. Rebecca Van Beneden\nDr. Joseph Zydlewski
URL:https://elh.umaine.edu/event/thesis-defense-environmental-dna-detection-invasive-species/
LOCATION:107 Norman Smith Hall\, orono\, ME\, United States
CATEGORIES:Thesis Defense
GEO:44.8831125;-68.6719411
END:VEVENT
END:VCALENDAR