BEGIN:VCALENDAR
VERSION:2.0
PRODID:-//College of Earth, Life, and Health Sciences - ECPv6.15.17.1//NONSGML v1.0//EN
CALSCALE:GREGORIAN
METHOD:PUBLISH
X-ORIGINAL-URL:https://elh.umaine.edu
X-WR-CALDESC:Events for College of Earth, Life, and Health Sciences
REFRESH-INTERVAL;VALUE=DURATION:PT1H
X-Robots-Tag:noindex
X-PUBLISHED-TTL:PT1H
BEGIN:VTIMEZONE
TZID:America/New_York
BEGIN:DAYLIGHT
TZOFFSETFROM:-0500
TZOFFSETTO:-0400
TZNAME:EDT
DTSTART:20150308T070000
END:DAYLIGHT
BEGIN:STANDARD
TZOFFSETFROM:-0400
TZOFFSETTO:-0500
TZNAME:EST
DTSTART:20151101T060000
END:STANDARD
BEGIN:DAYLIGHT
TZOFFSETFROM:-0500
TZOFFSETTO:-0400
TZNAME:EDT
DTSTART:20160313T070000
END:DAYLIGHT
BEGIN:STANDARD
TZOFFSETFROM:-0400
TZOFFSETTO:-0500
TZNAME:EST
DTSTART:20161106T060000
END:STANDARD
BEGIN:DAYLIGHT
TZOFFSETFROM:-0500
TZOFFSETTO:-0400
TZNAME:EDT
DTSTART:20170312T070000
END:DAYLIGHT
BEGIN:STANDARD
TZOFFSETFROM:-0400
TZOFFSETTO:-0500
TZNAME:EST
DTSTART:20171105T060000
END:STANDARD
END:VTIMEZONE
BEGIN:VEVENT
DTSTART;TZID=America/New_York:20161208T110000
DTEND;TZID=America/New_York:20161208T121500
DTSTAMP:20260421T142242
CREATED:20161208T154446Z
LAST-MODIFIED:20161208T154446Z
UID:10002657-1481194800-1481199300@elh.umaine.edu
SUMMARY:Critical Issues in Environmental Policy  Final Presentations – Acadia National Park
DESCRIPTION:Come support students from the University of Maine as they present their research projects that will be used in the management of Cromwell Brook Watershed in Acadia National Park as part of the Ecology and Environmental Sciences capstone class. \nTopics will include:\n– Impact of Humans on Cromwell Brook\n– Climate Change & Atmospheric Trends\n– Terrestrial Ecosystems of Cromwell Brook\n– Biota of Cromwell Brook\n– Freshwaters in Cromwell Brook \nWhere:\n12/6/16 – Fireside Room: Estabrooke hall\n12/8/16 – Nutting 204 \nWhen:\nTuesday December 6th\n– 11:00-12:15\nThursday December 8th\n– 11:00-12:15 \nAlso available via Live Stream through Adobe Connect. Please email Julie Eubanks at julie.eubanks@maine.edu to set this up ahead of time.
URL:https://elh.umaine.edu/event/critical-issues-environmental-policy-final-presentations-acadia-national-park/
LOCATION:ME
CATEGORIES:Lectures & Seminars
END:VEVENT
END:VCALENDAR