BEGIN:VCALENDAR
VERSION:2.0
PRODID:-//College of Earth, Life, and Health Sciences - ECPv6.15.17.1//NONSGML v1.0//EN
CALSCALE:GREGORIAN
METHOD:PUBLISH
X-WR-CALNAME:College of Earth, Life, and Health Sciences
X-ORIGINAL-URL:https://elh.umaine.edu
X-WR-CALDESC:Events for College of Earth, Life, and Health Sciences
REFRESH-INTERVAL;VALUE=DURATION:PT1H
X-Robots-Tag:noindex
X-PUBLISHED-TTL:PT1H
BEGIN:VTIMEZONE
TZID:America/New_York
BEGIN:DAYLIGHT
TZOFFSETFROM:-0500
TZOFFSETTO:-0400
TZNAME:EDT
DTSTART:20160313T070000
END:DAYLIGHT
BEGIN:STANDARD
TZOFFSETFROM:-0400
TZOFFSETTO:-0500
TZNAME:EST
DTSTART:20161106T060000
END:STANDARD
BEGIN:DAYLIGHT
TZOFFSETFROM:-0500
TZOFFSETTO:-0400
TZNAME:EDT
DTSTART:20170312T070000
END:DAYLIGHT
BEGIN:STANDARD
TZOFFSETFROM:-0400
TZOFFSETTO:-0500
TZNAME:EST
DTSTART:20171105T060000
END:STANDARD
BEGIN:DAYLIGHT
TZOFFSETFROM:-0500
TZOFFSETTO:-0400
TZNAME:EDT
DTSTART:20180311T070000
END:DAYLIGHT
BEGIN:STANDARD
TZOFFSETFROM:-0400
TZOFFSETTO:-0500
TZNAME:EST
DTSTART:20181104T060000
END:STANDARD
END:VTIMEZONE
BEGIN:VEVENT
DTSTART;VALUE=DATE:20170215
DTEND;VALUE=DATE:20170216
DTSTAMP:20260422T001854
CREATED:20170208T211220Z
LAST-MODIFIED:20170208T211220Z
UID:10000133-1487116800-1487203199@elh.umaine.edu
SUMMARY:Go Blue Friday
DESCRIPTION:The following days have been designated as UMaine’s Go Blue Fridays\, a chance to show your UMaine spirit and campus pride by wearing blue and/or UMaine clothing: Feb. 10 and 24; March 24; April 7 and 14; and May 12.
URL:https://elh.umaine.edu/event/go-blue-friday/2017-02-15/
LOCATION:ME
END:VEVENT
BEGIN:VEVENT
DTSTART;TZID=America/New_York:20170215T120000
DTEND;TZID=America/New_York:20170215T130000
DTSTAMP:20260422T001855
CREATED:20170208T151622Z
LAST-MODIFIED:20170208T151622Z
UID:10002680-1487160000-1487163600@elh.umaine.edu
SUMMARY:Mapping understories: lessons from Arctic and boreal Alaska - Barbara Wheatland Seminar Series
DESCRIPTION:Peter Nelson\nAssistant Professor of Biological Sciences and Environmental Studies\nUniversity of Maine – Fort Kent \nThe Barbara Wheatland Seminar Series seeks to recruit prominent speakers on advanced\, cutting-edge research and applications of remote sensing and associated geospatial technology that relate to forestry\, conservation\, climate change\, or other areas of concern. \nMade possible with generous support from the Maine Timberlands Charitable Trust
URL:https://elh.umaine.edu/event/mapping-understories-lessons-arctic-boreal-alaska-barbara-wheatland-seminar-series/
LOCATION:204 Nutting Hall\, Orono\, ME\, United States
CATEGORIES:Lectures & Seminars
GEO:44.8831125;-68.6719411
END:VEVENT
END:VCALENDAR