BEGIN:VCALENDAR
VERSION:2.0
PRODID:-//College of Earth, Life, and Health Sciences - ECPv6.15.17.1//NONSGML v1.0//EN
CALSCALE:GREGORIAN
METHOD:PUBLISH
X-ORIGINAL-URL:https://elh.umaine.edu
X-WR-CALDESC:Events for College of Earth, Life, and Health Sciences
REFRESH-INTERVAL;VALUE=DURATION:PT1H
X-Robots-Tag:noindex
X-PUBLISHED-TTL:PT1H
BEGIN:VTIMEZONE
TZID:America/New_York
BEGIN:DAYLIGHT
TZOFFSETFROM:-0500
TZOFFSETTO:-0400
TZNAME:EDT
DTSTART:20160313T070000
END:DAYLIGHT
BEGIN:STANDARD
TZOFFSETFROM:-0400
TZOFFSETTO:-0500
TZNAME:EST
DTSTART:20161106T060000
END:STANDARD
BEGIN:DAYLIGHT
TZOFFSETFROM:-0500
TZOFFSETTO:-0400
TZNAME:EDT
DTSTART:20170312T070000
END:DAYLIGHT
BEGIN:STANDARD
TZOFFSETFROM:-0400
TZOFFSETTO:-0500
TZNAME:EST
DTSTART:20171105T060000
END:STANDARD
BEGIN:DAYLIGHT
TZOFFSETFROM:-0500
TZOFFSETTO:-0400
TZNAME:EDT
DTSTART:20180311T070000
END:DAYLIGHT
BEGIN:STANDARD
TZOFFSETFROM:-0400
TZOFFSETTO:-0500
TZNAME:EST
DTSTART:20181104T060000
END:STANDARD
END:VTIMEZONE
BEGIN:VEVENT
DTSTART;VALUE=DATE:20170302
DTEND;VALUE=DATE:20170303
DTSTAMP:20260421T123049
CREATED:20170208T211220Z
LAST-MODIFIED:20170208T211220Z
UID:10000148-1488412800-1488499199@elh.umaine.edu
SUMMARY:Go Blue Friday
DESCRIPTION:The following days have been designated as UMaine’s Go Blue Fridays\, a chance to show your UMaine spirit and campus pride by wearing blue and/or UMaine clothing: Feb. 10 and 24; March 24; April 7 and 14; and May 12.
URL:https://elh.umaine.edu/event/go-blue-friday/2017-03-02/
LOCATION:ME
END:VEVENT
BEGIN:VEVENT
DTSTART;TZID=America/New_York:20170302T140000
DTEND;TZID=America/New_York:20170302T150000
DTSTAMP:20260421T123049
CREATED:20170223T205039Z
LAST-MODIFIED:20170223T205039Z
UID:10002707-1488463200-1488466800@elh.umaine.edu
SUMMARY:Small mammals and climate from an evolutionary and ecophysiological perspective
DESCRIPTION: Climate Change Institute Lecture Series \nDr. Danielle Levesque\nAssistant Professor of Mammalogy and Mammalian Health \nSchool of Biology & Ecology\, University of Maine \n  \nI am an evolutionary and ecological physiologist primarily interested in the comparative energetics and the evolution of mammalian temperature regulation. My research lies at the intersections of comparative physiology\, ecology and evolutionary biology\, and the synergies between these disciplines. Through field and laboratory based experiments\, I seek to understand how rigidity or flexibility in metabolism and body temperature regulation affects the energetics of a species\, and how their evolutionary history has shaped these patterns. The data obtained through studying thermoregulation and energetics can have multiple applications. By understanding the dynamics of the relationship between an animal and its thermal environment\, we can better predict energy budgets and responses to changes in climate and resource availability. As such\, physiological data are vital for the development of realistic\, predictive\, models assessing the vulnerability of species to climate change; a large part of the newly emerging field of conservation physiology. Using small mammals as model organisms\, my research at the University of Maine seeks to address gaps in our fundamental understanding of mammalian energetics using a combination of laboratory and field-based projects aimed at elucidating the effects of activity\, humidity and high ambient temperature on the performance (and ultimately the distribution) of mammals.
URL:https://elh.umaine.edu/event/small-mammals-climate-evolutionary-ecophysiological-perspective/
LOCATION:138 Sawyer Conference Room\, Sawyer Environmental Research Center\, Orono\, ME\, 04469\, United States
CATEGORIES:Lectures & Seminars,School of Biology and Ecology
END:VEVENT
END:VCALENDAR