BEGIN:VCALENDAR
VERSION:2.0
PRODID:-//College of Earth, Life, and Health Sciences - ECPv6.15.17.1//NONSGML v1.0//EN
CALSCALE:GREGORIAN
METHOD:PUBLISH
X-ORIGINAL-URL:https://elh.umaine.edu
X-WR-CALDESC:Events for College of Earth, Life, and Health Sciences
REFRESH-INTERVAL;VALUE=DURATION:PT1H
X-Robots-Tag:noindex
X-PUBLISHED-TTL:PT1H
BEGIN:VTIMEZONE
TZID:America/New_York
BEGIN:DAYLIGHT
TZOFFSETFROM:-0500
TZOFFSETTO:-0400
TZNAME:EDT
DTSTART:20160313T070000
END:DAYLIGHT
BEGIN:STANDARD
TZOFFSETFROM:-0400
TZOFFSETTO:-0500
TZNAME:EST
DTSTART:20161106T060000
END:STANDARD
BEGIN:DAYLIGHT
TZOFFSETFROM:-0500
TZOFFSETTO:-0400
TZNAME:EDT
DTSTART:20170312T070000
END:DAYLIGHT
BEGIN:STANDARD
TZOFFSETFROM:-0400
TZOFFSETTO:-0500
TZNAME:EST
DTSTART:20171105T060000
END:STANDARD
BEGIN:DAYLIGHT
TZOFFSETFROM:-0500
TZOFFSETTO:-0400
TZNAME:EDT
DTSTART:20180311T070000
END:DAYLIGHT
BEGIN:STANDARD
TZOFFSETFROM:-0400
TZOFFSETTO:-0500
TZNAME:EST
DTSTART:20181104T060000
END:STANDARD
END:VTIMEZONE
BEGIN:VEVENT
DTSTART;VALUE=DATE:20170414
DTEND;VALUE=DATE:20170415
DTSTAMP:20260421T121512
CREATED:20170208T211220Z
LAST-MODIFIED:20170208T211220Z
UID:10000191-1492128000-1492214399@elh.umaine.edu
SUMMARY:Go Blue Friday
DESCRIPTION:The following days have been designated as UMaine’s Go Blue Fridays\, a chance to show your UMaine spirit and campus pride by wearing blue and/or UMaine clothing: Feb. 10 and 24; March 24; April 7 and 14; and May 12.
URL:https://elh.umaine.edu/event/go-blue-friday/2017-04-14/
LOCATION:ME
END:VEVENT
BEGIN:VEVENT
DTSTART;VALUE=DATE:20170414
DTEND;VALUE=DATE:20170415
DTSTAMP:20260421T121512
CREATED:20170208T211413Z
LAST-MODIFIED:20170208T211413Z
UID:10002603-1492128000-1492214399@elh.umaine.edu
SUMMARY:Go Blue Friday
DESCRIPTION:The following days have been designated as UMaine’s Go Blue Fridays\, a chance to show your UMaine spirit and campus pride by wearing blue and/or UMaine clothing: Feb. 10 and 24; March 24; April 7 and 14; and May 12.
URL:https://elh.umaine.edu/event/go-blue-friday-5/
LOCATION:ME
END:VEVENT
BEGIN:VEVENT
DTSTART;TZID=America/New_York:20170414T120000
DTEND;TZID=America/New_York:20170414T125000
DTSTAMP:20260421T121512
CREATED:20170208T201512Z
LAST-MODIFIED:20170208T201528Z
UID:10002683-1492171200-1492174200@elh.umaine.edu
SUMMARY:School of Economics Seminar
DESCRIPTION:School of Economics Seminar\nSpring 2017 \npresents \nSplitting Together: The Evolution of Cooperation in Food Buying Clubs \nEthan Tremblay \nM.S. student\, UMaine’s School of Economics \nValuing scenic seascape and marine aquaculture using a spatial hedonic analysis \nChristina Robichaud \nM.S. student\, UMaine’s School of Economics \n 
URL:https://elh.umaine.edu/event/school-economics-seminar-2/
LOCATION:201 Winslow Hall\, Orono\, ME\, United States
CATEGORIES:Lectures & Seminars,School of Economics
ORGANIZER;CN="School of Economics":MAILTO:teisl@maine.edu
GEO:44.8831125;-68.6719411
END:VEVENT
BEGIN:VEVENT
DTSTART;TZID=America/New_York:20170414T150000
DTEND;TZID=America/New_York:20170414T170000
DTSTAMP:20260421T121512
CREATED:20170208T195428Z
LAST-MODIFIED:20170208T195428Z
UID:10002702-1492182000-1492189200@elh.umaine.edu
SUMMARY:School of Biology and Ecology Seminar: Dr. Hannah Carey\, University of Wisconsin
DESCRIPTION:School of Biology and Ecology Seminar\nSpring 2017 \npresents \nDr. Hannah Carey\, University of Wisconsin \n(Host: Danielle Levesque) \n  \nSeminars will be held on Fridays at 3:15 pm in 107 Norman Smith Hall\, unless otherwise noted. \nLight refreshments served at 3:00 p.m.
URL:https://elh.umaine.edu/event/school-biology-ecology-seminar-dr-hannah-carey-university-wisconsin/
LOCATION:107 Norman Smith Hall\, orono\, ME\, United States
CATEGORIES:Lectures & Seminars,School of Biology and Ecology
ORGANIZER;CN="School of Biology and Ecology":MAILTO:teresa.costello@umit.maine.edu
GEO:44.8831125;-68.6719411
END:VEVENT
END:VCALENDAR