BEGIN:VCALENDAR
VERSION:2.0
PRODID:-//College of Earth, Life, and Health Sciences - ECPv6.15.17.1//NONSGML v1.0//EN
CALSCALE:GREGORIAN
METHOD:PUBLISH
X-ORIGINAL-URL:https://elh.umaine.edu
X-WR-CALDESC:Events for College of Earth, Life, and Health Sciences
REFRESH-INTERVAL;VALUE=DURATION:PT1H
X-Robots-Tag:noindex
X-PUBLISHED-TTL:PT1H
BEGIN:VTIMEZONE
TZID:America/New_York
BEGIN:DAYLIGHT
TZOFFSETFROM:-0500
TZOFFSETTO:-0400
TZNAME:EDT
DTSTART:20160313T070000
END:DAYLIGHT
BEGIN:STANDARD
TZOFFSETFROM:-0400
TZOFFSETTO:-0500
TZNAME:EST
DTSTART:20161106T060000
END:STANDARD
BEGIN:DAYLIGHT
TZOFFSETFROM:-0500
TZOFFSETTO:-0400
TZNAME:EDT
DTSTART:20170312T070000
END:DAYLIGHT
BEGIN:STANDARD
TZOFFSETFROM:-0400
TZOFFSETTO:-0500
TZNAME:EST
DTSTART:20171105T060000
END:STANDARD
BEGIN:DAYLIGHT
TZOFFSETFROM:-0500
TZOFFSETTO:-0400
TZNAME:EDT
DTSTART:20180311T070000
END:DAYLIGHT
BEGIN:STANDARD
TZOFFSETFROM:-0400
TZOFFSETTO:-0500
TZNAME:EST
DTSTART:20181104T060000
END:STANDARD
END:VTIMEZONE
BEGIN:VEVENT
DTSTART;VALUE=DATE:20170619
DTEND;VALUE=DATE:20170620
DTSTAMP:20260421T122846
CREATED:20170208T211220Z
LAST-MODIFIED:20170208T211220Z
UID:10000257-1497830400-1497916799@elh.umaine.edu
SUMMARY:Go Blue Friday
DESCRIPTION:The following days have been designated as UMaine’s Go Blue Fridays\, a chance to show your UMaine spirit and campus pride by wearing blue and/or UMaine clothing: Feb. 10 and 24; March 24; April 7 and 14; and May 12.
URL:https://elh.umaine.edu/event/go-blue-friday/2017-06-19/
LOCATION:ME
END:VEVENT
BEGIN:VEVENT
DTSTART;TZID=America/New_York:20170619T110000
DTEND;TZID=America/New_York:20170619T120000
DTSTAMP:20260421T122846
CREATED:20170614T124839Z
LAST-MODIFIED:20170614T124839Z
UID:10002716-1497870000-1497873600@elh.umaine.edu
SUMMARY:"Introduced Species Triggers Rapid Evolution in Native Snails"
DESCRIPTION:Presented by:  Dr. Malin Hansen\, University of Regina & First Nations University of Canada \nHosted by:  Dr. Farahad Dastoor\, School of Biology & Ecology
URL:https://elh.umaine.edu/event/introduced-species-triggers-rapid-evolution-native-snails/
LOCATION:227 Neville Hall\, UMaine\, Orono\, ME\, 04069\, United States
ORGANIZER;CN="School of Biology and Ecology":MAILTO:teresa.costello@umit.maine.edu
GEO:44.9012197;-68.6666508
X-APPLE-STRUCTURED-LOCATION;VALUE=URI;X-ADDRESS=227 Neville Hall UMaine Orono ME 04069 United States;X-APPLE-RADIUS=500;X-TITLE=UMaine:geo:-68.6666508,44.9012197
END:VEVENT
END:VCALENDAR