BEGIN:VCALENDAR
VERSION:2.0
PRODID:-//College of Earth, Life, and Health Sciences - ECPv6.15.17.1//NONSGML v1.0//EN
CALSCALE:GREGORIAN
METHOD:PUBLISH
X-WR-CALNAME:College of Earth, Life, and Health Sciences
X-ORIGINAL-URL:https://elh.umaine.edu
X-WR-CALDESC:Events for College of Earth, Life, and Health Sciences
REFRESH-INTERVAL;VALUE=DURATION:PT1H
X-Robots-Tag:noindex
X-PUBLISHED-TTL:PT1H
BEGIN:VTIMEZONE
TZID:America/New_York
BEGIN:DAYLIGHT
TZOFFSETFROM:-0500
TZOFFSETTO:-0400
TZNAME:EDT
DTSTART:20160313T070000
END:DAYLIGHT
BEGIN:STANDARD
TZOFFSETFROM:-0400
TZOFFSETTO:-0500
TZNAME:EST
DTSTART:20161106T060000
END:STANDARD
BEGIN:DAYLIGHT
TZOFFSETFROM:-0500
TZOFFSETTO:-0400
TZNAME:EDT
DTSTART:20170312T070000
END:DAYLIGHT
BEGIN:STANDARD
TZOFFSETFROM:-0400
TZOFFSETTO:-0500
TZNAME:EST
DTSTART:20171105T060000
END:STANDARD
BEGIN:DAYLIGHT
TZOFFSETFROM:-0500
TZOFFSETTO:-0400
TZNAME:EDT
DTSTART:20180311T070000
END:DAYLIGHT
BEGIN:STANDARD
TZOFFSETFROM:-0400
TZOFFSETTO:-0500
TZNAME:EST
DTSTART:20181104T060000
END:STANDARD
END:VTIMEZONE
BEGIN:VEVENT
DTSTART;VALUE=DATE:20171004
DTEND;VALUE=DATE:20171005
DTSTAMP:20260421T012930
CREATED:20170208T211220Z
LAST-MODIFIED:20170208T211220Z
UID:10000364-1507075200-1507161599@elh.umaine.edu
SUMMARY:Go Blue Friday
DESCRIPTION:The following days have been designated as UMaine’s Go Blue Fridays\, a chance to show your UMaine spirit and campus pride by wearing blue and/or UMaine clothing: Feb. 10 and 24; March 24; April 7 and 14; and May 12.
URL:https://elh.umaine.edu/event/go-blue-friday/2017-10-04/
LOCATION:ME
END:VEVENT
BEGIN:VEVENT
DTSTART;TZID=America/New_York:20171004T150000
DTEND;TZID=America/New_York:20171004T160000
DTSTAMP:20260421T012930
CREATED:20170830T145920Z
LAST-MODIFIED:20170830T145920Z
UID:10002756-1507129200-1507132800@elh.umaine.edu
SUMMARY:An overview of research progress on NASA’s Arctic Boreal Vulnerability Experiment (ABoVE)
DESCRIPTION:The Barbara Wheatland Seminar Series presents \nScott Goetz | Professor | School of Informatics\, Computing\, and Cyber Systems | Northern Arizona University \nThe Barbara Wheatland Seminar Series seeks to recruit prominent speakers on advanced\, cutting edge research and applications of remote sensing and associated geospatial technology that relate to forestry\, conservation\, climate change\, or other areas of concern. Made possible with generous support from the Maine Timberlands Charitable Trust. \nIf you are a person with a disability and need an accommodation to participate in this program\, please call Cindy Paschal\, School of Forest Resources\, as early as possible at 581-2841 or cpaschal@maine.edu to discuss your needs.
URL:https://elh.umaine.edu/event/overview-research-progress-nasas-arctic-boreal-vulnerability-experiment/
LOCATION:107 Norman Smith Hall\, orono\, ME\, United States
CATEGORIES:Lectures & Seminars,School of Forest Resources
ORGANIZER;CN="School of Forest Resources":MAILTO:sfr@maine.edu
GEO:44.8831125;-68.6719411
END:VEVENT
BEGIN:VEVENT
DTSTART;TZID=America/New_York:20171004T150000
DTEND;TZID=America/New_York:20171004T160000
DTSTAMP:20260421T012930
CREATED:20170926T133847Z
LAST-MODIFIED:20170926T133847Z
UID:10002783-1507129200-1507132800@elh.umaine.edu
SUMMARY:An overview of research progress on NASA’s Arctic Boreal Vulnerability Experiment (ABoVE)
DESCRIPTION:The Barbara Wheatland Seminar Series presents \nScott Goetz\nProfessor\nSchool of Informatics\, Computing\, and Cyber Systems Northern Arizona University \nThe Barbara Wheatland Seminar Series seeks to recruit prominent speakers on advanced\, cutting edge research and applications of remote sensing and associated geospatial technology that relate to forestry\, conservation\, climate change\, or other areas of concern. Made possible with generous support from the Maine Timberlands Charitable Trust. \n\nQuestions or for further details\, please contact: Tony Guay – anthony.p.guay@maine.edu or Dan Hayes – daniel.j.hayes@maine.edu. \nIf you are a person with a disability and need an accommodation to participate in this program\, please call Cindy Paschal\, School of Forest Resources\, as early as possible at 581-2841 or cpaschal@maine.edu to discuss your needs.
URL:https://elh.umaine.edu/event/overview-research-progress-nasas-arctic-boreal-vulnerability-experiment-2/
LOCATION:107 Norman Smith Hall\, orono\, ME\, United States
CATEGORIES:Lectures & Seminars,School of Forest Resources
ORGANIZER;CN="School of Forest Resources":MAILTO:sfr@maine.edu
GEO:44.8831125;-68.6719411
END:VEVENT
END:VCALENDAR