BEGIN:VCALENDAR
VERSION:2.0
PRODID:-//College of Earth, Life, and Health Sciences - ECPv6.15.17.1//NONSGML v1.0//EN
CALSCALE:GREGORIAN
METHOD:PUBLISH
X-ORIGINAL-URL:https://elh.umaine.edu
X-WR-CALDESC:Events for College of Earth, Life, and Health Sciences
REFRESH-INTERVAL;VALUE=DURATION:PT1H
X-Robots-Tag:noindex
X-PUBLISHED-TTL:PT1H
BEGIN:VTIMEZONE
TZID:America/New_York
BEGIN:DAYLIGHT
TZOFFSETFROM:-0500
TZOFFSETTO:-0400
TZNAME:EDT
DTSTART:20160313T070000
END:DAYLIGHT
BEGIN:STANDARD
TZOFFSETFROM:-0400
TZOFFSETTO:-0500
TZNAME:EST
DTSTART:20161106T060000
END:STANDARD
BEGIN:DAYLIGHT
TZOFFSETFROM:-0500
TZOFFSETTO:-0400
TZNAME:EDT
DTSTART:20170312T070000
END:DAYLIGHT
BEGIN:STANDARD
TZOFFSETFROM:-0400
TZOFFSETTO:-0500
TZNAME:EST
DTSTART:20171105T060000
END:STANDARD
BEGIN:DAYLIGHT
TZOFFSETFROM:-0500
TZOFFSETTO:-0400
TZNAME:EDT
DTSTART:20180311T070000
END:DAYLIGHT
BEGIN:STANDARD
TZOFFSETFROM:-0400
TZOFFSETTO:-0500
TZNAME:EST
DTSTART:20181104T060000
END:STANDARD
END:VTIMEZONE
BEGIN:VEVENT
DTSTART;VALUE=DATE:20171018
DTEND;VALUE=DATE:20171019
DTSTAMP:20260421T143220
CREATED:20170208T211220Z
LAST-MODIFIED:20170208T211220Z
UID:10000378-1508284800-1508371199@elh.umaine.edu
SUMMARY:Go Blue Friday
DESCRIPTION:The following days have been designated as UMaine’s Go Blue Fridays\, a chance to show your UMaine spirit and campus pride by wearing blue and/or UMaine clothing: Feb. 10 and 24; March 24; April 7 and 14; and May 12.
URL:https://elh.umaine.edu/event/go-blue-friday/2017-10-18/
LOCATION:ME
END:VEVENT
BEGIN:VEVENT
DTSTART;TZID=America/New_York:20171018T150000
DTEND;TZID=America/New_York:20171018T160000
DTSTAMP:20260421T143220
CREATED:20170830T150036Z
LAST-MODIFIED:20170830T150036Z
UID:10002757-1508338800-1508342400@elh.umaine.edu
SUMMARY:Is terrestrial net primary production a planetary boundary for the carbon cycle?
DESCRIPTION:The Barbara Wheatland Seminar Series presents \nSteven Running | Regents Professor of Ecology | University of Montana \nThe Barbara Wheatland Seminar Series seeks to recruit prominent speakers on advanced\, cutting edge research and applications of remote sensing and associated geospatial technology that relate to forestry\, conservation\, climate change\, or other areas of concern. Made possible with generous support from the Maine Timberlands Charitable Trust. \nIf you are a person with a disability and need an accommodation to participate in this program\, please call Cindy Paschal\, School of Forest Resources\, as early as possible at 581-2841 or cpaschal@maine.edu to discuss your needs.
URL:https://elh.umaine.edu/event/terrestrial-net-primary-production-planetary-boundary-carbon-cycle/
LOCATION:204 Nutting Hall\, Orono\, ME\, United States
CATEGORIES:Lectures & Seminars,School of Forest Resources
ORGANIZER;CN="School of Forest Resources":MAILTO:sfr@maine.edu
GEO:44.8831125;-68.6719411
END:VEVENT
BEGIN:VEVENT
DTSTART;TZID=America/New_York:20171018T150000
DTEND;TZID=America/New_York:20171018T170000
DTSTAMP:20260421T143220
CREATED:20171011T150937Z
LAST-MODIFIED:20171011T194302Z
UID:10002787-1508338800-1508346000@elh.umaine.edu
SUMMARY:Is terrestrial net primary production a planetary boundary for the carbon cycle?
DESCRIPTION:The Barbara Wheatland Seminar Series presents: \nSteven Running\nRegents Professor of Ecology\nUniversity of Montana \nSteven W. Running received his Ph.D. in Forest Ecology from Colorado State University\, and has been with the University of Montana\, Missoula since 1979\, where he is a University Regents Professor of Global Ecology. His primary research interest is the development of global and regional ecosystem biogeochemical models integrating remote sensing with bioclimatology and terrestrial ecology. He is the Land Team Leader for the NASA Earth Observing System\, Moderate Resolution Imaging Spectroradiometer\, and is responsible for the EOS global terrestrial net primary production and evapotranspiration datasets. He has published more than 300 scientific articles and two books. He was a co-Lead Chapter Author for the 2014 U.S. National Climate Assessment. He currently Chairs the NASA Earth Science Subcommittee\, and is a member of the NASA Science Advisory Council. Dr. Running was a chapter Lead Author for the 4th Assessment of the Intergovernmental Panel on Climate Change which shared the Nobel Peace Prize in 2007. Dr. Running is an elected Fellow of the American Geophysical Union\, has been designated a Highly Cited Researcher by the Institute for Scientific Information\, and in 2014 was designated one of “The World’s Most Influential Scientific Minds” in Geosciences. He has been honored with the E.O.Wilson Biodiversity Technology Pioneer Award\, and received the W.T.Pecora award for lifetime achievement in Earth remote sensing from NASA and U.S.Geological Survey. In the popular press\, his essay in 2007\, “The 5 Stages of Climate Grief” has been widely quoted. \nThe Barbara Wheatland Seminar Series seeks to recruit prominent speakers on advanced\, cutting edge research and applications of remote sensing and associated geospatial technology that relate to forestry\, conservation\, climate change\, or other areas of concern. \nThis is series is possible thanks to the generous support from the Maine Timberlands Charitable Trust. \nQuestions or for further details\, please contact: Tony Guay – anthony.p.guay@maine.edu or Dan Hayes – daniel.j.hayes@maine.edu \nIf you are a person with a disability and need an accommodation to participate in this program\, please call Cindy Paschal\, School of Forest Resources\, as early as possible at 581-2841 or cpaschal@maine.edu to discuss your needs.
URL:https://elh.umaine.edu/event/terrestrial-net-primary-production-planetary-boundary-carbon-cycle-2/
LOCATION:204 Nutting Hall\, Orono\, ME\, United States
CATEGORIES:Lectures & Seminars,School of Forest Resources
ORGANIZER;CN="School of Forest Resources":MAILTO:sfr@maine.edu
GEO:44.8831125;-68.6719411
END:VEVENT
END:VCALENDAR