BEGIN:VCALENDAR
VERSION:2.0
PRODID:-//College of Earth, Life, and Health Sciences - ECPv6.15.17.1//NONSGML v1.0//EN
CALSCALE:GREGORIAN
METHOD:PUBLISH
X-ORIGINAL-URL:https://elh.umaine.edu
X-WR-CALDESC:Events for College of Earth, Life, and Health Sciences
REFRESH-INTERVAL;VALUE=DURATION:PT1H
X-Robots-Tag:noindex
X-PUBLISHED-TTL:PT1H
BEGIN:VTIMEZONE
TZID:America/New_York
BEGIN:DAYLIGHT
TZOFFSETFROM:-0500
TZOFFSETTO:-0400
TZNAME:EDT
DTSTART:20160313T070000
END:DAYLIGHT
BEGIN:STANDARD
TZOFFSETFROM:-0400
TZOFFSETTO:-0500
TZNAME:EST
DTSTART:20161106T060000
END:STANDARD
BEGIN:DAYLIGHT
TZOFFSETFROM:-0500
TZOFFSETTO:-0400
TZNAME:EDT
DTSTART:20170312T070000
END:DAYLIGHT
BEGIN:STANDARD
TZOFFSETFROM:-0400
TZOFFSETTO:-0500
TZNAME:EST
DTSTART:20171105T060000
END:STANDARD
BEGIN:DAYLIGHT
TZOFFSETFROM:-0500
TZOFFSETTO:-0400
TZNAME:EDT
DTSTART:20180311T070000
END:DAYLIGHT
BEGIN:STANDARD
TZOFFSETFROM:-0400
TZOFFSETTO:-0500
TZNAME:EST
DTSTART:20181104T060000
END:STANDARD
END:VTIMEZONE
BEGIN:VEVENT
DTSTART;VALUE=DATE:20171109
DTEND;VALUE=DATE:20171110
DTSTAMP:20260421T134948
CREATED:20170208T211220Z
LAST-MODIFIED:20170208T211220Z
UID:10000400-1510185600-1510271999@elh.umaine.edu
SUMMARY:Go Blue Friday
DESCRIPTION:The following days have been designated as UMaine’s Go Blue Fridays\, a chance to show your UMaine spirit and campus pride by wearing blue and/or UMaine clothing: Feb. 10 and 24; March 24; April 7 and 14; and May 12.
URL:https://elh.umaine.edu/event/go-blue-friday/2017-11-09/
LOCATION:ME
END:VEVENT
BEGIN:VEVENT
DTSTART;TZID=America/New_York:20171109T130000
DTEND;TZID=America/New_York:20171109T140000
DTSTAMP:20260421T134948
CREATED:20171025T151019Z
LAST-MODIFIED:20171025T151019Z
UID:10002642-1510232400-1510236000@elh.umaine.edu
SUMMARY:The Once and Future Battles of Thor and the Midgard Serpent  (or the Southern Ocean’s Role in Climate)
DESCRIPTION:The School of Earth and Climate Sciences presents \nDr. Joellen Russell \nUniversity of Arizona \nFloats deployed by oceanographers are giving us all ringside seats to the epic battle between the wind and the deep ocean around Antarctica which will determine the rate of atmospheric warming over the next century. The poleward-shift and intensification of the Southern Hemisphere westerly winds – in the past and present – has been shown to provide a connection between the surface ocean and the atmosphere with the deep ocean. This “doorway” allows the vast deep ocean reservoir to play a significant role in the transient global climate response to increasing atmospheric greenhouse gases\, even as the surface ocean warms. Coupled climate and earth system models at low and high resolution all simulate poleward-shifted and intensified Southern Hemisphere surface westerly winds when subjected to an atmospheric carbon dioxide doubling. Comparisons of these simulations reveal how stratification\, resolution and eddies affect the transient global climate response to increasing atmospheric greenhouse gases – and our collective fate. \n  \nBryand Global Sciences Center\, Room 307. For more information please contact Aaron Putnam (aaron.putnam@maine.edu) or Linda Cappuccio (linda.cappuccio@maine.edu).
URL:https://elh.umaine.edu/event/future-battles-thor-midgard-serpent-southern-oceans-role-climate/
LOCATION:Bryand Global Science Bldg.\, 100 Bryand Global Science Bldg.\, Orono\, ME\, United States
CATEGORIES:Lectures & Seminars,School of Earth and Climate Sciences
GEO:44.8831125;-68.6719411
X-APPLE-STRUCTURED-LOCATION;VALUE=URI;X-ADDRESS=Bryand Global Science Bldg. 100 Bryand Global Science Bldg. Orono ME United States;X-APPLE-RADIUS=500;X-TITLE=100 Bryand Global Science Bldg.:geo:-68.6719411,44.8831125
END:VEVENT
END:VCALENDAR