BEGIN:VCALENDAR
VERSION:2.0
PRODID:-//College of Earth, Life, and Health Sciences - ECPv6.15.17.1//NONSGML v1.0//EN
CALSCALE:GREGORIAN
METHOD:PUBLISH
X-ORIGINAL-URL:https://elh.umaine.edu
X-WR-CALDESC:Events for College of Earth, Life, and Health Sciences
REFRESH-INTERVAL;VALUE=DURATION:PT1H
X-Robots-Tag:noindex
X-PUBLISHED-TTL:PT1H
BEGIN:VTIMEZONE
TZID:America/New_York
BEGIN:DAYLIGHT
TZOFFSETFROM:-0500
TZOFFSETTO:-0400
TZNAME:EDT
DTSTART:20160313T070000
END:DAYLIGHT
BEGIN:STANDARD
TZOFFSETFROM:-0400
TZOFFSETTO:-0500
TZNAME:EST
DTSTART:20161106T060000
END:STANDARD
BEGIN:DAYLIGHT
TZOFFSETFROM:-0500
TZOFFSETTO:-0400
TZNAME:EDT
DTSTART:20170312T070000
END:DAYLIGHT
BEGIN:STANDARD
TZOFFSETFROM:-0400
TZOFFSETTO:-0500
TZNAME:EST
DTSTART:20171105T060000
END:STANDARD
BEGIN:DAYLIGHT
TZOFFSETFROM:-0500
TZOFFSETTO:-0400
TZNAME:EDT
DTSTART:20180311T070000
END:DAYLIGHT
BEGIN:STANDARD
TZOFFSETFROM:-0400
TZOFFSETTO:-0500
TZNAME:EST
DTSTART:20181104T060000
END:STANDARD
END:VTIMEZONE
BEGIN:VEVENT
DTSTART;VALUE=DATE:20171204
DTEND;VALUE=DATE:20171205
DTSTAMP:20260420T214236
CREATED:20170208T211220Z
LAST-MODIFIED:20170208T211220Z
UID:10000425-1512345600-1512431999@elh.umaine.edu
SUMMARY:Go Blue Friday
DESCRIPTION:The following days have been designated as UMaine’s Go Blue Fridays\, a chance to show your UMaine spirit and campus pride by wearing blue and/or UMaine clothing: Feb. 10 and 24; March 24; April 7 and 14; and May 12.
URL:https://elh.umaine.edu/event/go-blue-friday/2017-12-04/
LOCATION:ME
END:VEVENT
BEGIN:VEVENT
DTSTART;TZID=America/New_York:20171204T133000
DTEND;TZID=America/New_York:20171204T143000
DTSTAMP:20260420T214236
CREATED:20171130T154651Z
LAST-MODIFIED:20171130T154651Z
UID:10002775-1512394200-1512397800@elh.umaine.edu
SUMMARY:Making a chromosome from scratch in D. melanogaster
DESCRIPTION:Molecular & Biomedical Sciences\nFall 2017 Seminar Series \nDr. Stacey Hanlon\nPostdoctoral research associate\nStowers Institute for Medical Research\nKansas City\, MO \nHost: Julie Gosse (Julie.gosse@maine.edu)
URL:https://elh.umaine.edu/event/making-chromosome-scratch-d-melanogaster/
LOCATION:203 Hitchner Hall\, Orono\, ME\, 04469\, United States
CATEGORIES:Department of Molecular and Biomedical Sciences,Lectures & Seminars
GEO:44.9024546;-68.6638413
END:VEVENT
END:VCALENDAR