BEGIN:VCALENDAR
VERSION:2.0
PRODID:-//College of Earth, Life, and Health Sciences - ECPv6.15.17.1//NONSGML v1.0//EN
CALSCALE:GREGORIAN
METHOD:PUBLISH
X-WR-CALNAME:College of Earth, Life, and Health Sciences
X-ORIGINAL-URL:https://elh.umaine.edu
X-WR-CALDESC:Events for College of Earth, Life, and Health Sciences
REFRESH-INTERVAL;VALUE=DURATION:PT1H
X-Robots-Tag:noindex
X-PUBLISHED-TTL:PT1H
BEGIN:VTIMEZONE
TZID:America/New_York
BEGIN:DAYLIGHT
TZOFFSETFROM:-0500
TZOFFSETTO:-0400
TZNAME:EDT
DTSTART:20160313T070000
END:DAYLIGHT
BEGIN:STANDARD
TZOFFSETFROM:-0400
TZOFFSETTO:-0500
TZNAME:EST
DTSTART:20161106T060000
END:STANDARD
BEGIN:DAYLIGHT
TZOFFSETFROM:-0500
TZOFFSETTO:-0400
TZNAME:EDT
DTSTART:20170312T070000
END:DAYLIGHT
BEGIN:STANDARD
TZOFFSETFROM:-0400
TZOFFSETTO:-0500
TZNAME:EST
DTSTART:20171105T060000
END:STANDARD
BEGIN:DAYLIGHT
TZOFFSETFROM:-0500
TZOFFSETTO:-0400
TZNAME:EDT
DTSTART:20180311T070000
END:DAYLIGHT
BEGIN:STANDARD
TZOFFSETFROM:-0400
TZOFFSETTO:-0500
TZNAME:EST
DTSTART:20181104T060000
END:STANDARD
END:VTIMEZONE
BEGIN:VEVENT
DTSTART;VALUE=DATE:20171207
DTEND;VALUE=DATE:20171208
DTSTAMP:20260422T230009
CREATED:20170208T211220Z
LAST-MODIFIED:20170208T211220Z
UID:10000428-1512604800-1512691199@elh.umaine.edu
SUMMARY:Go Blue Friday
DESCRIPTION:The following days have been designated as UMaine’s Go Blue Fridays\, a chance to show your UMaine spirit and campus pride by wearing blue and/or UMaine clothing: Feb. 10 and 24; March 24; April 7 and 14; and May 12.
URL:https://elh.umaine.edu/event/go-blue-friday/2017-12-07/
LOCATION:ME
END:VEVENT
BEGIN:VEVENT
DTSTART;TZID=America/New_York:20171207T120000
DTEND;TZID=America/New_York:20171207T130000
DTSTAMP:20260422T230009
CREATED:20171117T211935Z
LAST-MODIFIED:20171117T211935Z
UID:10002771-1512648000-1512651600@elh.umaine.edu
SUMMARY:The Gill-Oxygen Limitation Theory: Origin\, Scope and Utility in Understanding Global Warming Impacts on Fish
DESCRIPTION:Remote access available\, please inquire. \nThe Department of Wildlife\, Fisheries\, and Conservation Biology\, School of Marine Sciences\, Mitchell Sustainability Center\, and the American Fisheries Society Student Subunit present \nInternationally-Renowned Fisheries Ecologist \nDr. Daniel Pauly\nUniversity of British Columbia Professor\,\nPrincipal Investigator: Sea Around Us Project \nThere is need for a broad guiding theory based on first principles to interpret the many ways that fishes (and invertebrates) are affected by increasing temperatures and the deoxygenation of the oceans. Gill-Oxygen Limitation Theory (GOLT) is the only current comprehensive theory that can accommodate the many impacts of ocean warming on growth\, migrations\, and behaviors. Dr. Pauly will elaborate on his recent paper on GOLT (and controversy)\, and provide context to help understand the increasingly nuanced global biotic and conservation implications of a warming ocean. \nPlease join us for lunch following the talk and a discussion on the global state of fisheries stock assessment from 3:00-4:00 pm in 464 Aubert Hall \nHost: Robert Boenish (Robert.Boenish@maine.edu) \nIf you are a person with a disability and need an accommodation to participate in this program\, please call Dr. Susan Brawley\, as early as possible\, at 207.581.2973 to discuss your needs.
URL:https://elh.umaine.edu/event/gill-oxygen-limitation-theory-origin-scope-utility-understanding-global-warming-impacts-fish/
LOCATION:107 Norman Smith Hall\, orono\, ME\, United States
CATEGORIES:Department of Wildlife, Fisheries, and Conservation Biology,Lectures & Seminars,School of Marine Sciences
ORGANIZER;CN="Department of Wildlife%2C Fisheries%2C and Conservation Biology":MAILTO:Wildeco@maine.edu
GEO:44.8831125;-68.6719411
END:VEVENT
END:VCALENDAR