BEGIN:VCALENDAR
VERSION:2.0
PRODID:-//College of Earth, Life, and Health Sciences - ECPv6.15.17.1//NONSGML v1.0//EN
CALSCALE:GREGORIAN
METHOD:PUBLISH
X-ORIGINAL-URL:https://elh.umaine.edu
X-WR-CALDESC:Events for College of Earth, Life, and Health Sciences
REFRESH-INTERVAL;VALUE=DURATION:PT1H
X-Robots-Tag:noindex
X-PUBLISHED-TTL:PT1H
BEGIN:VTIMEZONE
TZID:America/New_York
BEGIN:DAYLIGHT
TZOFFSETFROM:-0500
TZOFFSETTO:-0400
TZNAME:EDT
DTSTART:20170312T070000
END:DAYLIGHT
BEGIN:STANDARD
TZOFFSETFROM:-0400
TZOFFSETTO:-0500
TZNAME:EST
DTSTART:20171105T060000
END:STANDARD
BEGIN:DAYLIGHT
TZOFFSETFROM:-0500
TZOFFSETTO:-0400
TZNAME:EDT
DTSTART:20180311T070000
END:DAYLIGHT
BEGIN:STANDARD
TZOFFSETFROM:-0400
TZOFFSETTO:-0500
TZNAME:EST
DTSTART:20181104T060000
END:STANDARD
BEGIN:DAYLIGHT
TZOFFSETFROM:-0500
TZOFFSETTO:-0400
TZNAME:EDT
DTSTART:20190310T070000
END:DAYLIGHT
BEGIN:STANDARD
TZOFFSETFROM:-0400
TZOFFSETTO:-0500
TZNAME:EST
DTSTART:20191103T060000
END:STANDARD
END:VTIMEZONE
BEGIN:VEVENT
DTSTART;VALUE=DATE:20180216
DTEND;VALUE=DATE:20180217
DTSTAMP:20260421T153948
CREATED:20170208T211220Z
LAST-MODIFIED:20170208T211220Z
UID:10000499-1518739200-1518825599@elh.umaine.edu
SUMMARY:Go Blue Friday
DESCRIPTION:The following days have been designated as UMaine’s Go Blue Fridays\, a chance to show your UMaine spirit and campus pride by wearing blue and/or UMaine clothing: Feb. 10 and 24; March 24; April 7 and 14; and May 12.
URL:https://elh.umaine.edu/event/go-blue-friday/2018-02-16/
LOCATION:ME
END:VEVENT
BEGIN:VEVENT
DTSTART;TZID=America/New_York:20180216T111500
DTEND;TZID=America/New_York:20180216T123000
DTSTAMP:20260421T153948
CREATED:20180212T142027Z
LAST-MODIFIED:20180212T142027Z
UID:10002805-1518779700-1518784200@elh.umaine.edu
SUMMARY:Long-term Epigenetic Effects of Chronically Elevated Glucocorticoid Signaling During Early Development
DESCRIPTION:The School of Marine Sciences presents\n\n\n\nDr. James Coffman\nAssociate Professor\nMDI Biological Laboratory
URL:https://elh.umaine.edu/event/long-term-epigenetic-effects-chronically-elevated-glucocorticoid-signaling-early-development/
LOCATION:354 Aubert Hall\, 354 Aubert Hall\, Orono\, ME\, United States
CATEGORIES:Lectures & Seminars,School of Marine Sciences
ORGANIZER;CN="School of Marine Sciences":MAILTO:susanne@maine.edu
GEO:44.9012912;-68.6707296
X-APPLE-STRUCTURED-LOCATION;VALUE=URI;X-ADDRESS=354 Aubert Hall 354 Aubert Hall Orono ME United States;X-APPLE-RADIUS=500;X-TITLE=354 Aubert Hall:geo:-68.6707296,44.9012912
END:VEVENT
BEGIN:VEVENT
DTSTART;TZID=America/New_York:20180216T150000
DTEND;TZID=America/New_York:20180216T160000
DTSTAMP:20260421T153948
CREATED:20180131T200853Z
LAST-MODIFIED:20180131T200907Z
UID:10002809-1518793200-1518796800@elh.umaine.edu
SUMMARY:The Development and Application of Genomic Resources for Polyploid Crops
DESCRIPTION:The School of Biology and Ecology presents \nDr. Tom Davis\nUniversity of New Hampshire \nHost: Han Tan \n 
URL:https://elh.umaine.edu/event/development-and-application-of-genomic-resources-for-polyploid-crops/
LOCATION:107 Norman Smith Hall\, orono\, ME\, United States
CATEGORIES:Lectures & Seminars,School of Biology and Ecology
ORGANIZER;CN="School of Biology and Ecology":MAILTO:teresa.costello@umit.maine.edu
GEO:44.8831125;-68.6719411
END:VEVENT
END:VCALENDAR