BEGIN:VCALENDAR
VERSION:2.0
PRODID:-//College of Earth, Life, and Health Sciences - ECPv6.15.17.1//NONSGML v1.0//EN
CALSCALE:GREGORIAN
METHOD:PUBLISH
X-ORIGINAL-URL:https://elh.umaine.edu
X-WR-CALDESC:Events for College of Earth, Life, and Health Sciences
REFRESH-INTERVAL;VALUE=DURATION:PT1H
X-Robots-Tag:noindex
X-PUBLISHED-TTL:PT1H
BEGIN:VTIMEZONE
TZID:America/New_York
BEGIN:DAYLIGHT
TZOFFSETFROM:-0500
TZOFFSETTO:-0400
TZNAME:EDT
DTSTART:20170312T070000
END:DAYLIGHT
BEGIN:STANDARD
TZOFFSETFROM:-0400
TZOFFSETTO:-0500
TZNAME:EST
DTSTART:20171105T060000
END:STANDARD
BEGIN:DAYLIGHT
TZOFFSETFROM:-0500
TZOFFSETTO:-0400
TZNAME:EDT
DTSTART:20180311T070000
END:DAYLIGHT
BEGIN:STANDARD
TZOFFSETFROM:-0400
TZOFFSETTO:-0500
TZNAME:EST
DTSTART:20181104T060000
END:STANDARD
BEGIN:DAYLIGHT
TZOFFSETFROM:-0500
TZOFFSETTO:-0400
TZNAME:EDT
DTSTART:20190310T070000
END:DAYLIGHT
BEGIN:STANDARD
TZOFFSETFROM:-0400
TZOFFSETTO:-0500
TZNAME:EST
DTSTART:20191103T060000
END:STANDARD
END:VTIMEZONE
BEGIN:VEVENT
DTSTART;VALUE=DATE:20180430
DTEND;VALUE=DATE:20180501
DTSTAMP:20260421T134242
CREATED:20170208T211220Z
LAST-MODIFIED:20170208T211220Z
UID:10000572-1525046400-1525132799@elh.umaine.edu
SUMMARY:Go Blue Friday
DESCRIPTION:The following days have been designated as UMaine’s Go Blue Fridays\, a chance to show your UMaine spirit and campus pride by wearing blue and/or UMaine clothing: Feb. 10 and 24; March 24; April 7 and 14; and May 12.
URL:https://elh.umaine.edu/event/go-blue-friday/2018-04-30/
LOCATION:ME
END:VEVENT
BEGIN:VEVENT
DTSTART;TZID=America/New_York:20180430T120000
DTEND;TZID=America/New_York:20180430T130000
DTSTAMP:20260421T134242
CREATED:20180131T204851Z
LAST-MODIFIED:20180131T204851Z
UID:10002807-1525089600-1525093200@elh.umaine.edu
SUMMARY:Proposal Seminars: Small Mammal Predation and Seed Dispersal  and Monarch Butterfly Fall Migration Stop-Over Locations
DESCRIPTION:The Department of Wildlife\, Fisheries\, and Conservation Biology presents \nSara Wendt & Brandon Boxler\nUniversity of Maine \nIf you are a person with a disability and need an accommodation to participate in this program\, please call or text Scott Lindemann (425) 503-8528 to discuss your needs.  Receiving requests for accommodations at least 2 days before the program provides a reasonable amount of time to meet the request\, however all requests will be considered.
URL:https://elh.umaine.edu/event/proposal-seminars-small-mammal-predation-seed-dispersal-monarch-butterfly-fall-migration-stop-locations/
LOCATION:204 Nutting Hall\, Orono\, ME\, United States
CATEGORIES:Department of Wildlife, Fisheries, and Conservation Biology,Lectures & Seminars
ORGANIZER;CN="Department of Wildlife%2C Fisheries%2C and Conservation Biology":MAILTO:Wildeco@maine.edu
GEO:44.8831125;-68.6719411
END:VEVENT
END:VCALENDAR