BEGIN:VCALENDAR
VERSION:2.0
PRODID:-//College of Earth, Life, and Health Sciences - ECPv6.15.17.1//NONSGML v1.0//EN
CALSCALE:GREGORIAN
METHOD:PUBLISH
X-ORIGINAL-URL:https://elh.umaine.edu
X-WR-CALDESC:Events for College of Earth, Life, and Health Sciences
REFRESH-INTERVAL;VALUE=DURATION:PT1H
X-Robots-Tag:noindex
X-PUBLISHED-TTL:PT1H
BEGIN:VTIMEZONE
TZID:America/New_York
BEGIN:DAYLIGHT
TZOFFSETFROM:-0500
TZOFFSETTO:-0400
TZNAME:EDT
DTSTART:20170312T070000
END:DAYLIGHT
BEGIN:STANDARD
TZOFFSETFROM:-0400
TZOFFSETTO:-0500
TZNAME:EST
DTSTART:20171105T060000
END:STANDARD
BEGIN:DAYLIGHT
TZOFFSETFROM:-0500
TZOFFSETTO:-0400
TZNAME:EDT
DTSTART:20180311T070000
END:DAYLIGHT
BEGIN:STANDARD
TZOFFSETFROM:-0400
TZOFFSETTO:-0500
TZNAME:EST
DTSTART:20181104T060000
END:STANDARD
BEGIN:DAYLIGHT
TZOFFSETFROM:-0500
TZOFFSETTO:-0400
TZNAME:EDT
DTSTART:20190310T070000
END:DAYLIGHT
BEGIN:STANDARD
TZOFFSETFROM:-0400
TZOFFSETTO:-0500
TZNAME:EST
DTSTART:20191103T060000
END:STANDARD
END:VTIMEZONE
BEGIN:VEVENT
DTSTART;VALUE=DATE:20180501
DTEND;VALUE=DATE:20180502
DTSTAMP:20260421T170414
CREATED:20170208T211220Z
LAST-MODIFIED:20170208T211220Z
UID:10000573-1525132800-1525219199@elh.umaine.edu
SUMMARY:Go Blue Friday
DESCRIPTION:The following days have been designated as UMaine’s Go Blue Fridays\, a chance to show your UMaine spirit and campus pride by wearing blue and/or UMaine clothing: Feb. 10 and 24; March 24; April 7 and 14; and May 12.
URL:https://elh.umaine.edu/event/go-blue-friday/2018-05-01/
LOCATION:ME
END:VEVENT
BEGIN:VEVENT
DTSTART;TZID=America/New_York:20180501T123000
DTEND;TZID=America/New_York:20180501T163000
DTSTAMP:20260421T170414
CREATED:20180419T143826Z
LAST-MODIFIED:20180419T150340Z
UID:10002826-1525177800-1525192200@elh.umaine.edu
SUMMARY:Hierarchical Modeling and Analysis of Spatial-Temporal Data in R
DESCRIPTION:Fogler Library & the Barbara Wheatland Geospatial Programs present \nAndrew Finley\nAssociate Professor of Forest Management and Modeling\nMichigan State University \nThis intermediate R workshop will explore recent advancements in hierarchical random effects models using Markov chain Monte Carlo methods with application and examples for statistical ecology. The focus is on linear and generalized linear modeling frameworks that accommodate spatial and temporal associations. Lecture and exercises offer an applied perspective on model specification\, identifiability of parameters\, and computational considerations for Bayesian inference from posterior distributions. Further details and required pre-workshop preparation at http://blue.for.msu.edu/umaine18 \nCost: FREE. Registration is required for in-person participation. Webconferencing option available on request. Contact Tony Guay at anthony.p.guay@maine.edu with any questions. Register at https://spatial-temporal-modeling.eventbrite.com \nMade possible with generous support from the Maine Timberlands Charitable Trust. \nIf you are a person with a disability and need an accommodation to participate in this program\, please call Cindy Paschal\, School of Forest Resources\, as early as possible at 581-2841 or cpaschal@maine.edu to discuss your needs.
URL:https://elh.umaine.edu/event/hierarchical-modeling-analysis-spatial-temporal-data-r/
LOCATION:Fogler Library\, Classroom 1\, 5729 Fogler Library\, Orono\, ME\, 04469\, United States
CATEGORIES:Lectures & Seminars,School of Forest Resources
ORGANIZER;CN="School of Forest Resources":MAILTO:sfr@maine.edu
END:VEVENT
END:VCALENDAR