BEGIN:VCALENDAR
VERSION:2.0
PRODID:-//College of Earth, Life, and Health Sciences - ECPv6.15.17.1//NONSGML v1.0//EN
CALSCALE:GREGORIAN
METHOD:PUBLISH
X-WR-CALNAME:College of Earth, Life, and Health Sciences
X-ORIGINAL-URL:https://elh.umaine.edu
X-WR-CALDESC:Events for College of Earth, Life, and Health Sciences
REFRESH-INTERVAL;VALUE=DURATION:PT1H
X-Robots-Tag:noindex
X-PUBLISHED-TTL:PT1H
BEGIN:VTIMEZONE
TZID:America/New_York
BEGIN:DAYLIGHT
TZOFFSETFROM:-0500
TZOFFSETTO:-0400
TZNAME:EDT
DTSTART:20170312T070000
END:DAYLIGHT
BEGIN:STANDARD
TZOFFSETFROM:-0400
TZOFFSETTO:-0500
TZNAME:EST
DTSTART:20171105T060000
END:STANDARD
BEGIN:DAYLIGHT
TZOFFSETFROM:-0500
TZOFFSETTO:-0400
TZNAME:EDT
DTSTART:20180311T070000
END:DAYLIGHT
BEGIN:STANDARD
TZOFFSETFROM:-0400
TZOFFSETTO:-0500
TZNAME:EST
DTSTART:20181104T060000
END:STANDARD
BEGIN:DAYLIGHT
TZOFFSETFROM:-0500
TZOFFSETTO:-0400
TZNAME:EDT
DTSTART:20190310T070000
END:DAYLIGHT
BEGIN:STANDARD
TZOFFSETFROM:-0400
TZOFFSETTO:-0500
TZNAME:EST
DTSTART:20191103T060000
END:STANDARD
END:VTIMEZONE
BEGIN:VEVENT
DTSTART;VALUE=DATE:20180917
DTEND;VALUE=DATE:20180918
DTSTAMP:20260421T154458
CREATED:20170208T211220Z
LAST-MODIFIED:20170208T211220Z
UID:10000712-1537142400-1537228799@elh.umaine.edu
SUMMARY:Go Blue Friday
DESCRIPTION:The following days have been designated as UMaine’s Go Blue Fridays\, a chance to show your UMaine spirit and campus pride by wearing blue and/or UMaine clothing: Feb. 10 and 24; March 24; April 7 and 14; and May 12.
URL:https://elh.umaine.edu/event/go-blue-friday/2018-09-17/
LOCATION:ME
END:VEVENT
BEGIN:VEVENT
DTSTART;TZID=America/New_York:20180917T120000
DTEND;TZID=America/New_York:20180917T130000
DTSTAMP:20260421T154458
CREATED:20180907T175705Z
LAST-MODIFIED:20180907T175705Z
UID:10002820-1537185600-1537189200@elh.umaine.edu
SUMMARY:Birds and Bioenergy: Community values and avian protection within a cross-national context
DESCRIPTION:The Department of Wildlife\, Fisheries\, and Conservation Biology presents \nDr. Kathy Halvorsen\nMichigan Technological University \n  \nHost: Amber Roth \nPlease contact the speaker’s host (Francesca Gundrum: francesca.gundrum@maine.edu/(518) 429-9830 \, Elyse DeFranco: elyse.defranco@maine.edu/(805) 617-5072\, Sarah Vogel sarah.vogel@maine.edu/(931) 216-0478 to make arrangements to meet with speakers.
URL:https://elh.umaine.edu/event/birds-and-bioenergy-community-values-and-avian-protection-within-a-cross-national-context/
LOCATION:204 Nutting Hall\, Orono\, ME\, United States
CATEGORIES:Department of Wildlife, Fisheries, and Conservation Biology,Lectures & Seminars
ORGANIZER;CN="Department of Wildlife%2C Fisheries%2C and Conservation Biology":MAILTO:Wildeco@maine.edu
GEO:44.8831125;-68.6719411
END:VEVENT
BEGIN:VEVENT
DTSTART;TZID=America/New_York:20180917T120000
DTEND;TZID=America/New_York:20180917T130000
DTSTAMP:20260421T154458
CREATED:20180912T131510Z
LAST-MODIFIED:20180912T131510Z
UID:10002844-1537185600-1537189200@elh.umaine.edu
SUMMARY:Birds and Bioenergy: Community Values and Avian Protection within a Cross-national Context
DESCRIPTION:The Department of Wildlife\, Fisheries\, and Conservation Biology presents \n\nDr. Kathy Halvorsen\nMichigan Technological University \nPlease contact Amber Roth (amber.roth@maine.edu; 1-2856) or Jessica Leahy (jessica.leahy@maine.edu; 1-2834) to make arrangements to meet with the speaker.
URL:https://elh.umaine.edu/event/birds-and-bioenergy-community-values-and-avian-protection-within-a-cross-national-context-2/
LOCATION:204 Nutting Hall\, Orono\, ME\, United States
CATEGORIES:Department of Wildlife, Fisheries, and Conservation Biology,Lectures & Seminars
ORGANIZER;CN="Department of Wildlife%2C Fisheries%2C and Conservation Biology":MAILTO:Wildeco@maine.edu
GEO:44.8831125;-68.6719411
END:VEVENT
END:VCALENDAR