BEGIN:VCALENDAR
VERSION:2.0
PRODID:-//College of Earth, Life, and Health Sciences - ECPv6.15.17.1//NONSGML v1.0//EN
CALSCALE:GREGORIAN
METHOD:PUBLISH
X-WR-CALNAME:College of Earth, Life, and Health Sciences
X-ORIGINAL-URL:https://elh.umaine.edu
X-WR-CALDESC:Events for College of Earth, Life, and Health Sciences
REFRESH-INTERVAL;VALUE=DURATION:PT1H
X-Robots-Tag:noindex
X-PUBLISHED-TTL:PT1H
BEGIN:VTIMEZONE
TZID:America/New_York
BEGIN:DAYLIGHT
TZOFFSETFROM:-0500
TZOFFSETTO:-0400
TZNAME:EDT
DTSTART:20170312T070000
END:DAYLIGHT
BEGIN:STANDARD
TZOFFSETFROM:-0400
TZOFFSETTO:-0500
TZNAME:EST
DTSTART:20171105T060000
END:STANDARD
BEGIN:DAYLIGHT
TZOFFSETFROM:-0500
TZOFFSETTO:-0400
TZNAME:EDT
DTSTART:20180311T070000
END:DAYLIGHT
BEGIN:STANDARD
TZOFFSETFROM:-0400
TZOFFSETTO:-0500
TZNAME:EST
DTSTART:20181104T060000
END:STANDARD
BEGIN:DAYLIGHT
TZOFFSETFROM:-0500
TZOFFSETTO:-0400
TZNAME:EDT
DTSTART:20190310T070000
END:DAYLIGHT
BEGIN:STANDARD
TZOFFSETFROM:-0400
TZOFFSETTO:-0500
TZNAME:EST
DTSTART:20191103T060000
END:STANDARD
END:VTIMEZONE
BEGIN:VEVENT
DTSTART;VALUE=DATE:20181015
DTEND;VALUE=DATE:20181016
DTSTAMP:20260420T212519
CREATED:20170208T211220Z
LAST-MODIFIED:20170208T211220Z
UID:10000740-1539561600-1539647999@elh.umaine.edu
SUMMARY:Go Blue Friday
DESCRIPTION:The following days have been designated as UMaine’s Go Blue Fridays\, a chance to show your UMaine spirit and campus pride by wearing blue and/or UMaine clothing: Feb. 10 and 24; March 24; April 7 and 14; and May 12.
URL:https://elh.umaine.edu/event/go-blue-friday/2018-10-15/
LOCATION:ME
END:VEVENT
BEGIN:VEVENT
DTSTART;TZID=America/New_York:20181015T120000
DTEND;TZID=America/New_York:20181015T130000
DTSTAMP:20260420T212519
CREATED:20180907T180013Z
LAST-MODIFIED:20180907T180013Z
UID:10002823-1539604800-1539608400@elh.umaine.edu
SUMMARY:Winter ecology of Kirtland’s Warbler: Setting the state for carryover effects
DESCRIPTION:The Department of Wildlife\, Fisheries\, and Conservation Biology presents \nDr. Joe Wunderle\nUSFS Puerto Rico \nHost: Francesca Gundrum \nPlease contact the speaker’s host (Francesca Gundrum: francesca.gundrum@maine.edu/(518) 429-9830 \, Elyse DeFranco: elyse.defranco@maine.edu/(805) 617-5072\, Sarah Vogel sarah.vogel@maine.edu/(931) 216-0478 to make arrangements to meet with speakers.
URL:https://elh.umaine.edu/event/winter-ecology-of-kirtlands-warbler-setting-the-state-for-carryover-effects/
LOCATION:204 Nutting Hall\, Orono\, ME\, United States
CATEGORIES:Department of Wildlife, Fisheries, and Conservation Biology,Lectures & Seminars
ORGANIZER;CN="Department of Wildlife%2C Fisheries%2C and Conservation Biology":MAILTO:Wildeco@maine.edu
GEO:44.8831125;-68.6719411
END:VEVENT
END:VCALENDAR