BEGIN:VCALENDAR
VERSION:2.0
PRODID:-//College of Earth, Life, and Health Sciences - ECPv6.15.17.1//NONSGML v1.0//EN
CALSCALE:GREGORIAN
METHOD:PUBLISH
X-WR-CALNAME:College of Earth, Life, and Health Sciences
X-ORIGINAL-URL:https://elh.umaine.edu
X-WR-CALDESC:Events for College of Earth, Life, and Health Sciences
REFRESH-INTERVAL;VALUE=DURATION:PT1H
X-Robots-Tag:noindex
X-PUBLISHED-TTL:PT1H
BEGIN:VTIMEZONE
TZID:America/New_York
BEGIN:DAYLIGHT
TZOFFSETFROM:-0500
TZOFFSETTO:-0400
TZNAME:EDT
DTSTART:20160313T070000
END:DAYLIGHT
BEGIN:STANDARD
TZOFFSETFROM:-0400
TZOFFSETTO:-0500
TZNAME:EST
DTSTART:20161106T060000
END:STANDARD
BEGIN:DAYLIGHT
TZOFFSETFROM:-0500
TZOFFSETTO:-0400
TZNAME:EDT
DTSTART:20170312T070000
END:DAYLIGHT
BEGIN:STANDARD
TZOFFSETFROM:-0400
TZOFFSETTO:-0500
TZNAME:EST
DTSTART:20171105T060000
END:STANDARD
BEGIN:DAYLIGHT
TZOFFSETFROM:-0500
TZOFFSETTO:-0400
TZNAME:EDT
DTSTART:20180311T070000
END:DAYLIGHT
BEGIN:STANDARD
TZOFFSETFROM:-0400
TZOFFSETTO:-0500
TZNAME:EST
DTSTART:20181104T060000
END:STANDARD
END:VTIMEZONE
BEGIN:VEVENT
DTSTART;TZID=America/New_York:20170901T110000
DTEND;TZID=America/New_York:20170901T120000
DTSTAMP:20260421T132026
CREATED:20170828T183428Z
LAST-MODIFIED:20170828T183428Z
UID:10002741-1504263600-1504267200@elh.umaine.edu
SUMMARY:Insights Into the Red Algae and Eukaryotic Evolution From the Genome of Porphyra Umbilicalis
DESCRIPTION:Dr. Susan Brawley\nProfessor\nSchool of Marine Sciences\nUniversity of Maine \n  \nFossil evidence shows that red algae (Rhodophyta) are one of the most ancient multicellular lineages (1.6 billion years old). Despite their ecological\, evolutionary\, and commercial importance\, few red algal nuclear genomes have been sequenced. This seminar presents results from the recently completed Porphyra umbilicalis (“laver”) sequencing project and shows why the imprint of red algal metabolism on biogeochemical cycling\, aquatic food webs\, and human health is so strong. Traits encoded in the nuclear genome offer a potential explanation for why red algae are small compared to other multicellular organisms\, and to the high nutritional value of laver as human food. \nPolycom availability with Darling Marine Center\, Gulf of Maine Research Institute\, and Bigelow Laboratories \nHost: Rebecca Van Beneden (rebeccav@maine.edu)
URL:https://elh.umaine.edu/event/insights-red-algae-eukaryotic-evolution-genome-porphyra-umbilicalis/
LOCATION:354 Aubert Hall\, 354 Aubert Hall\, Orono\, ME\, United States
CATEGORIES:Darling Marine Center,Lectures & Seminars,School of Marine Sciences
ORGANIZER;CN="School of Marine Sciences":MAILTO:susanne@maine.edu
GEO:44.9012912;-68.6707296
X-APPLE-STRUCTURED-LOCATION;VALUE=URI;X-ADDRESS=354 Aubert Hall 354 Aubert Hall Orono ME United States;X-APPLE-RADIUS=500;X-TITLE=354 Aubert Hall:geo:-68.6707296,44.9012912
END:VEVENT
BEGIN:VEVENT
DTSTART;TZID=America/New_York:20170913T150000
DTEND;TZID=America/New_York:20170913T160000
DTSTAMP:20260421T132026
CREATED:20170830T145708Z
LAST-MODIFIED:20170906T201808Z
UID:10002754-1505314800-1505318400@elh.umaine.edu
SUMMARY:Carbon cycle complexity on land and in the air:  Challenges and solutions
DESCRIPTION:The Barbara Wheatland Seminar Series presents \nKenneth Davis | Professor of Meteorology | Penn State \nThe Barbara Wheatland Seminar Series seeks to recruit prominent speakers on advanced\, cutting edge research and applications of remote sensing and associated geospatial technology that relate to forestry\, conservation\, climate change\, or other areas of concern. Made possible with generous support from the Maine Timberlands Charitable Trust. \nIf you are a person with a disability and need an accommodation to participate in this program\, please call Cindy Paschal\, School of Forest Resources\, as early as possible at 581-2841 or cpaschal@maine.edu to discuss your needs.
URL:https://elh.umaine.edu/event/carbon-cycle-complexity-land-air-challenges-solutions/
LOCATION:204 Nutting Hall\, Orono\, ME\, United States
CATEGORIES:Lectures & Seminars,School of Forest Resources
ORGANIZER;CN="School of Forest Resources":MAILTO:sfr@maine.edu
GEO:44.8831125;-68.6719411
END:VEVENT
BEGIN:VEVENT
DTSTART;TZID=America/New_York:20170915T150000
DTEND;TZID=America/New_York:20170915T170000
DTSTAMP:20260421T132026
CREATED:20170911T135619Z
LAST-MODIFIED:20170911T153726Z
UID:10002743-1505487600-1505494800@elh.umaine.edu
SUMMARY:Spatial Dimensions of the Transmission of Vector-Borne Pathogens: Challenges and Prospects
DESCRIPTION:Dr. Marilyn O’Hara Ruiz\nUniversity of Illinois Urbana-Champaign \nDr. O’Hara Ruiz is a health geographer who applies techniques and concepts from spatial science to understanding the epidemiology and ecology of infectious diseases. Her research interests include how processes measured at different temporal and spatial scales affect the behavior of ecological systems; spatial and contextual aspects of health and illness from a One Health perspective; development of spatial visualizations\, models and methods to develop risk maps and early warning systems for vectorborne disease transmission; and the effect of urban and regional policy decisions and structures on patterns of the built environment\, vegetation and habitat potential\, and their relationship with public health outcomes. \nFor information : Dr. Allie Gardner\, allison.gardner@maine.edu\, 1-3115. Sponsored by the School of Biology & Ecology as part of the 2017 Fall Seminar Series.
URL:https://elh.umaine.edu/event/spatial-dimensions-transmission-vector-borne-pathogens-challenges-prospects/
LOCATION:107 Norman Smith Hall\, orono\, ME\, United States
CATEGORIES:Lectures & Seminars,School of Biology and Ecology
ORGANIZER;CN="School of Biology and Ecology":MAILTO:teresa.costello@umit.maine.edu
GEO:44.8831125;-68.6719411
END:VEVENT
BEGIN:VEVENT
DTSTART;TZID=America/New_York:20170922T150000
DTEND;TZID=America/New_York:20170922T160000
DTSTAMP:20260421T132026
CREATED:20170918T153101Z
LAST-MODIFIED:20170920T161616Z
UID:10002746-1506092400-1506096000@elh.umaine.edu
SUMMARY:Structural Dynamics of Adult Peripheral Neurons
DESCRIPTION:Ben Harrison\, Ph.D.\nUniversity of New England \nDr. Harrison has a Bachelor’s Degree in Molecular Genetics from the University of Wales and a PhD in Molecular Biology from the University of Edinburgh in Scotland. He received postdoctoral training in Neuroscience and Bioinformatics with Jeff Petruska and Eric Rouchka at the Kentucky Spinal Cord Injury Research Center\, University of Louisville. His research focuses on the molecular mechanisms that control neuron growth in the adult/developed nervous system. As a new faculty member\, he is currently building a lab at the University of New England to integrate genomic techniques and molecular biology with bioinformatics approaches. Through modification of neuron morphology\, his lab’s studies are geared to develop novel therapeutics for diverse clinical applications such as pain management and treatment of Alzheimer’s disease. \nFor information : Dr. Kristy Townsend\, kristy.townsend@maine.edu\, 1-2541.\nSponsored by the School of Biology & Ecology as part of the 2017 Fall Seminar Series
URL:https://elh.umaine.edu/event/structural-dynamics-adult-peripheral-neurons/
LOCATION:107 Norman Smith Hall\, orono\, ME\, United States
CATEGORIES:Lectures & Seminars,School of Biology and Ecology
ORGANIZER;CN="School of Biology and Ecology":MAILTO:teresa.costello@umit.maine.edu
GEO:44.8831125;-68.6719411
END:VEVENT
BEGIN:VEVENT
DTSTART;TZID=America/New_York:20170925T120000
DTEND;TZID=America/New_York:20170925T130000
DTSTAMP:20260421T132026
CREATED:20170918T153936Z
LAST-MODIFIED:20170918T153936Z
UID:10002747-1506340800-1506344400@elh.umaine.edu
SUMMARY:Unisexual Salamanders: The Evolution and Ecology of Strange Reproduction
DESCRIPTION:Dr. Robert Denton\nUniversity of Connecticut
URL:https://elh.umaine.edu/event/unisexual-salamanders-evolution-ecology-strange-reproduction/
LOCATION:204 Nutting Hall\, Orono\, ME\, United States
CATEGORIES:Department of Wildlife, Fisheries, and Conservation Biology,Lectures & Seminars
ORGANIZER;CN="Department of Wildlife%2C Fisheries%2C and Conservation Biology":MAILTO:Wildeco@maine.edu
GEO:44.8831125;-68.6719411
END:VEVENT
BEGIN:VEVENT
DTSTART;TZID=America/New_York:20170925T150000
DTEND;TZID=America/New_York:20170925T160000
DTSTAMP:20260421T132026
CREATED:20170912T143515Z
LAST-MODIFIED:20170912T143601Z
UID:10002744-1506351600-1506355200@elh.umaine.edu
SUMMARY:Forestry in Chile: Past\, Present\, and Future
DESCRIPTION:The School of Forest Resources presents \nDr. Christian Salas\nUniversidad de La Frontera\nTemuco\, Chile \n\nIf you are a person with a disability and need an accommodation to participate in this program\, please call Cindy Paschal\, School of Forest Resources\, as early as possible at 581-2841 or cpaschal@maine.edu to discuss your needs.
URL:https://elh.umaine.edu/event/forestry-chile-past-present-future/
LOCATION:204 Nutting Hall\, Orono\, ME\, United States
CATEGORIES:Lectures & Seminars,School of Forest Resources
ORGANIZER;CN="School of Forest Resources":MAILTO:sfr@maine.edu
GEO:44.8831125;-68.6719411
END:VEVENT
BEGIN:VEVENT
DTSTART;TZID=America/New_York:20170926T141500
DTEND;TZID=America/New_York:20170926T151500
DTSTAMP:20260421T132026
CREATED:20170918T204542Z
LAST-MODIFIED:20170918T204542Z
UID:10002781-1506435300-1506438900@elh.umaine.edu
SUMMARY:Risk Perceptions of Metallic Mineral Mining in Maine
DESCRIPTION:Thesis Defense \nAndrew Morgan \nEvent Host: Dr. Sandra de Urioste-Stone \nFor more information or a disability accommodation\, please contact Dr. Sandra de Urioste-Stone at sandra.de@maine.edu or 581-2885.
URL:https://elh.umaine.edu/event/risk-perceptions-metallic-mineral-mining-maine/
LOCATION:204 Nutting Hall\, Orono\, ME\, United States
CATEGORIES:Ecology and Environmental Sciences,Lectures & Seminars,School of Forest Resources,Thesis Defense
ORGANIZER;CN="Ecology and Environmental Sciences":MAILTO:ees@maine.edu
GEO:44.8831125;-68.6719411
END:VEVENT
BEGIN:VEVENT
DTSTART;TZID=America/New_York:20170929T150000
DTEND;TZID=America/New_York:20170929T160000
DTSTAMP:20260421T132026
CREATED:20170925T134317Z
LAST-MODIFIED:20170925T134317Z
UID:10002782-1506697200-1506700800@elh.umaine.edu
SUMMARY:The role of host trait variation in parasite diversification:  Testing model predictions for the goldenrod-insect community
DESCRIPTION:Dr. Chandra Moffat\nAgriculture and Agri-Food Canada \n\n\nDr. Chandra Moffat’s research focuses on the evolutionary ecology of plant-herbivore interactions. She uses combination of field ecology\, experiments\, modelling and molecular biology to test hypotheses regarding the structuring of species interactions in both basic and applied systems. Chandra is particularly interested in the cause and consequences of local adaptation and novel species interactions. In her talk\, Chandra will discuss her PhD research on the role host plant trait variation may play in driving divergence of herbivorous insects. Her work suggests that adaptation to within-niche variation may facilitate colonization of novel niches and play a role in driving ecological speciation.\n\n\nFor information : Dr. Andrei Alyokhin\, alyokhin@maine.edu\, 1-2551\nSponsored by the School of Biology & Ecology as part of the 2017 Fall Seminar Series
URL:https://elh.umaine.edu/event/role-host-trait-variation-parasite-diversification-testing-model-predictions-goldenrod-insect-community/
LOCATION:107 Norman Smith Hall\, orono\, ME\, United States
CATEGORIES:Lectures & Seminars,School of Biology and Ecology
ORGANIZER;CN="School of Biology and Ecology":MAILTO:teresa.costello@umit.maine.edu
GEO:44.8831125;-68.6719411
END:VEVENT
BEGIN:VEVENT
DTSTART;TZID=America/New_York:20170929T160000
DTEND;TZID=America/New_York:20170929T170000
DTSTAMP:20260421T132026
CREATED:20170913T185630Z
LAST-MODIFIED:20170913T185630Z
UID:10002745-1506700800-1506704400@elh.umaine.edu
SUMMARY:How bacteria affect the cornea
DESCRIPTION:Department of Molecular & Biomedical Sciences\nHitchner and Staples Seminar Series \nKimberly M. Brothers\, PhD\nResearch Instructor\nDepartment of Ophthamology\, University of Pittsburgh
URL:https://elh.umaine.edu/event/bacteria-affect-cornea/
LOCATION:203 Hitchner Hall\, Orono\, ME\, 04469\, United States
CATEGORIES:Department of Molecular and Biomedical Sciences,Lectures & Seminars
GEO:44.9024546;-68.6638413
END:VEVENT
END:VCALENDAR