BEGIN:VCALENDAR
VERSION:2.0
PRODID:-//College of Earth, Life, and Health Sciences - ECPv6.15.17.1//NONSGML v1.0//EN
CALSCALE:GREGORIAN
METHOD:PUBLISH
X-WR-CALNAME:College of Earth, Life, and Health Sciences
X-ORIGINAL-URL:https://elh.umaine.edu
X-WR-CALDESC:Events for College of Earth, Life, and Health Sciences
REFRESH-INTERVAL;VALUE=DURATION:PT1H
X-Robots-Tag:noindex
X-PUBLISHED-TTL:PT1H
BEGIN:VTIMEZONE
TZID:America/New_York
BEGIN:DAYLIGHT
TZOFFSETFROM:-0500
TZOFFSETTO:-0400
TZNAME:EDT
DTSTART:20200308T070000
END:DAYLIGHT
BEGIN:STANDARD
TZOFFSETFROM:-0400
TZOFFSETTO:-0500
TZNAME:EST
DTSTART:20201101T060000
END:STANDARD
BEGIN:DAYLIGHT
TZOFFSETFROM:-0500
TZOFFSETTO:-0400
TZNAME:EDT
DTSTART:20210314T070000
END:DAYLIGHT
BEGIN:STANDARD
TZOFFSETFROM:-0400
TZOFFSETTO:-0500
TZNAME:EST
DTSTART:20211107T060000
END:STANDARD
BEGIN:DAYLIGHT
TZOFFSETFROM:-0500
TZOFFSETTO:-0400
TZNAME:EDT
DTSTART:20220313T070000
END:DAYLIGHT
BEGIN:STANDARD
TZOFFSETFROM:-0400
TZOFFSETTO:-0500
TZNAME:EST
DTSTART:20221106T060000
END:STANDARD
END:VTIMEZONE
BEGIN:VEVENT
DTSTART;VALUE=DATE:20210601
DTEND;VALUE=DATE:20210602
DTSTAMP:20260421T133215
CREATED:20170208T211220Z
LAST-MODIFIED:20170208T211220Z
UID:10001702-1622505600-1622591999@elh.umaine.edu
SUMMARY:Go Blue Friday
DESCRIPTION:The following days have been designated as UMaine’s Go Blue Fridays\, a chance to show your UMaine spirit and campus pride by wearing blue and/or UMaine clothing: Feb. 10 and 24; March 24; April 7 and 14; and May 12.
URL:https://elh.umaine.edu/event/go-blue-friday/2021-06-01/
LOCATION:ME
END:VEVENT
BEGIN:VEVENT
DTSTART;VALUE=DATE:20210602
DTEND;VALUE=DATE:20210603
DTSTAMP:20260421T133215
CREATED:20170208T211220Z
LAST-MODIFIED:20170208T211220Z
UID:10001703-1622592000-1622678399@elh.umaine.edu
SUMMARY:Go Blue Friday
DESCRIPTION:The following days have been designated as UMaine’s Go Blue Fridays\, a chance to show your UMaine spirit and campus pride by wearing blue and/or UMaine clothing: Feb. 10 and 24; March 24; April 7 and 14; and May 12.
URL:https://elh.umaine.edu/event/go-blue-friday/2021-06-02/
LOCATION:ME
END:VEVENT
BEGIN:VEVENT
DTSTART;VALUE=DATE:20210603
DTEND;VALUE=DATE:20210604
DTSTAMP:20260421T133215
CREATED:20170208T211220Z
LAST-MODIFIED:20170208T211220Z
UID:10001704-1622678400-1622764799@elh.umaine.edu
SUMMARY:Go Blue Friday
DESCRIPTION:The following days have been designated as UMaine’s Go Blue Fridays\, a chance to show your UMaine spirit and campus pride by wearing blue and/or UMaine clothing: Feb. 10 and 24; March 24; April 7 and 14; and May 12.
URL:https://elh.umaine.edu/event/go-blue-friday/2021-06-03/
LOCATION:ME
END:VEVENT
BEGIN:VEVENT
DTSTART;VALUE=DATE:20210604
DTEND;VALUE=DATE:20210605
DTSTAMP:20260421T133215
CREATED:20170208T211220Z
LAST-MODIFIED:20170208T211220Z
UID:10001705-1622764800-1622851199@elh.umaine.edu
SUMMARY:Go Blue Friday
DESCRIPTION:The following days have been designated as UMaine’s Go Blue Fridays\, a chance to show your UMaine spirit and campus pride by wearing blue and/or UMaine clothing: Feb. 10 and 24; March 24; April 7 and 14; and May 12.
URL:https://elh.umaine.edu/event/go-blue-friday/2021-06-04/
LOCATION:ME
END:VEVENT
BEGIN:VEVENT
DTSTART;VALUE=DATE:20210605
DTEND;VALUE=DATE:20210606
DTSTAMP:20260421T133215
CREATED:20170208T211220Z
LAST-MODIFIED:20170208T211220Z
UID:10001706-1622851200-1622937599@elh.umaine.edu
SUMMARY:Go Blue Friday
DESCRIPTION:The following days have been designated as UMaine’s Go Blue Fridays\, a chance to show your UMaine spirit and campus pride by wearing blue and/or UMaine clothing: Feb. 10 and 24; March 24; April 7 and 14; and May 12.
URL:https://elh.umaine.edu/event/go-blue-friday/2021-06-05/
LOCATION:ME
END:VEVENT
BEGIN:VEVENT
DTSTART;VALUE=DATE:20210606
DTEND;VALUE=DATE:20210607
DTSTAMP:20260421T133215
CREATED:20170208T211220Z
LAST-MODIFIED:20170208T211220Z
UID:10001707-1622937600-1623023999@elh.umaine.edu
SUMMARY:Go Blue Friday
DESCRIPTION:The following days have been designated as UMaine’s Go Blue Fridays\, a chance to show your UMaine spirit and campus pride by wearing blue and/or UMaine clothing: Feb. 10 and 24; March 24; April 7 and 14; and May 12.
URL:https://elh.umaine.edu/event/go-blue-friday/2021-06-06/
LOCATION:ME
END:VEVENT
BEGIN:VEVENT
DTSTART;VALUE=DATE:20210607
DTEND;VALUE=DATE:20210608
DTSTAMP:20260421T133215
CREATED:20170208T211220Z
LAST-MODIFIED:20170208T211220Z
UID:10001708-1623024000-1623110399@elh.umaine.edu
SUMMARY:Go Blue Friday
DESCRIPTION:The following days have been designated as UMaine’s Go Blue Fridays\, a chance to show your UMaine spirit and campus pride by wearing blue and/or UMaine clothing: Feb. 10 and 24; March 24; April 7 and 14; and May 12.
URL:https://elh.umaine.edu/event/go-blue-friday/2021-06-07/
LOCATION:ME
END:VEVENT
BEGIN:VEVENT
DTSTART;VALUE=DATE:20210608
DTEND;VALUE=DATE:20210609
DTSTAMP:20260421T133215
CREATED:20170208T211220Z
LAST-MODIFIED:20170208T211220Z
UID:10001709-1623110400-1623196799@elh.umaine.edu
SUMMARY:Go Blue Friday
DESCRIPTION:The following days have been designated as UMaine’s Go Blue Fridays\, a chance to show your UMaine spirit and campus pride by wearing blue and/or UMaine clothing: Feb. 10 and 24; March 24; April 7 and 14; and May 12.
URL:https://elh.umaine.edu/event/go-blue-friday/2021-06-08/
LOCATION:ME
END:VEVENT
BEGIN:VEVENT
DTSTART;VALUE=DATE:20210609
DTEND;VALUE=DATE:20210610
DTSTAMP:20260421T133215
CREATED:20170208T211220Z
LAST-MODIFIED:20170208T211220Z
UID:10001710-1623196800-1623283199@elh.umaine.edu
SUMMARY:Go Blue Friday
DESCRIPTION:The following days have been designated as UMaine’s Go Blue Fridays\, a chance to show your UMaine spirit and campus pride by wearing blue and/or UMaine clothing: Feb. 10 and 24; March 24; April 7 and 14; and May 12.
URL:https://elh.umaine.edu/event/go-blue-friday/2021-06-09/
LOCATION:ME
END:VEVENT
BEGIN:VEVENT
DTSTART;VALUE=DATE:20210610
DTEND;VALUE=DATE:20210611
DTSTAMP:20260421T133215
CREATED:20170208T211220Z
LAST-MODIFIED:20170208T211220Z
UID:10001711-1623283200-1623369599@elh.umaine.edu
SUMMARY:Go Blue Friday
DESCRIPTION:The following days have been designated as UMaine’s Go Blue Fridays\, a chance to show your UMaine spirit and campus pride by wearing blue and/or UMaine clothing: Feb. 10 and 24; March 24; April 7 and 14; and May 12.
URL:https://elh.umaine.edu/event/go-blue-friday/2021-06-10/
LOCATION:ME
END:VEVENT
BEGIN:VEVENT
DTSTART;VALUE=DATE:20210611
DTEND;VALUE=DATE:20210612
DTSTAMP:20260421T133215
CREATED:20170208T211220Z
LAST-MODIFIED:20170208T211220Z
UID:10001712-1623369600-1623455999@elh.umaine.edu
SUMMARY:Go Blue Friday
DESCRIPTION:The following days have been designated as UMaine’s Go Blue Fridays\, a chance to show your UMaine spirit and campus pride by wearing blue and/or UMaine clothing: Feb. 10 and 24; March 24; April 7 and 14; and May 12.
URL:https://elh.umaine.edu/event/go-blue-friday/2021-06-11/
LOCATION:ME
END:VEVENT
BEGIN:VEVENT
DTSTART;VALUE=DATE:20210612
DTEND;VALUE=DATE:20210613
DTSTAMP:20260421T133215
CREATED:20170208T211220Z
LAST-MODIFIED:20170208T211220Z
UID:10001713-1623456000-1623542399@elh.umaine.edu
SUMMARY:Go Blue Friday
DESCRIPTION:The following days have been designated as UMaine’s Go Blue Fridays\, a chance to show your UMaine spirit and campus pride by wearing blue and/or UMaine clothing: Feb. 10 and 24; March 24; April 7 and 14; and May 12.
URL:https://elh.umaine.edu/event/go-blue-friday/2021-06-12/
LOCATION:ME
END:VEVENT
BEGIN:VEVENT
DTSTART;VALUE=DATE:20210613
DTEND;VALUE=DATE:20210614
DTSTAMP:20260421T133215
CREATED:20170208T211220Z
LAST-MODIFIED:20170208T211220Z
UID:10001714-1623542400-1623628799@elh.umaine.edu
SUMMARY:Go Blue Friday
DESCRIPTION:The following days have been designated as UMaine’s Go Blue Fridays\, a chance to show your UMaine spirit and campus pride by wearing blue and/or UMaine clothing: Feb. 10 and 24; March 24; April 7 and 14; and May 12.
URL:https://elh.umaine.edu/event/go-blue-friday/2021-06-13/
LOCATION:ME
END:VEVENT
BEGIN:VEVENT
DTSTART;VALUE=DATE:20210614
DTEND;VALUE=DATE:20210615
DTSTAMP:20260421T133215
CREATED:20170208T211220Z
LAST-MODIFIED:20170208T211220Z
UID:10001715-1623628800-1623715199@elh.umaine.edu
SUMMARY:Go Blue Friday
DESCRIPTION:The following days have been designated as UMaine’s Go Blue Fridays\, a chance to show your UMaine spirit and campus pride by wearing blue and/or UMaine clothing: Feb. 10 and 24; March 24; April 7 and 14; and May 12.
URL:https://elh.umaine.edu/event/go-blue-friday/2021-06-14/
LOCATION:ME
END:VEVENT
BEGIN:VEVENT
DTSTART;VALUE=DATE:20210615
DTEND;VALUE=DATE:20210616
DTSTAMP:20260421T133215
CREATED:20170208T211220Z
LAST-MODIFIED:20170208T211220Z
UID:10001716-1623715200-1623801599@elh.umaine.edu
SUMMARY:Go Blue Friday
DESCRIPTION:The following days have been designated as UMaine’s Go Blue Fridays\, a chance to show your UMaine spirit and campus pride by wearing blue and/or UMaine clothing: Feb. 10 and 24; March 24; April 7 and 14; and May 12.
URL:https://elh.umaine.edu/event/go-blue-friday/2021-06-15/
LOCATION:ME
END:VEVENT
BEGIN:VEVENT
DTSTART;VALUE=DATE:20210616
DTEND;VALUE=DATE:20210617
DTSTAMP:20260421T133215
CREATED:20170208T211220Z
LAST-MODIFIED:20170208T211220Z
UID:10001717-1623801600-1623887999@elh.umaine.edu
SUMMARY:Go Blue Friday
DESCRIPTION:The following days have been designated as UMaine’s Go Blue Fridays\, a chance to show your UMaine spirit and campus pride by wearing blue and/or UMaine clothing: Feb. 10 and 24; March 24; April 7 and 14; and May 12.
URL:https://elh.umaine.edu/event/go-blue-friday/2021-06-16/
LOCATION:ME
END:VEVENT
BEGIN:VEVENT
DTSTART;VALUE=DATE:20210617
DTEND;VALUE=DATE:20210618
DTSTAMP:20260421T133215
CREATED:20170208T211220Z
LAST-MODIFIED:20170208T211220Z
UID:10001718-1623888000-1623974399@elh.umaine.edu
SUMMARY:Go Blue Friday
DESCRIPTION:The following days have been designated as UMaine’s Go Blue Fridays\, a chance to show your UMaine spirit and campus pride by wearing blue and/or UMaine clothing: Feb. 10 and 24; March 24; April 7 and 14; and May 12.
URL:https://elh.umaine.edu/event/go-blue-friday/2021-06-17/
LOCATION:ME
END:VEVENT
BEGIN:VEVENT
DTSTART;VALUE=DATE:20210618
DTEND;VALUE=DATE:20210619
DTSTAMP:20260421T133215
CREATED:20170208T211220Z
LAST-MODIFIED:20170208T211220Z
UID:10001719-1623974400-1624060799@elh.umaine.edu
SUMMARY:Go Blue Friday
DESCRIPTION:The following days have been designated as UMaine’s Go Blue Fridays\, a chance to show your UMaine spirit and campus pride by wearing blue and/or UMaine clothing: Feb. 10 and 24; March 24; April 7 and 14; and May 12.
URL:https://elh.umaine.edu/event/go-blue-friday/2021-06-18/
LOCATION:ME
END:VEVENT
BEGIN:VEVENT
DTSTART;VALUE=DATE:20210619
DTEND;VALUE=DATE:20210620
DTSTAMP:20260421T133215
CREATED:20170208T211220Z
LAST-MODIFIED:20170208T211220Z
UID:10001720-1624060800-1624147199@elh.umaine.edu
SUMMARY:Go Blue Friday
DESCRIPTION:The following days have been designated as UMaine’s Go Blue Fridays\, a chance to show your UMaine spirit and campus pride by wearing blue and/or UMaine clothing: Feb. 10 and 24; March 24; April 7 and 14; and May 12.
URL:https://elh.umaine.edu/event/go-blue-friday/2021-06-19/
LOCATION:ME
END:VEVENT
BEGIN:VEVENT
DTSTART;VALUE=DATE:20210620
DTEND;VALUE=DATE:20210621
DTSTAMP:20260421T133215
CREATED:20170208T211220Z
LAST-MODIFIED:20170208T211220Z
UID:10001721-1624147200-1624233599@elh.umaine.edu
SUMMARY:Go Blue Friday
DESCRIPTION:The following days have been designated as UMaine’s Go Blue Fridays\, a chance to show your UMaine spirit and campus pride by wearing blue and/or UMaine clothing: Feb. 10 and 24; March 24; April 7 and 14; and May 12.
URL:https://elh.umaine.edu/event/go-blue-friday/2021-06-20/
LOCATION:ME
END:VEVENT
BEGIN:VEVENT
DTSTART;VALUE=DATE:20210621
DTEND;VALUE=DATE:20210622
DTSTAMP:20260421T133215
CREATED:20170208T211220Z
LAST-MODIFIED:20170208T211220Z
UID:10001722-1624233600-1624319999@elh.umaine.edu
SUMMARY:Go Blue Friday
DESCRIPTION:The following days have been designated as UMaine’s Go Blue Fridays\, a chance to show your UMaine spirit and campus pride by wearing blue and/or UMaine clothing: Feb. 10 and 24; March 24; April 7 and 14; and May 12.
URL:https://elh.umaine.edu/event/go-blue-friday/2021-06-21/
LOCATION:ME
END:VEVENT
BEGIN:VEVENT
DTSTART;VALUE=DATE:20210622
DTEND;VALUE=DATE:20210623
DTSTAMP:20260421T133215
CREATED:20170208T211220Z
LAST-MODIFIED:20170208T211220Z
UID:10001723-1624320000-1624406399@elh.umaine.edu
SUMMARY:Go Blue Friday
DESCRIPTION:The following days have been designated as UMaine’s Go Blue Fridays\, a chance to show your UMaine spirit and campus pride by wearing blue and/or UMaine clothing: Feb. 10 and 24; March 24; April 7 and 14; and May 12.
URL:https://elh.umaine.edu/event/go-blue-friday/2021-06-22/
LOCATION:ME
END:VEVENT
BEGIN:VEVENT
DTSTART;VALUE=DATE:20210623
DTEND;VALUE=DATE:20210624
DTSTAMP:20260421T133215
CREATED:20170208T211220Z
LAST-MODIFIED:20170208T211220Z
UID:10001724-1624406400-1624492799@elh.umaine.edu
SUMMARY:Go Blue Friday
DESCRIPTION:The following days have been designated as UMaine’s Go Blue Fridays\, a chance to show your UMaine spirit and campus pride by wearing blue and/or UMaine clothing: Feb. 10 and 24; March 24; April 7 and 14; and May 12.
URL:https://elh.umaine.edu/event/go-blue-friday/2021-06-23/
LOCATION:ME
END:VEVENT
BEGIN:VEVENT
DTSTART;VALUE=DATE:20210624
DTEND;VALUE=DATE:20210625
DTSTAMP:20260421T133215
CREATED:20170208T211220Z
LAST-MODIFIED:20170208T211220Z
UID:10001725-1624492800-1624579199@elh.umaine.edu
SUMMARY:Go Blue Friday
DESCRIPTION:The following days have been designated as UMaine’s Go Blue Fridays\, a chance to show your UMaine spirit and campus pride by wearing blue and/or UMaine clothing: Feb. 10 and 24; March 24; April 7 and 14; and May 12.
URL:https://elh.umaine.edu/event/go-blue-friday/2021-06-24/
LOCATION:ME
END:VEVENT
BEGIN:VEVENT
DTSTART;VALUE=DATE:20210625
DTEND;VALUE=DATE:20210626
DTSTAMP:20260421T133215
CREATED:20170208T211220Z
LAST-MODIFIED:20170208T211220Z
UID:10001726-1624579200-1624665599@elh.umaine.edu
SUMMARY:Go Blue Friday
DESCRIPTION:The following days have been designated as UMaine’s Go Blue Fridays\, a chance to show your UMaine spirit and campus pride by wearing blue and/or UMaine clothing: Feb. 10 and 24; March 24; April 7 and 14; and May 12.
URL:https://elh.umaine.edu/event/go-blue-friday/2021-06-25/
LOCATION:ME
END:VEVENT
BEGIN:VEVENT
DTSTART;VALUE=DATE:20210626
DTEND;VALUE=DATE:20210627
DTSTAMP:20260421T133215
CREATED:20170208T211220Z
LAST-MODIFIED:20170208T211220Z
UID:10001727-1624665600-1624751999@elh.umaine.edu
SUMMARY:Go Blue Friday
DESCRIPTION:The following days have been designated as UMaine’s Go Blue Fridays\, a chance to show your UMaine spirit and campus pride by wearing blue and/or UMaine clothing: Feb. 10 and 24; March 24; April 7 and 14; and May 12.
URL:https://elh.umaine.edu/event/go-blue-friday/2021-06-26/
LOCATION:ME
END:VEVENT
BEGIN:VEVENT
DTSTART;VALUE=DATE:20210627
DTEND;VALUE=DATE:20210628
DTSTAMP:20260421T133215
CREATED:20170208T211220Z
LAST-MODIFIED:20170208T211220Z
UID:10001728-1624752000-1624838399@elh.umaine.edu
SUMMARY:Go Blue Friday
DESCRIPTION:The following days have been designated as UMaine’s Go Blue Fridays\, a chance to show your UMaine spirit and campus pride by wearing blue and/or UMaine clothing: Feb. 10 and 24; March 24; April 7 and 14; and May 12.
URL:https://elh.umaine.edu/event/go-blue-friday/2021-06-27/
LOCATION:ME
END:VEVENT
BEGIN:VEVENT
DTSTART;VALUE=DATE:20210628
DTEND;VALUE=DATE:20210629
DTSTAMP:20260421T133215
CREATED:20170208T211220Z
LAST-MODIFIED:20170208T211220Z
UID:10001729-1624838400-1624924799@elh.umaine.edu
SUMMARY:Go Blue Friday
DESCRIPTION:The following days have been designated as UMaine’s Go Blue Fridays\, a chance to show your UMaine spirit and campus pride by wearing blue and/or UMaine clothing: Feb. 10 and 24; March 24; April 7 and 14; and May 12.
URL:https://elh.umaine.edu/event/go-blue-friday/2021-06-28/
LOCATION:ME
END:VEVENT
BEGIN:VEVENT
DTSTART;VALUE=DATE:20210629
DTEND;VALUE=DATE:20210630
DTSTAMP:20260421T133215
CREATED:20170208T211220Z
LAST-MODIFIED:20170208T211220Z
UID:10001730-1624924800-1625011199@elh.umaine.edu
SUMMARY:Go Blue Friday
DESCRIPTION:The following days have been designated as UMaine’s Go Blue Fridays\, a chance to show your UMaine spirit and campus pride by wearing blue and/or UMaine clothing: Feb. 10 and 24; March 24; April 7 and 14; and May 12.
URL:https://elh.umaine.edu/event/go-blue-friday/2021-06-29/
LOCATION:ME
END:VEVENT
BEGIN:VEVENT
DTSTART;VALUE=DATE:20210630
DTEND;VALUE=DATE:20210701
DTSTAMP:20260421T133215
CREATED:20170208T211220Z
LAST-MODIFIED:20170208T211220Z
UID:10001731-1625011200-1625097599@elh.umaine.edu
SUMMARY:Go Blue Friday
DESCRIPTION:The following days have been designated as UMaine’s Go Blue Fridays\, a chance to show your UMaine spirit and campus pride by wearing blue and/or UMaine clothing: Feb. 10 and 24; March 24; April 7 and 14; and May 12.
URL:https://elh.umaine.edu/event/go-blue-friday/2021-06-30/
LOCATION:ME
END:VEVENT
END:VCALENDAR