BEGIN:VCALENDAR
VERSION:2.0
PRODID:-//College of Earth, Life, and Health Sciences - ECPv6.15.17.1//NONSGML v1.0//EN
CALSCALE:GREGORIAN
METHOD:PUBLISH
X-WR-CALNAME:College of Earth, Life, and Health Sciences
X-ORIGINAL-URL:https://elh.umaine.edu
X-WR-CALDESC:Events for College of Earth, Life, and Health Sciences
REFRESH-INTERVAL;VALUE=DURATION:PT1H
X-Robots-Tag:noindex
X-PUBLISHED-TTL:PT1H
BEGIN:VTIMEZONE
TZID:America/New_York
BEGIN:DAYLIGHT
TZOFFSETFROM:-0500
TZOFFSETTO:-0400
TZNAME:EDT
DTSTART:20140309T070000
END:DAYLIGHT
BEGIN:STANDARD
TZOFFSETFROM:-0400
TZOFFSETTO:-0500
TZNAME:EST
DTSTART:20141102T060000
END:STANDARD
BEGIN:DAYLIGHT
TZOFFSETFROM:-0500
TZOFFSETTO:-0400
TZNAME:EDT
DTSTART:20150308T070000
END:DAYLIGHT
BEGIN:STANDARD
TZOFFSETFROM:-0400
TZOFFSETTO:-0500
TZNAME:EST
DTSTART:20151101T060000
END:STANDARD
BEGIN:DAYLIGHT
TZOFFSETFROM:-0500
TZOFFSETTO:-0400
TZNAME:EDT
DTSTART:20160313T070000
END:DAYLIGHT
BEGIN:STANDARD
TZOFFSETFROM:-0400
TZOFFSETTO:-0500
TZNAME:EST
DTSTART:20161106T060000
END:STANDARD
END:VTIMEZONE
BEGIN:VEVENT
DTSTART;TZID=America/New_York:20151001T150000
DTEND;TZID=America/New_York:20151001T160000
DTSTAMP:20260421T152821
CREATED:20150916T233447Z
LAST-MODIFIED:20150917T174547Z
UID:10000098-1443711600-1443715200@elh.umaine.edu
SUMMARY:"Cold Snaps\, Heat Waves\, and Arthropod Growth"
DESCRIPTION:Presented by:  Dr. Bernie Roitberg\, Simon Fraser University \nHosted by:   Ellie Groden & Frank Drummond \nSchool of Biology and Ecology Seminar Series Fall 2015
URL:https://elh.umaine.edu/event/cold-snaps-heat-waves-and-arthropod-growth/
LOCATION:ME
CATEGORIES:Lectures & Seminars
END:VEVENT
BEGIN:VEVENT
DTSTART;TZID=America/New_York:20151004T080000
DTEND;TZID=America/New_York:20151004T170000
DTSTAMP:20260421T152821
CREATED:20150925T174106Z
LAST-MODIFIED:20150925T174106Z
UID:10000120-1443945600-1443978000@elh.umaine.edu
SUMMARY:Open House - School of Forest Resources
DESCRIPTION:
URL:https://elh.umaine.edu/event/open-house-school-of-forest-resources/
LOCATION:ME
END:VEVENT
BEGIN:VEVENT
DTSTART;TZID=America/New_York:20151005T120000
DTEND;TZID=America/New_York:20151005T130000
DTSTAMP:20260421T152821
CREATED:20150918T170321Z
LAST-MODIFIED:20150918T170321Z
UID:10000084-1444046400-1444050000@elh.umaine.edu
SUMMARY:"Movements and Management of Diadromous Fish Species in the Northwestern Atlantic"
DESCRIPTION:Presented by:  Adrian Jordaan\, University of Massachusetts\, Amherst \nDepartment of Wildlife\, Fisheries\, and Conservation Biology Fall 2015 Seminar Series
URL:https://elh.umaine.edu/event/movements-and-management-of-diadromous-fish-species-in-the-northwestern-atlantic/
LOCATION:ME
CATEGORIES:Lectures & Seminars
END:VEVENT
BEGIN:VEVENT
DTSTART;TZID=America/New_York:20151005T120000
DTEND;TZID=America/New_York:20151005T130000
DTSTAMP:20260421T152821
CREATED:20150925T174357Z
LAST-MODIFIED:20150925T174357Z
UID:10000121-1444046400-1444050000@elh.umaine.edu
SUMMARY:"Intercultural Competence: A Discourse on Awareness\, Knowledge\, and Skills"
DESCRIPTION:Presented by:  Dr. Caroline Brackette \nHosted by:  School of Forest Resources and the U.S. Forest Service
URL:https://elh.umaine.edu/event/intercultural-competence-a-discourse-on-awareness-knowledge-and-skills/
LOCATION:107 Mitchell Center\, ME\, United States
CATEGORIES:Lectures & Seminars
GEO:45.253783;-69.4454689
END:VEVENT
BEGIN:VEVENT
DTSTART;TZID=America/New_York:20151005T150000
DTEND;TZID=America/New_York:20151005T160000
DTSTAMP:20260421T152821
CREATED:20150915T223918Z
LAST-MODIFIED:20150915T230101Z
UID:10000093-1444057200-1444060800@elh.umaine.edu
SUMMARY:"Restoring the Rio Grande and Colorado Rivers: the Visionary and the Practical"
DESCRIPTION:Presented by:  Jack Schmidt\, Professor of Stream Geomorphology\, Utah State University \nHosted by: Senator George J. Mitchell Center for Sustainability Solutions
URL:https://elh.umaine.edu/event/restoring-the-rio-grande-and-colorado-rivers-the-visionary-and-the-practical/
LOCATION:ME
CATEGORIES:Lectures & Seminars
END:VEVENT
BEGIN:VEVENT
DTSTART;TZID=America/New_York:20151005T153000
DTEND;TZID=America/New_York:20151005T170000
DTSTAMP:20260421T152821
CREATED:20150831T205245Z
LAST-MODIFIED:20150831T205649Z
UID:10000054-1444059000-1444064400@elh.umaine.edu
SUMMARY:14th Annual Geddes Simpson Lecture
DESCRIPTION:Open Season on Chickadees: A Field Guide to the Anthropocene \nBy Mark W. Anderson
URL:https://elh.umaine.edu/event/14th-annual-geddes-simpson-lecture/
LOCATION:McIntire Room\, Buchanan Alumni House\, University of Maine\, Orono\, ME\, 04469\, United States
CATEGORIES:Lectures & Seminars
GEO:44.897732;-68.6687076
X-APPLE-STRUCTURED-LOCATION;VALUE=URI;X-ADDRESS=McIntire Room Buchanan Alumni House University of Maine Orono ME 04469 United States;X-APPLE-RADIUS=500;X-TITLE=University of Maine:geo:-68.6687076,44.897732
END:VEVENT
BEGIN:VEVENT
DTSTART;TZID=America/New_York:20151007T090000
DTEND;TZID=America/New_York:20151007T100000
DTSTAMP:20260421T152821
CREATED:20150904T192924Z
LAST-MODIFIED:20150904T193458Z
UID:10000045-1444208400-1444212000@elh.umaine.edu
SUMMARY:ERS Seminar - "The Ocean's Role in the Ice Age Cycles: A View from the South Pacific?"
DESCRIPTION:Brown Bag Luncheon Seminar presented by Dr. Katherine Allen
URL:https://elh.umaine.edu/event/ers-seminar-the-oceans-role-in-the-ice-age-cycles-a-view-from-the-south-pacific/
LOCATION:ME
END:VEVENT
BEGIN:VEVENT
DTSTART;TZID=America/New_York:20151009T120000
DTEND;TZID=America/New_York:20151009T130000
DTSTAMP:20260421T152821
CREATED:20150908T215114Z
LAST-MODIFIED:20150921T174237Z
UID:10000050-1444392000-1444395600@elh.umaine.edu
SUMMARY:"Forestry in China"
DESCRIPTION:Speaker: Xiao Han\, University of Toronto \nSchool of Forest Resources Seminar – \nPlum Creek Room
URL:https://elh.umaine.edu/event/forestry-in-china/
LOCATION:ME
CATEGORIES:Lectures & Seminars
END:VEVENT
BEGIN:VEVENT
DTSTART;TZID=America/New_York:20151009T150000
DTEND;TZID=America/New_York:20151009T160000
DTSTAMP:20260421T152821
CREATED:20150916T233715Z
LAST-MODIFIED:20150921T173758Z
UID:10000099-1444402800-1444406400@elh.umaine.edu
SUMMARY:"Ecosystem Response to Climate Change: A Whole Lake Experiment in the Arctic"
DESCRIPTION:Presented by:  Dr. Jasmine Saros\, University of Maine \nSchool of Biology and Ecology Seminar Series Fall 2015
URL:https://elh.umaine.edu/event/ecosystem-response-to-climate-change-a-whole-lake-experiment-in-the-arctic/
LOCATION:ME
CATEGORIES:Lectures & Seminars
END:VEVENT
BEGIN:VEVENT
DTSTART;TZID=America/New_York:20151010T180000
DTEND;TZID=America/New_York:20151010T200000
DTSTAMP:20260421T152821
CREATED:20150903T170002Z
LAST-MODIFIED:20150903T170646Z
UID:10000053-1444500000-1444507200@elh.umaine.edu
SUMMARY:150th Anniversary Open House
DESCRIPTION:In honor of UMaine and Boothby’s Farm and Orchard.
URL:https://elh.umaine.edu/event/150th-anniversary-open-house/
LOCATION:Boothby’s Farm and Orchard\, 366 Boothby Road\, Livermore\, ME\, 04253\, United States
CATEGORIES:Outreach Events
ORGANIZER;CN="Elizabeth Erickson":MAILTO:elizabeth.erickson@maine.edu
GEO:44.3758021;-70.2051809
X-APPLE-STRUCTURED-LOCATION;VALUE=URI;X-ADDRESS=Boothby’s Farm and Orchard 366 Boothby Road Livermore ME 04253 United States;X-APPLE-RADIUS=500;X-TITLE=366 Boothby Road:geo:-70.2051809,44.3758021
END:VEVENT
BEGIN:VEVENT
DTSTART;TZID=America/New_York:20151014T120000
DTEND;TZID=America/New_York:20151014T130000
DTSTAMP:20260421T152821
CREATED:20150904T193333Z
LAST-MODIFIED:20150904T193333Z
UID:10000046-1444824000-1444827600@elh.umaine.edu
SUMMARY:ERS Seminar - "Radio-glaciology in Alaska and Antarctica: Case Studies Using Radar for Ice Core Sites and Ice Flow Dynamics Research"
DESCRIPTION:Brown Bag Luncheon Seminar presented by Dr. Seth Campbell.
URL:https://elh.umaine.edu/event/ers-seminar-radio-glaciology-in-alaska-and-antarctica-case-studies-using-radar-for-ice-core-sites-and-ice-flow-dynamics-research/
LOCATION:Bryand Global Science Bldg.\, 100 Bryand Global Science Bldg.\, Orono\, ME\, United States
GEO:44.8831125;-68.6719411
X-APPLE-STRUCTURED-LOCATION;VALUE=URI;X-ADDRESS=Bryand Global Science Bldg. 100 Bryand Global Science Bldg. Orono ME United States;X-APPLE-RADIUS=500;X-TITLE=100 Bryand Global Science Bldg.:geo:-68.6719411,44.8831125
END:VEVENT
BEGIN:VEVENT
DTSTART;TZID=America/New_York:20151015T080000
DTEND;TZID=America/New_York:20151015T170000
DTSTAMP:20260421T152821
CREATED:20150925T173733Z
LAST-MODIFIED:20150925T173945Z
UID:10000119-1444896000-1444928400@elh.umaine.edu
SUMMARY:Plum Creek Summer Internship Interviews
DESCRIPTION:Plum Creek will hold interviews for it’s summer internship on October 15th.  Sign-ups are located outside of Nutting Hall-Room 201.
URL:https://elh.umaine.edu/event/plum-creek-summer-internship-interviews/
LOCATION:201 Nutting Hall\, 201 Nutting Hall
CATEGORIES:Outreach Events
GEO:45.1888497;-109.250549
X-APPLE-STRUCTURED-LOCATION;VALUE=URI;X-ADDRESS=201 Nutting Hall 201 Nutting Hall;X-APPLE-RADIUS=500;X-TITLE=201 Nutting Hall:geo:-109.250549,45.1888497
END:VEVENT
BEGIN:VEVENT
DTSTART;TZID=America/New_York:20151015T120000
DTEND;TZID=America/New_York:20151015T130000
DTSTAMP:20260421T152821
CREATED:20150908T215335Z
LAST-MODIFIED:20150921T174130Z
UID:10000051-1444910400-1444914000@elh.umaine.edu
SUMMARY:"Nineteen Percent of Maine in Conservation - How We Got Here and Issues for the Future"
DESCRIPTION:Speaker:  Lloyd Irland\, the Irland Group \nSchool of Forest Resources Seminars – \nPlum Creek Room
URL:https://elh.umaine.edu/event/nineteen-percent-of-maine-in-conservation-how-we-got-here-and-issues-for-the-future/
LOCATION:ME
CATEGORIES:Lectures & Seminars
END:VEVENT
BEGIN:VEVENT
DTSTART;TZID=America/New_York:20151015T130000
DTEND;TZID=America/New_York:20151015T140000
DTSTAMP:20260421T152821
CREATED:20150918T191138Z
LAST-MODIFIED:20150918T191138Z
UID:10000005-1444914000-1444917600@elh.umaine.edu
SUMMARY:"When Science Meets Politics: Symphony or Slugfest?"
DESCRIPTION:Presented by:  Roger Pielke\, Jr.\, Center for Science and Technology Policy Research\, Boulder\, CO \n2015 Mitchell Lecture on Sustainability \n(partially sponsored by the School of Economics)
URL:https://elh.umaine.edu/event/when-science-meets-politics-symphony-or-slugfest/
LOCATION:Haulk Auditorium\, Haulk Auditorium\, Orono\, ME\, United States
CATEGORIES:Lectures & Seminars
GEO:44.8831125;-68.6719411
X-APPLE-STRUCTURED-LOCATION;VALUE=URI;X-ADDRESS=Haulk Auditorium Haulk Auditorium Orono ME United States;X-APPLE-RADIUS=500;X-TITLE=Haulk Auditorium:geo:-68.6719411,44.8831125
END:VEVENT
BEGIN:VEVENT
DTSTART;TZID=America/New_York:20151016T150000
DTEND;TZID=America/New_York:20151016T160000
DTSTAMP:20260421T152821
CREATED:20150916T234026Z
LAST-MODIFIED:20150917T174730Z
UID:10000089-1445007600-1445011200@elh.umaine.edu
SUMMARY:"Regulation of Bone Remodeling by Systemic Metabolism"
DESCRIPTION:Presented by:  Dr. Katherine Motyl\, Maine Medial Center Research Institute \nHosted by:  Kristy Townsend \nSchool of Biology and Ecology Seminar Series Fall 2015
URL:https://elh.umaine.edu/event/regulation-of-bone-remodeling-by-systemic-metabolism/
LOCATION:ME
CATEGORIES:Lectures & Seminars
END:VEVENT
BEGIN:VEVENT
DTSTART;TZID=America/New_York:20151019T120000
DTEND;TZID=America/New_York:20151019T130000
DTSTAMP:20260421T152821
CREATED:20150918T174026Z
LAST-MODIFIED:20150918T174026Z
UID:10000085-1445256000-1445259600@elh.umaine.edu
SUMMARY:"Limits to Growth Imposed by Peak Energy\, Climate\, and Debt:  A Grim Outlook for Wildlife\, Ecologists\, and the Academic-Industrial Complex"
DESCRIPTION:Presented by:  Stephen Coghlan\, University of Maine\, WF&CB \nDepartment of Wildlife\, Fisheries\, and Conservation Biology Fall 2015 Seminar Series
URL:https://elh.umaine.edu/event/limits-to-growth-imposed-by-peak-energy-climate-and-debt-a-grim-outlook-for-wildlife-ecologists-and-the-academic-industrial-complex/
LOCATION:Norman Smith Hall\, 107 Norman Smith Hall\, Orono\, ME\, United States
CATEGORIES:Lectures & Seminars
GEO:44.8984846;-68.6674501
X-APPLE-STRUCTURED-LOCATION;VALUE=URI;X-ADDRESS=Norman Smith Hall 107 Norman Smith Hall Orono ME United States;X-APPLE-RADIUS=500;X-TITLE=107 Norman Smith Hall:geo:-68.6674501,44.8984846
END:VEVENT
BEGIN:VEVENT
DTSTART;TZID=America/New_York:20151019T150000
DTEND;TZID=America/New_York:20151019T160000
DTSTAMP:20260421T152821
CREATED:20150915T225241Z
LAST-MODIFIED:20150915T230141Z
UID:10000094-1445266800-1445270400@elh.umaine.edu
SUMMARY:"Climate Change and Agriculture: Views from the Farm"
DESCRIPTION:Presented by:  Meredith T. Niles\, Assistant Professor\, Food Sciences & Nutrition\, University of Vermont \nHosted by: Senator George J. Mitchell Center for Sustainability Solutions
URL:https://elh.umaine.edu/event/climate-change-and-agriculture-views-from-the-farm/
LOCATION:ME
CATEGORIES:Lectures & Seminars
END:VEVENT
BEGIN:VEVENT
DTSTART;TZID=America/New_York:20151020T124500
DTEND;TZID=America/New_York:20151020T134500
DTSTAMP:20260421T152821
CREATED:20151015T171509Z
LAST-MODIFIED:20151015T171509Z
UID:10000122-1445345100-1445348700@elh.umaine.edu
SUMMARY:"Resilient Agriculture: Cultivating Food Systems for a Changing Climate - "Is Sustainable Agriculture Climate-Ready?"
DESCRIPTION:Presented by: Dr. Laura Lengnick \nAuthor of “Resilient Agriculture: Cultivating Food Systems for a Changing Climate ” \nSponsored by the School of Food and Agriculture\, Honors College\, Cooperative Extension\, Maine Agricultural and Forestry Experiment Station\, School of Biology and Ecology
URL:https://elh.umaine.edu/event/resilient-agriculture-cultivating-food-systems-for-a-changing-climate-is-sustainable-agriculture-climate-ready/
LOCATION:141 Bennett Hall\, 141 Bennett hall\, ME\, United States
CATEGORIES:Lectures & Seminars
GEO:44.9029387;-68.6684376
X-APPLE-STRUCTURED-LOCATION;VALUE=URI;X-ADDRESS=141 Bennett Hall 141 Bennett hall ME United States;X-APPLE-RADIUS=500;X-TITLE=141 Bennett hall:geo:-68.6684376,44.9029387
END:VEVENT
BEGIN:VEVENT
DTSTART;TZID=America/New_York:20151022T120000
DTEND;TZID=America/New_York:20151022T130000
DTSTAMP:20260421T152821
CREATED:20150921T174959Z
LAST-MODIFIED:20150921T174959Z
UID:10000010-1445515200-1445518800@elh.umaine.edu
SUMMARY:"Integrating Inventory - and Process-Based Approaches in the Second State of the Carbon Cycle Report: A Case Study for Canada's Managed Forest"
DESCRIPTION:Presented by: Daniel Hayes\, University of Maine \nSchool of Forest Resources Seminars – Plum Creek Room
URL:https://elh.umaine.edu/event/integrating-inventory-and-process-based-approaches-in-the-second-state-of-the-carbon-cycle-report-a-case-study-for-canadas-managed-forest/
LOCATION:ME
CATEGORIES:Lectures & Seminars
END:VEVENT
BEGIN:VEVENT
DTSTART;TZID=America/New_York:20151023T150000
DTEND;TZID=America/New_York:20151023T160000
DTSTAMP:20260421T152821
CREATED:20150916T234228Z
LAST-MODIFIED:20150917T174810Z
UID:10000088-1445612400-1445616000@elh.umaine.edu
SUMMARY:"Sea Otters\, Kelp Forest and Fishing Effects on Marine Ecosystems of Vancouver Island"
DESCRIPTION:Presented by:  Dr. John Shurin\, UC San Diego \nHosted by:  Hamish Greig \nSchool of Biology and Ecology Seminar Series Fall 2015
URL:https://elh.umaine.edu/event/sea-otters-kelp-forest-and-fishing-effects-on-marine-ecosystems-of-vancouver-island/
LOCATION:ME
CATEGORIES:Lectures & Seminars
END:VEVENT
BEGIN:VEVENT
DTSTART;TZID=America/New_York:20151026T120000
DTEND;TZID=America/New_York:20151026T130000
DTSTAMP:20260421T152821
CREATED:20150918T185149Z
LAST-MODIFIED:20150918T185149Z
UID:10000086-1445860800-1445864400@elh.umaine.edu
SUMMARY:"Predicting How Life-History\, Habitat\, and Climate Interact to Affect Amphibian Population Dynamics Using Dynamic Species Distribution Models"
DESCRIPTION:Presented by: Dave Miller\, Penn State University \nDepartment of Wildlife\, Fisheries\, and Conservation Biology Fall 2015 Seminar Series \n(Co-sponsored with TWS)
URL:https://elh.umaine.edu/event/predicting-how-life-history-habitat-and-climate-interact-to-affect-amphibian-population-dynamics-using-dynamic-species-distribution-models/
LOCATION:ME
CATEGORIES:Lectures & Seminars
END:VEVENT
BEGIN:VEVENT
DTSTART;TZID=America/New_York:20151030T121000
DTEND;TZID=America/New_York:20151030T130000
DTSTAMP:20260421T152821
CREATED:20150918T191556Z
LAST-MODIFIED:20150918T191556Z
UID:10000006-1446207000-1446210000@elh.umaine.edu
SUMMARY:"Identifying the Impacts of Critical Habitat Designation on Land Cover"
DESCRIPTION:Presented by:  Eric Nelson\, Assistant Professor\, Department of Economics\, Bowdoin College \nSchool of Economics 2015 Fall Seminar
URL:https://elh.umaine.edu/event/identifying-the-impacts-of-critical-habitat-designation-on-land-cover/
LOCATION:ME
CATEGORIES:Lectures & Seminars
END:VEVENT
BEGIN:VEVENT
DTSTART;TZID=America/New_York:20151030T150000
DTEND;TZID=America/New_York:20151030T160000
DTSTAMP:20260421T152821
CREATED:20150916T234414Z
LAST-MODIFIED:20150917T174848Z
UID:10000087-1446217200-1446220800@elh.umaine.edu
SUMMARY:"Dynamic Macroecology for a Changing World"
DESCRIPTION:Presented by:  Dr. Sarah Supp\, University of Maine \nHosted by:  Brian McGill \nSchool of Biology and Ecology Seminar Series Fall 2015
URL:https://elh.umaine.edu/event/dynamic-macroecology-for-a-changing-world/
LOCATION:ME
CATEGORIES:Lectures & Seminars
END:VEVENT
BEGIN:VEVENT
DTSTART;TZID=America/New_York:20151102T120000
DTEND;TZID=America/New_York:20151102T130000
DTSTAMP:20260421T152821
CREATED:20150918T185356Z
LAST-MODIFIED:20150918T185356Z
UID:10000100-1446465600-1446469200@elh.umaine.edu
SUMMARY:"The Conservation Broker: Bridging the Gap Between Academic Research and Wildlife Management"
DESCRIPTION:Presented by:  Jacqueline Frair\, SUNY – ESF \nDepartment of Wildlife\, Fisheries\, and Conservation Biology Fall 2015 Seminar Series
URL:https://elh.umaine.edu/event/the-conservation-broker-bridging-the-gap-between-academic-research-and-wildlife-management/
LOCATION:ME
CATEGORIES:Lectures & Seminars
END:VEVENT
BEGIN:VEVENT
DTSTART;TZID=America/New_York:20151102T150000
DTEND;TZID=America/New_York:20151102T160000
DTSTAMP:20260421T152821
CREATED:20150915T225818Z
LAST-MODIFIED:20150915T225818Z
UID:10000095-1446476400-1446480000@elh.umaine.edu
SUMMARY:"Talking Trash: The Sustainability Challenge Hiding in Plain Sight"
DESCRIPTION:Presented by:  Cindy Isenhour\, (Department of Anthropology) and the Materials Management Team\, UMaine \nHosted by: Senator George J. Mitchell Center for Sustainability Solutions
URL:https://elh.umaine.edu/event/talking-trash-the-sustainability-challenge-hiding-in-plain-sight/
LOCATION:ME
CATEGORIES:Lectures & Seminars
END:VEVENT
BEGIN:VEVENT
DTSTART;TZID=America/New_York:20151106T120000
DTEND;TZID=America/New_York:20151106T130000
DTSTAMP:20260421T152821
CREATED:20150908T220717Z
LAST-MODIFIED:20150921T175118Z
UID:10000065-1446811200-1446814800@elh.umaine.edu
SUMMARY:"Maine Ecological Reserves: Forest Benchmarks in a Changing Landscape"
DESCRIPTION:Speaker:  Andy Cutko\, Maine Natural Area Program \n  \nSchool of Forest Resources Seminar – Plum Creek Room
URL:https://elh.umaine.edu/event/maine-ecological-reserves-forest-benchmarks-in-a-changing-landscape/
LOCATION:ME
CATEGORIES:Lectures & Seminars
END:VEVENT
BEGIN:VEVENT
DTSTART;TZID=America/New_York:20151106T121000
DTEND;TZID=America/New_York:20151106T130000
DTSTAMP:20260421T152821
CREATED:20150918T192513Z
LAST-MODIFIED:20150918T192513Z
UID:10000007-1446811800-1446814800@elh.umaine.edu
SUMMARY:"Economic Shocks and Conflict: Evidence from Commodity Prices-A Comment"
DESCRIPTION:Presented by:  Daniel Riera-Crichton\, Associate Professor\, Department of Economics\, Bates College \nSchool of Economics 2015 Fall Seminars
URL:https://elh.umaine.edu/event/economic-shocks-and-conflict-evidence-from-commodity-prices-a-comment/
LOCATION:ME
CATEGORIES:Lectures & Seminars
END:VEVENT
BEGIN:VEVENT
DTSTART;TZID=America/New_York:20151106T150000
DTEND;TZID=America/New_York:20151106T160000
DTSTAMP:20260421T152821
CREATED:20150917T174459Z
LAST-MODIFIED:20150917T174459Z
UID:10000068-1446822000-1446825600@elh.umaine.edu
SUMMARY:"Cooperation and Conflict Within Pollination Networks"
DESCRIPTION:Presented by:  Dr. Carla Essenberg\, Bates College \nHosted by:  Kalyn Bickerman \nSchool of Biology and Ecology Seminar Series Fall 2015
URL:https://elh.umaine.edu/event/cooperation-and-conflict-within-pollination-networks/
LOCATION:ME
CATEGORIES:Lectures & Seminars
END:VEVENT
BEGIN:VEVENT
DTSTART;TZID=America/New_York:20151109T120000
DTEND;TZID=America/New_York:20151109T130000
DTSTAMP:20260421T152821
CREATED:20150918T185700Z
LAST-MODIFIED:20150918T185701Z
UID:10000001-1447070400-1447074000@elh.umaine.edu
SUMMARY:"Maine's Wild Brook Trout: The Past\, Present and Future of a Heritage Fish"
DESCRIPTION:Presented by Merry Gallagher\, Maine Department of Inland Fisheries and Wildlife \nDepartment of Wildlife\, Fisheries\, and Conservation Biology Fall 2015 Seminar Series
URL:https://elh.umaine.edu/event/maines-wild-brook-trout-the-past-present-and-future-of-a-heritage-fish/
LOCATION:ME
CATEGORIES:Lectures & Seminars
END:VEVENT
BEGIN:VEVENT
DTSTART;TZID=America/New_York:20151109T150000
DTEND;TZID=America/New_York:20151109T160000
DTSTAMP:20260421T152821
CREATED:20150831T193006Z
LAST-MODIFIED:20150831T193006Z
UID:10000063-1447081200-1447084800@elh.umaine.edu
SUMMARY:Adaptive management: So you say it’s a key to resilience?
DESCRIPTION:Many scholars have called for a paradigm shift in fisheries governance away from management approaches that require definitive information about stock size and dynamics to those that build social-ecological resilience. In this rapidly growing body of research\, adaptability is routinely described as one of a short list of mechanisms\, along with modularity\, diversity\, and transformability\, that cultivate resilience and buffer systems against social and ecological disturbances. However\, while many advocate for adaptability (defined as the capacity of actors to test and revise a system through a dynamic and ongoing process by way of trial and error)\, the basic assertion that adaptability increases resilience has been largely taken as a given. In this presentation\, I draw on multiple data sources and methods to examine the history\, evolution\, and current status of multiple institutions in Maine\, and illustrate how the process of continually modifying the management system by way of trial and error has decreased the resilience of fisheries in Maine. With this analysis I show how the layering of a series of well-intended but myopic species-specific management decisions have affected the general social resilience of the fishing fleet in Maine over a quarter century\, whereby bringing increased attention to the complex interplay between adaptability and resilience. \nJoshua Stoll is a Ph.D. candidate in the School of Marine Sciences at the University of Maine and a Robert and Patricia Switzer Fellow. His current research focuses on the transition towards ecosystem-based fisheries management in the Gulf of Maine and how different social institutions are impeding (and/or enabling) this change. More broadly\, his work seeks to address pressing questions about the interplay between coupled social and ecological systems with the purpose of contributing to the long-term sustainability of our oceans and the communities that depend upon them. Stoll has been engaged in fisheries-related issues for a decade\, working in multiple regions and across a wide spectrum of sectors. Most recently\, he worked for the directorate of the National Marine Fisheries Service where he gained exposure to the federal policymaking process. Stoll is a co-founder of LocalCatch.org\, an international network of small-scale fishers and community-based organizations committed to providing local\, healthful\, low-impact seafood via community supported fisheries and direct marketing arrangements. He holds a bachelor’s degree in environmental studies from Bates College and a master’s degree in coastal environmental management from Duke University.
URL:https://elh.umaine.edu/event/adaptive-management-so-you-say-its-a-key-to-resilience/
LOCATION:Senator George J. Mitchell Center\, Norman Smith Hall\, University of Maine\, Orono\, ME\, 04469\, United States
CATEGORIES:Lectures & Seminars
GEO:44.897732;-68.6687076
X-APPLE-STRUCTURED-LOCATION;VALUE=URI;X-ADDRESS=Senator George J. Mitchell Center Norman Smith Hall University of Maine Orono ME 04469 United States;X-APPLE-RADIUS=500;X-TITLE=Norman Smith Hall\, University of Maine:geo:-68.6687076,44.897732
END:VEVENT
END:VCALENDAR