BEGIN:VCALENDAR
VERSION:2.0
PRODID:-//College of Earth, Life, and Health Sciences - ECPv6.15.17.1//NONSGML v1.0//EN
CALSCALE:GREGORIAN
METHOD:PUBLISH
X-WR-CALNAME:College of Earth, Life, and Health Sciences
X-ORIGINAL-URL:https://elh.umaine.edu
X-WR-CALDESC:Events for College of Earth, Life, and Health Sciences
REFRESH-INTERVAL;VALUE=DURATION:PT1H
X-Robots-Tag:noindex
X-PUBLISHED-TTL:PT1H
BEGIN:VTIMEZONE
TZID:America/New_York
BEGIN:DAYLIGHT
TZOFFSETFROM:-0500
TZOFFSETTO:-0400
TZNAME:EDT
DTSTART:20140309T070000
END:DAYLIGHT
BEGIN:STANDARD
TZOFFSETFROM:-0400
TZOFFSETTO:-0500
TZNAME:EST
DTSTART:20141102T060000
END:STANDARD
BEGIN:DAYLIGHT
TZOFFSETFROM:-0500
TZOFFSETTO:-0400
TZNAME:EDT
DTSTART:20150308T070000
END:DAYLIGHT
BEGIN:STANDARD
TZOFFSETFROM:-0400
TZOFFSETTO:-0500
TZNAME:EST
DTSTART:20151101T060000
END:STANDARD
BEGIN:DAYLIGHT
TZOFFSETFROM:-0500
TZOFFSETTO:-0400
TZNAME:EDT
DTSTART:20160313T070000
END:DAYLIGHT
BEGIN:STANDARD
TZOFFSETFROM:-0400
TZOFFSETTO:-0500
TZNAME:EST
DTSTART:20161106T060000
END:STANDARD
BEGIN:DAYLIGHT
TZOFFSETFROM:-0500
TZOFFSETTO:-0400
TZNAME:EDT
DTSTART:20170312T070000
END:DAYLIGHT
BEGIN:STANDARD
TZOFFSETFROM:-0400
TZOFFSETTO:-0500
TZNAME:EST
DTSTART:20171105T060000
END:STANDARD
END:VTIMEZONE
BEGIN:VEVENT
DTSTART;TZID=America/New_York:20151129T110000
DTEND;TZID=America/New_York:20151129T170000
DTSTAMP:20260421T153701
CREATED:20151201T011343Z
LAST-MODIFIED:20151201T011549Z
UID:10000125-1448794800-1448816400@elh.umaine.edu
SUMMARY:Xi Sigma Pi "The Great Christmas Tree Sale"
DESCRIPTION:Come Support a Good Cause! All proceeds go to Scholarships. \nNovember 29th through December 20th or until all trees are sold. \nMonday-Thursday 3:00pm – 5:00pm \nFriday  12:00pm – 5:00pm \nSaturday-Sunday  9:00am – 4:00pm \nTrees are purchased from the Charlotte White Center’s Highland Blue Ribbon Trees Program\, providing jobs for the disabled.
URL:https://elh.umaine.edu/event/xi-sigma-pi-the-great-christmas-tree-sale/2015-11-29/
LOCATION:ME
END:VEVENT
BEGIN:VEVENT
DTSTART;TZID=America/New_York:20151130T120000
DTEND;TZID=America/New_York:20151130T130000
DTSTAMP:20260421T153701
CREATED:20150918T190554Z
LAST-MODIFIED:20150918T190554Z
UID:10000004-1448884800-1448888400@elh.umaine.edu
SUMMARY:"Use of Air to Force Improvements in Fish Passage Rates - Methods Under Development at the S.O. Conte Anadromous Fish Research Center" Center
DESCRIPTION:Presented by:  Barnaby Watten\, U.S. Geological Survey\, Conte Anadromous Fish Research Center \nDepartment of Wildlife\, Fisheries\, and Conservation Biology Fall 2015 Seminar Series
URL:https://elh.umaine.edu/event/use-of-air-to-force-improvements-in-fish-passage-rates-methods-under-development-at-the-s-o-conte-anadromous-fish-research-center-center/
LOCATION:ME
CATEGORIES:Lectures & Seminars
END:VEVENT
BEGIN:VEVENT
DTSTART;TZID=America/New_York:20151130T150000
DTEND;TZID=America/New_York:20151130T160000
DTSTAMP:20260421T153701
CREATED:20150831T193157Z
LAST-MODIFIED:20150831T193157Z
UID:10000064-1448895600-1448899200@elh.umaine.edu
SUMMARY:Community solar: Harnessing the power of the people
DESCRIPTION:Speaker: Sharon Klein\, assistant professor\, School of Economics\, University of Maine \n“Community energy” is a growing movement in the US and around the world. People are adopting sustainable energy technologies and strategies (renewable energy\, energy efficiency\, conservation) in groups and/or on shared property\, in contrast to traditional individualistic adoption. What is motivating this group adoption? What are the different ways community energy is being implemented? What benefits and challenges are associated with these different implementation methods? How can this “power of the people” be harnessed to achieve a more sustainable energy system? These overarching questions drive this research\, which focuses on community solar as a subset of the larger community energy movement. This presentation will include an overview of the types of community solar projects currently being implemented across the United States\, including results from a new national database of nearly 6\,000 community solar projects. In addition\, Klein will present the results of a survey of participants in five main types of community solar projects (Solarize\, solar farms\, municipal solar\, solar schools and nonprofit solar) in Maine\, Massachusetts\, and Vermont\, conducted summer 2015. The overall goal of this research is to understand the benefits and challenges of the growing US community solar movement and how it can be harnessed to help advance a more sustainable energy system. \nSharon Klein has been an assistant professor in the School of Economics at the University of Maine since 2011. She has a Ph.D. in engineering and public policy from Carnegie Mellon University\, and a B.S. in environmental science from the University of Massachusetts\, Amherst. She has 5 years of experience as a secondary school science teacher (San Diego and Ecuador)\, as well as experience as an environmental technician and Americorps volunteer. Klein is an interdisciplinary energy researcher and educator\, engaging students\, citizens\, policy-makers and other stakeholders in understanding energy issues and making more sustainable choices. Her motivation for working in this area stems from the knowledge that the way we currently use energy has long-lasting and unsustainable environmental and social consequences\, coupled with the long-held belief that people have the power to create a better world through civic engagement\, grassroots action\, community-building\, and education. Her research has focused on utility-scale\, residential\, and community solar\, as well as biofuels\, offshore wind energy and other renewable and non-renewable power plants\, using diverse methods such as engineering-economic assessment\, life cycle assessment\, social benefit-cost analysis\, and multicriteria decision analysis.
URL:https://elh.umaine.edu/event/community-solar-harnessing-the-power-of-the-people/
LOCATION:Senator George J. Mitchell Center\, Norman Smith Hall\, University of Maine\, Orono\, ME\, 04469\, United States
CATEGORIES:Lectures & Seminars
GEO:44.897732;-68.6687076
X-APPLE-STRUCTURED-LOCATION;VALUE=URI;X-ADDRESS=Senator George J. Mitchell Center Norman Smith Hall University of Maine Orono ME 04469 United States;X-APPLE-RADIUS=500;X-TITLE=Norman Smith Hall\, University of Maine:geo:-68.6687076,44.897732
END:VEVENT
BEGIN:VEVENT
DTSTART;TZID=America/New_York:20151204T120000
DTEND;TZID=America/New_York:20151204T130000
DTSTAMP:20260421T153701
CREATED:20150921T180021Z
LAST-MODIFIED:20150921T180021Z
UID:10000118-1449230400-1449234000@elh.umaine.edu
SUMMARY:"The Role of Forest Operations Research for Improving Production and Long-Term Sustainability"
DESCRIPTION:Presented by:  Anil Kizhakkepurakkal\, UMaine \n  \nSchool of Forest Resources Seminars – Plum Creek Room
URL:https://elh.umaine.edu/event/the-role-of-forest-operations-research-for-improving-production-and-long-term-sustainability/
LOCATION:ME
CATEGORIES:Lectures & Seminars
END:VEVENT
BEGIN:VEVENT
DTSTART;TZID=America/New_York:20151204T120000
DTEND;TZID=America/New_York:20151204T130000
DTSTAMP:20260421T153701
CREATED:20151202T185454Z
LAST-MODIFIED:20151202T185454Z
UID:10000126-1449230400-1449234000@elh.umaine.edu
SUMMARY:"supply chain Logistics for Industrialized Forest Residue Recovery: A Geospatial Approach"
DESCRIPTION:Presented by:  Anil Raj Kizha\, University of Maine
URL:https://elh.umaine.edu/event/supply-chain-logistics-for-industrialized-forest-residue-recovery-a-geospatial-approach/
LOCATION:Nutting Hall\, 204 Nutting Hall\, Orono\, ME\, United States
CATEGORIES:Lectures & Seminars
GEO:44.8969363;-68.6673058
X-APPLE-STRUCTURED-LOCATION;VALUE=URI;X-ADDRESS=Nutting Hall 204 Nutting Hall Orono ME United States;X-APPLE-RADIUS=500;X-TITLE=204 Nutting Hall:geo:-68.6673058,44.8969363
END:VEVENT
BEGIN:VEVENT
DTSTART;TZID=America/New_York:20151204T121000
DTEND;TZID=America/New_York:20151204T130000
DTSTAMP:20260421T153701
CREATED:20150918T192954Z
LAST-MODIFIED:20150918T192955Z
UID:10000009-1449231000-1449234000@elh.umaine.edu
SUMMARY:"Assessing Off-Farm Employment Decisions of Rural Households in China"
DESCRIPTION:Presented by:  Xuan Chen\, Assistant Professor\, School of Economics\, UMaine \nSchool of Economics 2015 Fall Seminars
URL:https://elh.umaine.edu/event/assessing-off-farm-employment-decisions-of-rural-households-in-china/
LOCATION:Winslow Hall\, 201 Winslow Hall\, Orono\, ME\, United States
CATEGORIES:Lectures & Seminars
GEO:44.8984813;-68.6699889
X-APPLE-STRUCTURED-LOCATION;VALUE=URI;X-ADDRESS=Winslow Hall 201 Winslow Hall Orono ME United States;X-APPLE-RADIUS=500;X-TITLE=201 Winslow Hall:geo:-68.6699889,44.8984813
END:VEVENT
BEGIN:VEVENT
DTSTART;TZID=America/New_York:20151204T150000
DTEND;TZID=America/New_York:20151204T160000
DTSTAMP:20260421T153701
CREATED:20150917T212626Z
LAST-MODIFIED:20150917T212626Z
UID:10000075-1449241200-1449244800@elh.umaine.edu
SUMMARY:"Stress Response Genetic Networks in Rice: Hierarchy\, Epistasis\, Epialleles\, and Transgressive Phenotypes"
DESCRIPTION:Presented by:  Dr. Benildo de los Reyes\, University of Maine \nSchool of Biology and Ecology Seminar Series Fall 2015
URL:https://elh.umaine.edu/event/stress-response-genetic-networks-in-rice-hierarchy-epistasis-epialleles-and-transgressive-phenotypes/
LOCATION:ME
CATEGORIES:Lectures & Seminars
END:VEVENT
BEGIN:VEVENT
DTSTART;TZID=America/New_York:20151211T080000
DTEND;TZID=America/New_York:20151211T163000
DTSTAMP:20260421T153701
CREATED:20151021T201858Z
LAST-MODIFIED:20151021T201951Z
UID:10000123-1449820800-1449851400@elh.umaine.edu
SUMMARY:Due Date for Submission of Graduate Student Research Award Applications
DESCRIPTION:Complete applications for the research awards must be submitted to Shannon Johnson\, 103 Winslow Hall by 4:30 PM on December 11\, 2015. Electronic submissions may be sent to Shannon via email (sjohns66@maine.edu). Late applications will not be accepted\, and it is the responsibility of the applicant to ensure that all required materials are submitted by the deadline. \nMore information is available here.
URL:https://elh.umaine.edu/event/due-date-for-submission-of-graduate-student-research-award-applications/
LOCATION:ME
CATEGORIES:Graduate Student Awards
END:VEVENT
BEGIN:VEVENT
DTSTART;TZID=America/New_York:20151211T150000
DTEND;TZID=America/New_York:20151211T160000
DTSTAMP:20260421T153701
CREATED:20150917T214503Z
LAST-MODIFIED:20150917T214503Z
UID:10000077-1449846000-1449849600@elh.umaine.edu
SUMMARY:"Biogeography and Phylogenetic Structure of Living Conifers"
DESCRIPTION:Presented by:  Dr. Andrew Leslie\, Brown University \nHosted by:  Ben Seliger \nCosponsored by:  School of Forest Resources \nSchool of Biology and Ecology Seminar Series Fall 2015
URL:https://elh.umaine.edu/event/biogeography-and-phylogenetic-structure-of-living-conifers/
LOCATION:ME
CATEGORIES:Lectures & Seminars
END:VEVENT
BEGIN:VEVENT
DTSTART;TZID=America/New_York:20160122T111000
DTEND;TZID=America/New_York:20160122T121000
DTSTAMP:20260421T153701
CREATED:20160119T152654Z
LAST-MODIFIED:20160119T152654Z
UID:10000011-1453461000-1453464600@elh.umaine.edu
SUMMARY:"Salinity Variability Along the Eastern Continental Shelf of Canada and the United States 1973-2013"
DESCRIPTION:Presented by:  Dr. James J. Bisagni\, University of Massachusetts at Dartmouth \nHost: Dr. David Townsend
URL:https://elh.umaine.edu/event/salinity-variability-along-the-eastern-continental-shelf-of-canada-and-the-united-states-1973-2013/
LOCATION:354 Aubert Hall\, 354 Aubert Hall\, Orono\, ME\, United States
CATEGORIES:Lectures & Seminars
GEO:44.9012912;-68.6707296
X-APPLE-STRUCTURED-LOCATION;VALUE=URI;X-ADDRESS=354 Aubert Hall 354 Aubert Hall Orono ME United States;X-APPLE-RADIUS=500;X-TITLE=354 Aubert Hall:geo:-68.6707296,44.9012912
END:VEVENT
BEGIN:VEVENT
DTSTART;TZID=America/New_York:20160122T151000
DTEND;TZID=America/New_York:20160122T161000
DTSTAMP:20260421T153701
CREATED:20160120T142832Z
LAST-MODIFIED:20160122T135534Z
UID:10000012-1453475400-1453479000@elh.umaine.edu
SUMMARY:"SBE Spring Seminar Series Opener Faculty Research Showcase"
DESCRIPTION:Five minute lightning talks spanning topics in macroecology\, mammalian physiology\, the science of STEM education\, cell and molecular biology\, and avian ecology. \nHosted by: Dr. Hamish Greig \nSponsored by: School of Biology and Ecology \nRefreshments served at 3:00 pm
URL:https://elh.umaine.edu/event/sbe-spring-seminar-series-opener-faculty-research-showcase/
LOCATION:102 Murray Hall\, 102 Murray Hall\, Orono
CATEGORIES:Lectures & Seminars
GEO:44.9009631;-68.6656476
X-APPLE-STRUCTURED-LOCATION;VALUE=URI;X-ADDRESS=102 Murray Hall 102 Murray Hall Orono;X-APPLE-RADIUS=500;X-TITLE=102 Murray Hall:geo:-68.6656476,44.9009631
END:VEVENT
BEGIN:VEVENT
DTSTART;TZID=America/New_York:20160127T110000
DTEND;TZID=America/New_York:20160127T120000
DTSTAMP:20260421T153701
CREATED:20160122T140111Z
LAST-MODIFIED:20160122T140216Z
UID:10000013-1453892400-1453896000@elh.umaine.edu
SUMMARY:"OneHealth and Wildlife Disease: A Problem-Solving Approach"
DESCRIPTION:Research Seminar \nPresented by:  Dr. Barbara Shock
URL:https://elh.umaine.edu/event/onehealth-and-wildlife-disease-a-problem-solving-approach/
LOCATION:ME
END:VEVENT
BEGIN:VEVENT
DTSTART;TZID=America/New_York:20160128T110000
DTEND;TZID=America/New_York:20160128T120000
DTSTAMP:20260421T153701
CREATED:20160122T140442Z
LAST-MODIFIED:20160122T140529Z
UID:10000014-1453978800-1453982400@elh.umaine.edu
SUMMARY:"An Introduction to Tick-Transmitted Diseases of Domestic Dogs and Cats in the United States"
DESCRIPTION:Teaching Seminar \nPresented by:  Dr. Barbara Shock
URL:https://elh.umaine.edu/event/an-introduction-to-tick-transmitted-diseases-of-domestic-dogs-and-cats-in-the-united-states/
LOCATION:107 Norman Smith Hall\, orono\, ME\, United States
GEO:44.8831125;-68.6719411
END:VEVENT
BEGIN:VEVENT
DTSTART;TZID=America/New_York:20160201T120000
DTEND;TZID=America/New_York:20160201T130000
DTSTAMP:20260421T153701
CREATED:20160127T155951Z
LAST-MODIFIED:20160127T155951Z
UID:10000117-1454328000-1454331600@elh.umaine.edu
SUMMARY:"Ecology and Management of American Woodcock"
DESCRIPTION:Presented by: Dan McAuley \nHosted by : Department of Wildlife\, Fisheries\, and Conservation Biology
URL:https://elh.umaine.edu/event/ecology-and-management-of-american-woodcock/
LOCATION:ME
CATEGORIES:Lectures & Seminars
END:VEVENT
BEGIN:VEVENT
DTSTART;TZID=America/New_York:20160205T121500
DTEND;TZID=America/New_York:20160205T130000
DTSTAMP:20260421T153701
CREATED:20160126T181932Z
LAST-MODIFIED:20160126T182942Z
UID:10000015-1454674500-1454677200@elh.umaine.edu
SUMMARY:SOE Seminar Series
DESCRIPTION:“Between 1975 and 2007 the negative impact of climate change on average global crop yield was swamped by the positive impact of changes in crop mix and improvements in agriculture technology.” \nPresented by:  Erik Nelson\, Assistant Professor\, Department of Economics\, Bowdoin College
URL:https://elh.umaine.edu/event/soe-seminar-series/
LOCATION:ME
CATEGORIES:Lectures & Seminars
END:VEVENT
BEGIN:VEVENT
DTSTART;TZID=America/New_York:20160208T120000
DTEND;TZID=America/New_York:20160208T130000
DTSTAMP:20260421T153701
CREATED:20160127T160804Z
LAST-MODIFIED:20160127T160804Z
UID:10000116-1454932800-1454936400@elh.umaine.edu
SUMMARY:"Colony Size and Population Dynamics in the Brazilian Free-Tailed Bat - Historical Trends\, New Technologies and Conservation Insights"
DESCRIPTION:Presented by:  Nickolay Hristov\, Winston-Salem State University \nHosted by : Department of Wildlife\, Fisheries\, and Conservation Biology
URL:https://elh.umaine.edu/event/colony-size-and-population-dynamics-in-the-brazilian-free-tailed-bat-historical-trends-new-technologies-and-conservation-insights/
LOCATION:ME
CATEGORIES:Lectures & Seminars
END:VEVENT
BEGIN:VEVENT
DTSTART;TZID=America/New_York:20160215T120000
DTEND;TZID=America/New_York:20160215T130000
DTSTAMP:20260421T153701
CREATED:20160127T161112Z
LAST-MODIFIED:20160127T161112Z
UID:10000114-1455537600-1455541200@elh.umaine.edu
SUMMARY:"Changing Paradigms of Private Lands Conservation and Imperiled Species: A View from the Southern Great Plains"
DESCRIPTION:Presented by:  Christian Hagen\, Oregon State University \nHosted by : Department of Wildlife\, Fisheries\, and Conservation Biology
URL:https://elh.umaine.edu/event/changing-paradigms-of-private-lands-conservation-and-imperiled-species-a-view-from-the-southern-great-plains/
LOCATION:ME
CATEGORIES:Lectures & Seminars
END:VEVENT
BEGIN:VEVENT
DTSTART;TZID=America/New_York:20160219T121500
DTEND;TZID=America/New_York:20160219T130000
DTSTAMP:20260421T153701
CREATED:20160126T182159Z
LAST-MODIFIED:20160126T183025Z
UID:10000016-1455884100-1455886800@elh.umaine.edu
SUMMARY:SOE Seminar Series
DESCRIPTION:Title (TBD) \nPresented by: Gonca Senel\, Assistant Professor\, Department of Economics\, Bowdoin College
URL:https://elh.umaine.edu/event/soe-seminar-series-2/
LOCATION:ME
CATEGORIES:Lectures & Seminars
END:VEVENT
BEGIN:VEVENT
DTSTART;TZID=America/New_York:20160222T120000
DTEND;TZID=America/New_York:20160222T130000
DTSTAMP:20260421T153701
CREATED:20160127T161432Z
LAST-MODIFIED:20160127T161432Z
UID:10000102-1456142400-1456146000@elh.umaine.edu
SUMMARY:TBD
DESCRIPTION:Presented by:  Steve Pelletier\, Stantec \nHosted by : Department of Wildlife\, Fisheries\, and Conservation Biology
URL:https://elh.umaine.edu/event/tbd/
LOCATION:ME
CATEGORIES:Lectures & Seminars
END:VEVENT
BEGIN:VEVENT
DTSTART;TZID=America/New_York:20160229T120000
DTEND;TZID=America/New_York:20160229T130000
DTSTAMP:20260421T153701
CREATED:20160127T161817Z
LAST-MODIFIED:20160127T162212Z
UID:10000103-1456747200-1456750800@elh.umaine.edu
SUMMARY:"Integrating Wildlife Science and Forest Management for Landscape-Scale Bird Conservation"
DESCRIPTION:Presented by:  Jeff Larkin\, Indiana University of PA \nHosted by : Department of Wildlife\, Fisheries\, and Conservation Biology
URL:https://elh.umaine.edu/event/integrating-wildlife-science-and-forest-management-for-landscape-scale-bird-conservation/
LOCATION:ME
CATEGORIES:Lectures & Seminars
END:VEVENT
BEGIN:VEVENT
DTSTART;TZID=America/New_York:20160321T120000
DTEND;TZID=America/New_York:20160321T130000
DTSTAMP:20260421T153701
CREATED:20160127T162459Z
LAST-MODIFIED:20160127T162459Z
UID:10000104-1458561600-1458565200@elh.umaine.edu
SUMMARY:"Searching for Diamondback Terrapin (Malaclemys Terrapin) Populations in Florida"
DESCRIPTION:Presented by:  Joseph Butler\, University of North Florida \nHosted by : Department of Wildlife\, Fisheries\, and Conservation Biology
URL:https://elh.umaine.edu/event/searching-for-diamondback-terrapin-malaclemys-terrapin-populations-in-florida/
LOCATION:ME
CATEGORIES:Lectures & Seminars
END:VEVENT
BEGIN:VEVENT
DTSTART;TZID=America/New_York:20160328T120000
DTEND;TZID=America/New_York:20160328T130000
DTSTAMP:20260421T153701
CREATED:20160127T174127Z
LAST-MODIFIED:20160127T174127Z
UID:10000105-1459166400-1459170000@elh.umaine.edu
SUMMARY:"Habitat Quality For Migrating Birds: What Do They Need And Are We Providing It"
DESCRIPTION:Presented by:  Scott McWilliams\, University of Rhode Island \nHosted by : Department of Wildlife\, Fisheries\, and Conservation Biology
URL:https://elh.umaine.edu/event/habitat-quality-for-migrating-birds-what-do-they-need-and-are-we-providing-it/
LOCATION:ME
CATEGORIES:Lectures & Seminars
END:VEVENT
BEGIN:VEVENT
DTSTART;TZID=America/New_York:20160401T121500
DTEND;TZID=America/New_York:20160401T130000
DTSTAMP:20260421T153701
CREATED:20160127T155055Z
LAST-MODIFIED:20160127T155055Z
UID:10000019-1459512900-1459515600@elh.umaine.edu
SUMMARY:SOE Seminar Series
DESCRIPTION:“Decision-Making on Coastal Beaches: An Economic Analysis” \nPresented by:  Abby Kaminski\, M.S. Student \n“Analyzing Profitability of Maine Dairy Farms and the Effectiveness of Maine’s Tier Pricing Program” \nPresented by:  Dylan Bouchard\, M.S. Student
URL:https://elh.umaine.edu/event/soe-seminar-series-5/
LOCATION:ME
CATEGORIES:Lectures & Seminars
END:VEVENT
BEGIN:VEVENT
DTSTART;TZID=America/New_York:20160404T120000
DTEND;TZID=America/New_York:20160404T130000
DTSTAMP:20260421T153701
CREATED:20160127T175216Z
LAST-MODIFIED:20160127T175216Z
UID:10000106-1459771200-1459774800@elh.umaine.edu
SUMMARY:TBD
DESCRIPTION:Hosted by : Department of Wildlife\, Fisheries\, and Conservation Biology
URL:https://elh.umaine.edu/event/tbd-2/
LOCATION:204 Nutting Hall\, Orono\, ME\, United States
CATEGORIES:Lectures & Seminars
GEO:44.8831125;-68.6719411
END:VEVENT
BEGIN:VEVENT
DTSTART;TZID=America/New_York:20160408T111000
DTEND;TZID=America/New_York:20160408T121000
DTSTAMP:20260421T153701
CREATED:20160405T134511Z
LAST-MODIFIED:20160405T134511Z
UID:10000022-1460113800-1460117400@elh.umaine.edu
SUMMARY:"Using Numerical Simulations to Understand How Rivers Become Oceans"
DESCRIPTION:SMS spring 2016 Seminar Series \nPresented by:  Kelly Cole \nHosted by: Damian Brady
URL:https://elh.umaine.edu/event/using-numerical-simulations-understand-rivers-become-oceans/
LOCATION:354 Aubert Hall\, 354 Aubert Hall\, Orono\, ME\, United States
CATEGORIES:Lectures & Seminars
GEO:44.9012912;-68.6707296
X-APPLE-STRUCTURED-LOCATION;VALUE=URI;X-ADDRESS=354 Aubert Hall 354 Aubert Hall Orono ME United States;X-APPLE-RADIUS=500;X-TITLE=354 Aubert Hall:geo:-68.6707296,44.9012912
END:VEVENT
BEGIN:VEVENT
DTSTART;TZID=America/New_York:20160408T121500
DTEND;TZID=America/New_York:20160408T130000
DTSTAMP:20260421T153701
CREATED:20160126T182907Z
LAST-MODIFIED:20160126T182907Z
UID:10000017-1460117700-1460120400@elh.umaine.edu
SUMMARY:SOE Seminar Series
DESCRIPTION:“Foreign Direct Investment\, Tourism Industry and Economic Growth in Southeast Asia” \nPresented by: Praopan Pratoomchat\, Assistant Professor of Economics\, Bates College
URL:https://elh.umaine.edu/event/soe-seminar-series-3/
LOCATION:ME
CATEGORIES:Lectures & Seminars
END:VEVENT
BEGIN:VEVENT
DTSTART;TZID=America/New_York:20160408T151000
DTEND;TZID=America/New_York:20160408T161000
DTSTAMP:20260421T153701
CREATED:20160405T134957Z
LAST-MODIFIED:20160405T134957Z
UID:10000023-1460128200-1460131800@elh.umaine.edu
SUMMARY:"Native and Invasive Plant Demography\, Phenology\, and Range Responses to Climate and Land Use Change"
DESCRIPTION:School of Biology 2016 Spring Seminar Series \nPresented by:  Dr. Jenica Allen\, University of New Hampshire \nHosted by: Dr. Jacquelyn Gill
URL:https://elh.umaine.edu/event/native-invasive-plant-demography-phenology-range-responses-climate-land-use-change/
LOCATION:102 Murray Hall\, 102 Murray Hall\, Orono
CATEGORIES:Lectures & Seminars
GEO:44.9009631;-68.6656476
X-APPLE-STRUCTURED-LOCATION;VALUE=URI;X-ADDRESS=102 Murray Hall 102 Murray Hall Orono;X-APPLE-RADIUS=500;X-TITLE=102 Murray Hall:geo:-68.6656476,44.9009631
END:VEVENT
BEGIN:VEVENT
DTSTART;TZID=America/New_York:20160411T120000
DTEND;TZID=America/New_York:20160411T130000
DTSTAMP:20260421T153701
CREATED:20160127T175421Z
LAST-MODIFIED:20160127T175421Z
UID:10000107-1460376000-1460379600@elh.umaine.edu
SUMMARY:"Conserving Small Natural Features With Large Ecological Roles"
DESCRIPTION:Presented by:  Malcolm Hunter & Aram Calhoun\, University of Maine \nHosted by : Department of Wildlife\, Fisheries\, and Conservation Biology
URL:https://elh.umaine.edu/event/conserving-small-natural-features-with-large-ecological-roles/
LOCATION:204 Nutting Hall\, Orono\, ME\, United States
CATEGORIES:Lectures & Seminars
GEO:44.8831125;-68.6719411
END:VEVENT
BEGIN:VEVENT
DTSTART;TZID=America/New_York:20160415T111000
DTEND;TZID=America/New_York:20160415T121000
DTSTAMP:20260421T153701
CREATED:20160411T131200Z
LAST-MODIFIED:20160411T131200Z
UID:10000025-1460718600-1460722200@elh.umaine.edu
SUMMARY:"The Role of Controlled Experimentation in Defining and Informing More Environmentally Sustainable Waterpower"
DESCRIPTION:Presented by:  Dr. Mark Bevelhimer\, Oak Ridge National Laboratory \nHosted by: Constantin Scherelis \n 
URL:https://elh.umaine.edu/event/role-controlled-experimentation-defining-informing-environmentally-sustainable-waterpower/
LOCATION:354 Aubert Hall\, 354 Aubert Hall\, Orono\, ME\, United States
CATEGORIES:Lectures & Seminars
GEO:44.9012912;-68.6707296
X-APPLE-STRUCTURED-LOCATION;VALUE=URI;X-ADDRESS=354 Aubert Hall 354 Aubert Hall Orono ME United States;X-APPLE-RADIUS=500;X-TITLE=354 Aubert Hall:geo:-68.6707296,44.9012912
END:VEVENT
BEGIN:VEVENT
DTSTART;TZID=America/New_York:20160415T121500
DTEND;TZID=America/New_York:20160415T130000
DTSTAMP:20260421T153701
CREATED:20160127T155535Z
LAST-MODIFIED:20160127T155535Z
UID:10000020-1460722500-1460725200@elh.umaine.edu
SUMMARY:SOE Seminar Series
DESCRIPTION:“Does Community Solar Have a Future in New England? \nPresented by:  Stephanie Coffey\, M.S. Student \n“An Economic Assessment of the TDO Thermo-Chemical Process Used to Produce Biofuels from Forest Residues” \nPresented by:  Robert Langdon\, M.S. Student
URL:https://elh.umaine.edu/event/soe-seminar-series-6/
LOCATION:201 Winslow Hall\, Orono\, ME\, United States
CATEGORIES:Lectures & Seminars
GEO:44.8831125;-68.6719411
END:VEVENT
END:VCALENDAR