BEGIN:VCALENDAR
VERSION:2.0
PRODID:-//College of Earth, Life, and Health Sciences - ECPv6.15.17.1//NONSGML v1.0//EN
CALSCALE:GREGORIAN
METHOD:PUBLISH
X-WR-CALNAME:College of Earth, Life, and Health Sciences
X-ORIGINAL-URL:https://elh.umaine.edu
X-WR-CALDESC:Events for College of Earth, Life, and Health Sciences
REFRESH-INTERVAL;VALUE=DURATION:PT1H
X-Robots-Tag:noindex
X-PUBLISHED-TTL:PT1H
BEGIN:VTIMEZONE
TZID:America/New_York
BEGIN:DAYLIGHT
TZOFFSETFROM:-0500
TZOFFSETTO:-0400
TZNAME:EDT
DTSTART:20160313T070000
END:DAYLIGHT
BEGIN:STANDARD
TZOFFSETFROM:-0400
TZOFFSETTO:-0500
TZNAME:EST
DTSTART:20161106T060000
END:STANDARD
BEGIN:DAYLIGHT
TZOFFSETFROM:-0500
TZOFFSETTO:-0400
TZNAME:EDT
DTSTART:20170312T070000
END:DAYLIGHT
BEGIN:STANDARD
TZOFFSETFROM:-0400
TZOFFSETTO:-0500
TZNAME:EST
DTSTART:20171105T060000
END:STANDARD
BEGIN:DAYLIGHT
TZOFFSETFROM:-0500
TZOFFSETTO:-0400
TZNAME:EDT
DTSTART:20180311T070000
END:DAYLIGHT
BEGIN:STANDARD
TZOFFSETFROM:-0400
TZOFFSETTO:-0500
TZNAME:EST
DTSTART:20181104T060000
END:STANDARD
END:VTIMEZONE
BEGIN:VEVENT
DTSTART;VALUE=DATE:20170406
DTEND;VALUE=DATE:20170407
DTSTAMP:20260422T200039
CREATED:20170208T211220Z
LAST-MODIFIED:20170208T211220Z
UID:10000183-1491436800-1491523199@elh.umaine.edu
SUMMARY:Go Blue Friday
DESCRIPTION:The following days have been designated as UMaine’s Go Blue Fridays\, a chance to show your UMaine spirit and campus pride by wearing blue and/or UMaine clothing: Feb. 10 and 24; March 24; April 7 and 14; and May 12.
URL:https://elh.umaine.edu/event/go-blue-friday/2017-04-06/
LOCATION:ME
END:VEVENT
BEGIN:VEVENT
DTSTART;VALUE=DATE:20170407
DTEND;VALUE=DATE:20170408
DTSTAMP:20260422T200039
CREATED:20170208T211220Z
LAST-MODIFIED:20170208T211220Z
UID:10000184-1491523200-1491609599@elh.umaine.edu
SUMMARY:Go Blue Friday
DESCRIPTION:The following days have been designated as UMaine’s Go Blue Fridays\, a chance to show your UMaine spirit and campus pride by wearing blue and/or UMaine clothing: Feb. 10 and 24; March 24; April 7 and 14; and May 12.
URL:https://elh.umaine.edu/event/go-blue-friday/2017-04-07/
LOCATION:ME
END:VEVENT
BEGIN:VEVENT
DTSTART;VALUE=DATE:20170407
DTEND;VALUE=DATE:20170408
DTSTAMP:20260422T200039
CREATED:20170208T211343Z
LAST-MODIFIED:20170208T211343Z
UID:10002601-1491523200-1491609599@elh.umaine.edu
SUMMARY:Go Blue Friday
DESCRIPTION:The following days have been designated as UMaine’s Go Blue Fridays\, a chance to show your UMaine spirit and campus pride by wearing blue and/or UMaine clothing: Feb. 10 and 24; March 24; April 7 and 14; and May 12.
URL:https://elh.umaine.edu/event/go-blue-friday-4/
LOCATION:ME
END:VEVENT
BEGIN:VEVENT
DTSTART;TZID=America/New_York:20170407T120000
DTEND;TZID=America/New_York:20170407T125000
DTSTAMP:20260422T200039
CREATED:20170208T201303Z
LAST-MODIFIED:20170208T201346Z
UID:10002682-1491566400-1491569400@elh.umaine.edu
SUMMARY:School of Economics Seminar
DESCRIPTION:School of Economics Seminar\nSpring 2017 \npresents \nEstimating the Capacity of Local Food Consumption in the New England Region of the United States \nFarhana Nusrat \nM.S. student\, UMaine’s School of Economics \nResearch & Development Spending and the Innovation Economy of Maine. \nSean Larkin \nM.S. student\, UMaine’s School of Economics \n 
URL:https://elh.umaine.edu/event/school-economics-seminar/
LOCATION:201 Winslow Hall\, Orono\, ME\, United States
CATEGORIES:Lectures & Seminars,School of Economics
ORGANIZER;CN="School of Economics":MAILTO:teisl@maine.edu
GEO:44.8831125;-68.6719411
END:VEVENT
BEGIN:VEVENT
DTSTART;TZID=America/New_York:20170407T120000
DTEND;TZID=America/New_York:20170407T133000
DTSTAMP:20260422T200039
CREATED:20170315T183332Z
LAST-MODIFIED:20170322T175208Z
UID:10002734-1491566400-1491571800@elh.umaine.edu
SUMMARY:Book lecture: Toward a Natural Forest\, The Forest Service in Transition
DESCRIPTION:The School of Forest Resources presents: \nJim Furnish\, US Forest Service Deputy Chief (Ret.)\, will share selections from his memoir with open discussion to follow about implications for forest management. \n\nIf you are a person with a disability and need an accommodation to participate in this program\, please call Cindy Paschal\, as early as possible at 581-2841 or cpaschal@maine.edu to discuss your needs.
URL:https://elh.umaine.edu/event/book-lecture-toward-natural-forest-forest-service-transition/
LOCATION:204 Nutting Hall\, Orono\, ME\, United States
CATEGORIES:Lectures & Seminars,School of Forest Resources
ORGANIZER;CN="School of Forest Resources":MAILTO:sfr@maine.edu
GEO:44.8831125;-68.6719411
END:VEVENT
BEGIN:VEVENT
DTSTART;TZID=America/New_York:20170407T150000
DTEND;TZID=America/New_York:20170407T170000
DTSTAMP:20260422T200039
CREATED:20170208T195329Z
LAST-MODIFIED:20170208T195329Z
UID:10002701-1491577200-1491584400@elh.umaine.edu
SUMMARY:School of Biology and Ecology Seminar: Dr. Ashley Webb\, Brown University
DESCRIPTION:School of Biology and Ecology Seminar\nSpring 2017 \npresents \nDr. Ashley Webb\, Brown University \n(Host: Kristy Townsend) \n\nSeminars will be held on Fridays at 3:15 pm in 107 Norman Smith Hall\, unless otherwise noted. \nLight refreshments served at 3:00 p.m.
URL:https://elh.umaine.edu/event/school-biology-ecology-seminar-dr-ashley-webb-brown-university/
LOCATION:107 Norman Smith Hall\, orono\, ME\, United States
CATEGORIES:Lectures & Seminars,School of Biology and Ecology
ORGANIZER;CN="School of Biology and Ecology":MAILTO:teresa.costello@umit.maine.edu
GEO:44.8831125;-68.6719411
END:VEVENT
BEGIN:VEVENT
DTSTART;VALUE=DATE:20170408
DTEND;VALUE=DATE:20170409
DTSTAMP:20260422T200039
CREATED:20170208T211220Z
LAST-MODIFIED:20170208T211220Z
UID:10000185-1491609600-1491695999@elh.umaine.edu
SUMMARY:Go Blue Friday
DESCRIPTION:The following days have been designated as UMaine’s Go Blue Fridays\, a chance to show your UMaine spirit and campus pride by wearing blue and/or UMaine clothing: Feb. 10 and 24; March 24; April 7 and 14; and May 12.
URL:https://elh.umaine.edu/event/go-blue-friday/2017-04-08/
LOCATION:ME
END:VEVENT
BEGIN:VEVENT
DTSTART;VALUE=DATE:20170409
DTEND;VALUE=DATE:20170410
DTSTAMP:20260422T200039
CREATED:20170208T211220Z
LAST-MODIFIED:20170208T211220Z
UID:10000186-1491696000-1491782399@elh.umaine.edu
SUMMARY:Go Blue Friday
DESCRIPTION:The following days have been designated as UMaine’s Go Blue Fridays\, a chance to show your UMaine spirit and campus pride by wearing blue and/or UMaine clothing: Feb. 10 and 24; March 24; April 7 and 14; and May 12.
URL:https://elh.umaine.edu/event/go-blue-friday/2017-04-09/
LOCATION:ME
END:VEVENT
BEGIN:VEVENT
DTSTART;VALUE=DATE:20170410
DTEND;VALUE=DATE:20170411
DTSTAMP:20260422T200039
CREATED:20170208T211220Z
LAST-MODIFIED:20170208T211220Z
UID:10000187-1491782400-1491868799@elh.umaine.edu
SUMMARY:Go Blue Friday
DESCRIPTION:The following days have been designated as UMaine’s Go Blue Fridays\, a chance to show your UMaine spirit and campus pride by wearing blue and/or UMaine clothing: Feb. 10 and 24; March 24; April 7 and 14; and May 12.
URL:https://elh.umaine.edu/event/go-blue-friday/2017-04-10/
LOCATION:ME
END:VEVENT
BEGIN:VEVENT
DTSTART;TZID=America/New_York:20170410T120000
DTEND;TZID=America/New_York:20170410T130000
DTSTAMP:20260422T200039
CREATED:20170208T204741Z
LAST-MODIFIED:20170208T204741Z
UID:10000112-1491825600-1491829200@elh.umaine.edu
SUMMARY:Whale Biology Seminar\, Dr. Mark Baumgartner of the Woods Hole Oceanographic Institute
DESCRIPTION:Whale Biology \nDr. Mark Baumgartner \nWoods Hole Oceanographic Institute
URL:https://elh.umaine.edu/event/whale-biology-seminar-dr-mark-baumgartner-woods-hole-oceanographic-institute/
LOCATION:204 Nutting Hall\, Orono\, ME\, United States
CATEGORIES:Department of Wildlife, Fisheries, and Conservation Biology,Lectures & Seminars,School of Marine Sciences
ORGANIZER;CN="Department of Wildlife%2C Fisheries%2C and Conservation Biology":MAILTO:Wildeco@maine.edu
GEO:44.8831125;-68.6719411
END:VEVENT
BEGIN:VEVENT
DTSTART;VALUE=DATE:20170411
DTEND;VALUE=DATE:20170412
DTSTAMP:20260422T200039
CREATED:20170208T211220Z
LAST-MODIFIED:20170208T211220Z
UID:10000188-1491868800-1491955199@elh.umaine.edu
SUMMARY:Go Blue Friday
DESCRIPTION:The following days have been designated as UMaine’s Go Blue Fridays\, a chance to show your UMaine spirit and campus pride by wearing blue and/or UMaine clothing: Feb. 10 and 24; March 24; April 7 and 14; and May 12.
URL:https://elh.umaine.edu/event/go-blue-friday/2017-04-11/
LOCATION:ME
END:VEVENT
BEGIN:VEVENT
DTSTART;VALUE=DATE:20170412
DTEND;VALUE=DATE:20170413
DTSTAMP:20260422T200039
CREATED:20170208T211220Z
LAST-MODIFIED:20170208T211220Z
UID:10000189-1491955200-1492041599@elh.umaine.edu
SUMMARY:Go Blue Friday
DESCRIPTION:The following days have been designated as UMaine’s Go Blue Fridays\, a chance to show your UMaine spirit and campus pride by wearing blue and/or UMaine clothing: Feb. 10 and 24; March 24; April 7 and 14; and May 12.
URL:https://elh.umaine.edu/event/go-blue-friday/2017-04-12/
LOCATION:ME
END:VEVENT
BEGIN:VEVENT
DTSTART;VALUE=DATE:20170413
DTEND;VALUE=DATE:20170414
DTSTAMP:20260422T200039
CREATED:20170208T211220Z
LAST-MODIFIED:20170208T211220Z
UID:10000190-1492041600-1492127999@elh.umaine.edu
SUMMARY:Go Blue Friday
DESCRIPTION:The following days have been designated as UMaine’s Go Blue Fridays\, a chance to show your UMaine spirit and campus pride by wearing blue and/or UMaine clothing: Feb. 10 and 24; March 24; April 7 and 14; and May 12.
URL:https://elh.umaine.edu/event/go-blue-friday/2017-04-13/
LOCATION:ME
END:VEVENT
BEGIN:VEVENT
DTSTART;VALUE=DATE:20170414
DTEND;VALUE=DATE:20170415
DTSTAMP:20260422T200039
CREATED:20170208T211220Z
LAST-MODIFIED:20170208T211220Z
UID:10000191-1492128000-1492214399@elh.umaine.edu
SUMMARY:Go Blue Friday
DESCRIPTION:The following days have been designated as UMaine’s Go Blue Fridays\, a chance to show your UMaine spirit and campus pride by wearing blue and/or UMaine clothing: Feb. 10 and 24; March 24; April 7 and 14; and May 12.
URL:https://elh.umaine.edu/event/go-blue-friday/2017-04-14/
LOCATION:ME
END:VEVENT
BEGIN:VEVENT
DTSTART;VALUE=DATE:20170414
DTEND;VALUE=DATE:20170415
DTSTAMP:20260422T200039
CREATED:20170208T211413Z
LAST-MODIFIED:20170208T211413Z
UID:10002603-1492128000-1492214399@elh.umaine.edu
SUMMARY:Go Blue Friday
DESCRIPTION:The following days have been designated as UMaine’s Go Blue Fridays\, a chance to show your UMaine spirit and campus pride by wearing blue and/or UMaine clothing: Feb. 10 and 24; March 24; April 7 and 14; and May 12.
URL:https://elh.umaine.edu/event/go-blue-friday-5/
LOCATION:ME
END:VEVENT
BEGIN:VEVENT
DTSTART;TZID=America/New_York:20170414T120000
DTEND;TZID=America/New_York:20170414T125000
DTSTAMP:20260422T200039
CREATED:20170208T201512Z
LAST-MODIFIED:20170208T201528Z
UID:10002683-1492171200-1492174200@elh.umaine.edu
SUMMARY:School of Economics Seminar
DESCRIPTION:School of Economics Seminar\nSpring 2017 \npresents \nSplitting Together: The Evolution of Cooperation in Food Buying Clubs \nEthan Tremblay \nM.S. student\, UMaine’s School of Economics \nValuing scenic seascape and marine aquaculture using a spatial hedonic analysis \nChristina Robichaud \nM.S. student\, UMaine’s School of Economics \n 
URL:https://elh.umaine.edu/event/school-economics-seminar-2/
LOCATION:201 Winslow Hall\, Orono\, ME\, United States
CATEGORIES:Lectures & Seminars,School of Economics
ORGANIZER;CN="School of Economics":MAILTO:teisl@maine.edu
GEO:44.8831125;-68.6719411
END:VEVENT
BEGIN:VEVENT
DTSTART;TZID=America/New_York:20170414T150000
DTEND;TZID=America/New_York:20170414T170000
DTSTAMP:20260422T200039
CREATED:20170208T195428Z
LAST-MODIFIED:20170208T195428Z
UID:10002702-1492182000-1492189200@elh.umaine.edu
SUMMARY:School of Biology and Ecology Seminar: Dr. Hannah Carey\, University of Wisconsin
DESCRIPTION:School of Biology and Ecology Seminar\nSpring 2017 \npresents \nDr. Hannah Carey\, University of Wisconsin \n(Host: Danielle Levesque) \n  \nSeminars will be held on Fridays at 3:15 pm in 107 Norman Smith Hall\, unless otherwise noted. \nLight refreshments served at 3:00 p.m.
URL:https://elh.umaine.edu/event/school-biology-ecology-seminar-dr-hannah-carey-university-wisconsin/
LOCATION:107 Norman Smith Hall\, orono\, ME\, United States
CATEGORIES:Lectures & Seminars,School of Biology and Ecology
ORGANIZER;CN="School of Biology and Ecology":MAILTO:teresa.costello@umit.maine.edu
GEO:44.8831125;-68.6719411
END:VEVENT
BEGIN:VEVENT
DTSTART;VALUE=DATE:20170415
DTEND;VALUE=DATE:20170416
DTSTAMP:20260422T200039
CREATED:20170208T211220Z
LAST-MODIFIED:20170208T211220Z
UID:10000192-1492214400-1492300799@elh.umaine.edu
SUMMARY:Go Blue Friday
DESCRIPTION:The following days have been designated as UMaine’s Go Blue Fridays\, a chance to show your UMaine spirit and campus pride by wearing blue and/or UMaine clothing: Feb. 10 and 24; March 24; April 7 and 14; and May 12.
URL:https://elh.umaine.edu/event/go-blue-friday/2017-04-15/
LOCATION:ME
END:VEVENT
BEGIN:VEVENT
DTSTART;VALUE=DATE:20170416
DTEND;VALUE=DATE:20170417
DTSTAMP:20260422T200039
CREATED:20170208T211220Z
LAST-MODIFIED:20170208T211220Z
UID:10000193-1492300800-1492387199@elh.umaine.edu
SUMMARY:Go Blue Friday
DESCRIPTION:The following days have been designated as UMaine’s Go Blue Fridays\, a chance to show your UMaine spirit and campus pride by wearing blue and/or UMaine clothing: Feb. 10 and 24; March 24; April 7 and 14; and May 12.
URL:https://elh.umaine.edu/event/go-blue-friday/2017-04-16/
LOCATION:ME
END:VEVENT
BEGIN:VEVENT
DTSTART;VALUE=DATE:20170417
DTEND;VALUE=DATE:20170418
DTSTAMP:20260422T200039
CREATED:20170208T211220Z
LAST-MODIFIED:20170208T211220Z
UID:10000194-1492387200-1492473599@elh.umaine.edu
SUMMARY:Go Blue Friday
DESCRIPTION:The following days have been designated as UMaine’s Go Blue Fridays\, a chance to show your UMaine spirit and campus pride by wearing blue and/or UMaine clothing: Feb. 10 and 24; March 24; April 7 and 14; and May 12.
URL:https://elh.umaine.edu/event/go-blue-friday/2017-04-17/
LOCATION:ME
END:VEVENT
BEGIN:VEVENT
DTSTART;TZID=America/New_York:20170417T120000
DTEND;TZID=America/New_York:20170417T130000
DTSTAMP:20260422T200039
CREATED:20170208T204922Z
LAST-MODIFIED:20170208T204922Z
UID:10000113-1492430400-1492434000@elh.umaine.edu
SUMMARY:Wildlife\, Fisheries\, and Conservation Biology Seminar
DESCRIPTION:Camera trapping and occupancy approaches to large-scale monitoring of marten and fisher populations \nBryn Evans
URL:https://elh.umaine.edu/event/wildlife-fisheries-conservation-biology-seminar-5/
LOCATION:204 Nutting Hall\, Orono\, ME\, United States
CATEGORIES:Department of Wildlife, Fisheries, and Conservation Biology,Lectures & Seminars
ORGANIZER;CN="Department of Wildlife%2C Fisheries%2C and Conservation Biology":MAILTO:Wildeco@maine.edu
GEO:44.8831125;-68.6719411
END:VEVENT
BEGIN:VEVENT
DTSTART;VALUE=DATE:20170418
DTEND;VALUE=DATE:20170419
DTSTAMP:20260422T200039
CREATED:20170208T211220Z
LAST-MODIFIED:20170208T211220Z
UID:10000195-1492473600-1492559999@elh.umaine.edu
SUMMARY:Go Blue Friday
DESCRIPTION:The following days have been designated as UMaine’s Go Blue Fridays\, a chance to show your UMaine spirit and campus pride by wearing blue and/or UMaine clothing: Feb. 10 and 24; March 24; April 7 and 14; and May 12.
URL:https://elh.umaine.edu/event/go-blue-friday/2017-04-18/
LOCATION:ME
END:VEVENT
BEGIN:VEVENT
DTSTART;VALUE=DATE:20170419
DTEND;VALUE=DATE:20170420
DTSTAMP:20260422T200039
CREATED:20170208T211220Z
LAST-MODIFIED:20170208T211220Z
UID:10000196-1492560000-1492646399@elh.umaine.edu
SUMMARY:Go Blue Friday
DESCRIPTION:The following days have been designated as UMaine’s Go Blue Fridays\, a chance to show your UMaine spirit and campus pride by wearing blue and/or UMaine clothing: Feb. 10 and 24; March 24; April 7 and 14; and May 12.
URL:https://elh.umaine.edu/event/go-blue-friday/2017-04-19/
LOCATION:ME
END:VEVENT
BEGIN:VEVENT
DTSTART;VALUE=DATE:20170420
DTEND;VALUE=DATE:20170421
DTSTAMP:20260422T200039
CREATED:20170208T211220Z
LAST-MODIFIED:20170208T211220Z
UID:10000197-1492646400-1492732799@elh.umaine.edu
SUMMARY:Go Blue Friday
DESCRIPTION:The following days have been designated as UMaine’s Go Blue Fridays\, a chance to show your UMaine spirit and campus pride by wearing blue and/or UMaine clothing: Feb. 10 and 24; March 24; April 7 and 14; and May 12.
URL:https://elh.umaine.edu/event/go-blue-friday/2017-04-20/
LOCATION:ME
END:VEVENT
BEGIN:VEVENT
DTSTART;VALUE=DATE:20170421
DTEND;VALUE=DATE:20170422
DTSTAMP:20260422T200039
CREATED:20170208T211220Z
LAST-MODIFIED:20170208T211220Z
UID:10000198-1492732800-1492819199@elh.umaine.edu
SUMMARY:Go Blue Friday
DESCRIPTION:The following days have been designated as UMaine’s Go Blue Fridays\, a chance to show your UMaine spirit and campus pride by wearing blue and/or UMaine clothing: Feb. 10 and 24; March 24; April 7 and 14; and May 12.
URL:https://elh.umaine.edu/event/go-blue-friday/2017-04-21/
LOCATION:ME
END:VEVENT
BEGIN:VEVENT
DTSTART;TZID=America/New_York:20170421T120000
DTEND;TZID=America/New_York:20170421T125000
DTSTAMP:20260422T200039
CREATED:20170208T201750Z
LAST-MODIFIED:20170208T201811Z
UID:10002684-1492776000-1492779000@elh.umaine.edu
SUMMARY:School of Economics Seminar
DESCRIPTION:School of Economics Seminar\nSpring 2017 \npresents \nFurfural and its Potential Byproducts from Woody Biomass \nKaveh Dalvand \nM.S. student\, UMaine’s School of Economics \nWindow Inserts and the Communities Adopting Them \nDan Mistro \nM.S. student\, UMaine’s School of Economics
URL:https://elh.umaine.edu/event/school-economics-seminar-3/
LOCATION:201 Winslow Hall\, Orono\, ME\, United States
CATEGORIES:Lectures & Seminars,School of Economics
ORGANIZER;CN="School of Economics":MAILTO:teisl@maine.edu
GEO:44.8831125;-68.6719411
END:VEVENT
BEGIN:VEVENT
DTSTART;TZID=America/New_York:20170421T150000
DTEND;TZID=America/New_York:20170421T170000
DTSTAMP:20260422T200039
CREATED:20170208T195529Z
LAST-MODIFIED:20170208T195529Z
UID:10002703-1492786800-1492794000@elh.umaine.edu
SUMMARY:School of Biology and Ecology Seminar: Dr. Raymond Danner\, University of North Carolina Wilmington
DESCRIPTION:School of Biology and Ecology Seminar\nSpring 2017 \npresents \nDr. Raymond Danner\, University of North Carolina Wilmington \n(Host: Brian Olsen) \n  \nSeminars will be held on Fridays at 3:15 pm in 107 Norman Smith Hall\, unless otherwise noted. \nLight refreshments served at 3:00 p.m.
URL:https://elh.umaine.edu/event/school-biology-ecology-seminar-dr-raymond-danner-university-north-carolina-wilmington/
LOCATION:107 Norman Smith Hall\, orono\, ME\, United States
CATEGORIES:Lectures & Seminars,School of Biology and Ecology
ORGANIZER;CN="School of Biology and Ecology":MAILTO:teresa.costello@umit.maine.edu
GEO:44.8831125;-68.6719411
END:VEVENT
BEGIN:VEVENT
DTSTART;VALUE=DATE:20170422
DTEND;VALUE=DATE:20170423
DTSTAMP:20260422T200039
CREATED:20170208T211220Z
LAST-MODIFIED:20170208T211220Z
UID:10000199-1492819200-1492905599@elh.umaine.edu
SUMMARY:Go Blue Friday
DESCRIPTION:The following days have been designated as UMaine’s Go Blue Fridays\, a chance to show your UMaine spirit and campus pride by wearing blue and/or UMaine clothing: Feb. 10 and 24; March 24; April 7 and 14; and May 12.
URL:https://elh.umaine.edu/event/go-blue-friday/2017-04-22/
LOCATION:ME
END:VEVENT
BEGIN:VEVENT
DTSTART;VALUE=DATE:20170423
DTEND;VALUE=DATE:20170424
DTSTAMP:20260422T200039
CREATED:20170208T211220Z
LAST-MODIFIED:20170208T211220Z
UID:10000200-1492905600-1492991999@elh.umaine.edu
SUMMARY:Go Blue Friday
DESCRIPTION:The following days have been designated as UMaine’s Go Blue Fridays\, a chance to show your UMaine spirit and campus pride by wearing blue and/or UMaine clothing: Feb. 10 and 24; March 24; April 7 and 14; and May 12.
URL:https://elh.umaine.edu/event/go-blue-friday/2017-04-23/
LOCATION:ME
END:VEVENT
BEGIN:VEVENT
DTSTART;VALUE=DATE:20170424
DTEND;VALUE=DATE:20170425
DTSTAMP:20260422T200039
CREATED:20170118T165825Z
LAST-MODIFIED:20170118T165825Z
UID:10002651-1492992000-1493078399@elh.umaine.edu
SUMMARY:Student Symposium: Research and Creative Activity Day
DESCRIPTION:Student Symposium: Research and Creative Activity Day\, scheduled for Monday\, April 24\, 2017 at the Cross Insurance Center in Bangor. During the poster\, oral\, and roundtable discussion sessions scheduled throughout the day\, many undergraduate and graduate students will be presenting the scholarly and creative work that they have completed over the academic year. \nWe hope you will ask faculty members to consider setting aside this day on their syllabi as a classroom-free\, academic day. Designation of the Student Symposium as a classroom-free\, academic day has the general support of the Student Government\, Graduate Student Government\, and Faculty Senate. \nIn order to facilitate student involvement\, faculty members are encouraged to provide course activities related to the Symposium. Examples could include holding capstone or graduate student presentations as part of the Symposium\, assigning students to review particular events at the Symposium\, or meeting at the Symposium to review and discuss presentations. \nThe overall schedule for the UMaine Student Symposium will be distributed by January 31\, 2017\, so that faculty can finalize their plans for the day. Transportation from campus will be available at no charge. Limited classroom space at the Cross Insurance Center may be reserved\, first come first served\, by contacting Ms. Alexandria Jesiolowski. General information about the UMaine Student Symposium is posted at umaine.edu/research/symposium. \nThank you for considering this request. The Symposium is an amazing celebration of students’ intellectual curiosity\, innovation\, and hard work. We look forward to seeing you and your colleagues there.
URL:https://elh.umaine.edu/event/student-symposium-research-creative-activity-day/
LOCATION:Cross Insurance Center\, 515 Main Street\, Bangor\, 04401\, United States
CATEGORIES:Outreach Events
GEO:44.7888019;-68.7792895
X-APPLE-STRUCTURED-LOCATION;VALUE=URI;X-ADDRESS=Cross Insurance Center 515 Main Street Bangor 04401 United States;X-APPLE-RADIUS=500;X-TITLE=515 Main Street:geo:-68.7792895,44.7888019
END:VEVENT
END:VCALENDAR