BEGIN:VCALENDAR
VERSION:2.0
PRODID:-//College of Earth, Life, and Health Sciences - ECPv6.15.17.1//NONSGML v1.0//EN
CALSCALE:GREGORIAN
METHOD:PUBLISH
X-WR-CALNAME:College of Earth, Life, and Health Sciences
X-ORIGINAL-URL:https://elh.umaine.edu
X-WR-CALDESC:Events for College of Earth, Life, and Health Sciences
REFRESH-INTERVAL;VALUE=DURATION:PT1H
X-Robots-Tag:noindex
X-PUBLISHED-TTL:PT1H
BEGIN:VTIMEZONE
TZID:America/New_York
BEGIN:DAYLIGHT
TZOFFSETFROM:-0500
TZOFFSETTO:-0400
TZNAME:EDT
DTSTART:20170312T070000
END:DAYLIGHT
BEGIN:STANDARD
TZOFFSETFROM:-0400
TZOFFSETTO:-0500
TZNAME:EST
DTSTART:20171105T060000
END:STANDARD
BEGIN:DAYLIGHT
TZOFFSETFROM:-0500
TZOFFSETTO:-0400
TZNAME:EDT
DTSTART:20180311T070000
END:DAYLIGHT
BEGIN:STANDARD
TZOFFSETFROM:-0400
TZOFFSETTO:-0500
TZNAME:EST
DTSTART:20181104T060000
END:STANDARD
BEGIN:DAYLIGHT
TZOFFSETFROM:-0500
TZOFFSETTO:-0400
TZNAME:EDT
DTSTART:20190310T070000
END:DAYLIGHT
BEGIN:STANDARD
TZOFFSETFROM:-0400
TZOFFSETTO:-0500
TZNAME:EST
DTSTART:20191103T060000
END:STANDARD
END:VTIMEZONE
BEGIN:VEVENT
DTSTART;TZID=America/New_York:20180323T150000
DTEND;TZID=America/New_York:20180323T160000
DTSTAMP:20260421T154036
CREATED:20180131T201501Z
LAST-MODIFIED:20180131T201501Z
UID:10002813-1521817200-1521820800@elh.umaine.edu
SUMMARY:Dr. Kristen O’Connell
DESCRIPTION:The School of Biology and Ecology presents \nDr. Kristen O’Connell\nUniversity of Maine \nHost: Kristy Townsend \n 
URL:https://elh.umaine.edu/event/dr-kristen-oconnell/
LOCATION:107 Norman Smith Hall\, orono\, ME\, United States
CATEGORIES:Lectures & Seminars,School of Biology and Ecology
ORGANIZER;CN="School of Biology and Ecology":MAILTO:teresa.costello@umit.maine.edu
GEO:44.8831125;-68.6719411
END:VEVENT
BEGIN:VEVENT
DTSTART;TZID=America/New_York:20180323T150000
DTEND;TZID=America/New_York:20180323T170000
DTSTAMP:20260421T154036
CREATED:20180321T131119Z
LAST-MODIFIED:20180321T131142Z
UID:10002801-1521817200-1521824400@elh.umaine.edu
SUMMARY:Acid Justice: Challenges and  Opportunities for Managing Ocean and  Coastal Acidification
DESCRIPTION:The School of Biology and Ecology presents \nDr. Aaron Strong\nUniversity of Maine \nDr. Strong’s research focuses on studying the human dimensions of changing coastal and marine systems. He has a particular interest in the emergent problem of ocean and coastal acidification and mitigation and adaptation responses to this problem. Currently\, several states in the Northeast have completed\, are undergoing\, are initiating\, or are exploring formal governmental processes for assessing the threat of ocean and coastal acidification to our coastal ecosystems and economies. One tool in the toolbox to combat ocean acidification is the use of formal risk assessments which seek to identify hotspots of physical\, chemical\, biological and ecological exposure to acidification that are also areas of high social vulnerability and limited adaptive capacity to the impacts of acidification. In his work\, Dr. Strong assesses the adaptive capacity around the Gulf of Maine to address ocean and coastal acidification and also identifies what regional and local concerns remain unaddressed by the use of standard risk assessment procedures\, using the case study of Maine’s wild-harvest fisheries and aquaculture industry.
URL:https://elh.umaine.edu/event/acid-justice-challenges-opportunities-managing-ocean-coastal-acidification/
LOCATION:107 Norman Smith Hall\, orono\, ME\, United States
CATEGORIES:Lectures & Seminars,School of Biology and Ecology
ORGANIZER;CN="School of Biology and Ecology":MAILTO:teresa.costello@umit.maine.edu
GEO:44.8831125;-68.6719411
END:VEVENT
BEGIN:VEVENT
DTSTART;VALUE=DATE:20180324
DTEND;VALUE=DATE:20180325
DTSTAMP:20260421T154036
CREATED:20170208T211220Z
LAST-MODIFIED:20170208T211220Z
UID:10000535-1521849600-1521935999@elh.umaine.edu
SUMMARY:Go Blue Friday
DESCRIPTION:The following days have been designated as UMaine’s Go Blue Fridays\, a chance to show your UMaine spirit and campus pride by wearing blue and/or UMaine clothing: Feb. 10 and 24; March 24; April 7 and 14; and May 12.
URL:https://elh.umaine.edu/event/go-blue-friday/2018-03-24/
END:VEVENT
BEGIN:VEVENT
DTSTART;VALUE=DATE:20180325
DTEND;VALUE=DATE:20180326
DTSTAMP:20260421T154036
CREATED:20170208T211220Z
LAST-MODIFIED:20170208T211220Z
UID:10000536-1521936000-1522022399@elh.umaine.edu
SUMMARY:Go Blue Friday
DESCRIPTION:The following days have been designated as UMaine’s Go Blue Fridays\, a chance to show your UMaine spirit and campus pride by wearing blue and/or UMaine clothing: Feb. 10 and 24; March 24; April 7 and 14; and May 12.
URL:https://elh.umaine.edu/event/go-blue-friday/2018-03-25/
END:VEVENT
BEGIN:VEVENT
DTSTART;VALUE=DATE:20180326
DTEND;VALUE=DATE:20180327
DTSTAMP:20260421T154036
CREATED:20170208T211220Z
LAST-MODIFIED:20170208T211220Z
UID:10000537-1522022400-1522108799@elh.umaine.edu
SUMMARY:Go Blue Friday
DESCRIPTION:The following days have been designated as UMaine’s Go Blue Fridays\, a chance to show your UMaine spirit and campus pride by wearing blue and/or UMaine clothing: Feb. 10 and 24; March 24; April 7 and 14; and May 12.
URL:https://elh.umaine.edu/event/go-blue-friday/2018-03-26/
END:VEVENT
BEGIN:VEVENT
DTSTART;TZID=America/New_York:20180326T120000
DTEND;TZID=America/New_York:20180326T130000
DTSTAMP:20260421T154036
CREATED:20180321T131351Z
LAST-MODIFIED:20180321T131351Z
UID:10002802-1522065600-1522069200@elh.umaine.edu
SUMMARY:Population Ecology and Summer Habitat Selection of Mule Deer in the White Mountains: Implications of Changing Landscapes and Variable Climate
DESCRIPTION:Department of Wildlife\, Fisheries\, and Conservation Biology presents \nDr. Sabrina Morano \nUMaine Department of Wildlife\, Fisheries\, and Conservation Biology
URL:https://elh.umaine.edu/event/population-ecology-summer-habitat-selection-mule-deer-white-mountains-implications-changing-landscapes-variable-climate/
LOCATION:204 Nutting Hall\, Orono\, ME\, United States
CATEGORIES:Department of Wildlife, Fisheries, and Conservation Biology,Lectures & Seminars
ORGANIZER;CN="Department of Wildlife%2C Fisheries%2C and Conservation Biology":MAILTO:Wildeco@maine.edu
GEO:44.8831125;-68.6719411
END:VEVENT
BEGIN:VEVENT
DTSTART;VALUE=DATE:20180327
DTEND;VALUE=DATE:20180328
DTSTAMP:20260421T154036
CREATED:20170208T211220Z
LAST-MODIFIED:20170208T211220Z
UID:10000538-1522108800-1522195199@elh.umaine.edu
SUMMARY:Go Blue Friday
DESCRIPTION:The following days have been designated as UMaine’s Go Blue Fridays\, a chance to show your UMaine spirit and campus pride by wearing blue and/or UMaine clothing: Feb. 10 and 24; March 24; April 7 and 14; and May 12.
URL:https://elh.umaine.edu/event/go-blue-friday/2018-03-27/
END:VEVENT
BEGIN:VEVENT
DTSTART;VALUE=DATE:20180328
DTEND;VALUE=DATE:20180329
DTSTAMP:20260421T154036
CREATED:20170208T211220Z
LAST-MODIFIED:20170208T211220Z
UID:10000539-1522195200-1522281599@elh.umaine.edu
SUMMARY:Go Blue Friday
DESCRIPTION:The following days have been designated as UMaine’s Go Blue Fridays\, a chance to show your UMaine spirit and campus pride by wearing blue and/or UMaine clothing: Feb. 10 and 24; March 24; April 7 and 14; and May 12.
URL:https://elh.umaine.edu/event/go-blue-friday/2018-03-28/
END:VEVENT
BEGIN:VEVENT
DTSTART;TZID=America/New_York:20180328T120000
DTEND;TZID=America/New_York:20180328T130000
DTSTAMP:20260421T154036
CREATED:20180131T203837Z
LAST-MODIFIED:20180131T203837Z
UID:10002814-1522238400-1522242000@elh.umaine.edu
SUMMARY:USGS Maine Cooperative Fish and Wildlife Research Unit Coordination Committee Meeting
DESCRIPTION:The Department of Wildlife\, Fisheries\, and Conservation Biology presents \nUSGS Maine Cooperative Fish and Wildlife Research Unit Coordination Committee Meeting \nIf you are a person with a disability and need an accommodation to participate in this program\, please call or text Scott Lindemann (425) 503-8528 to discuss your needs.  Receiving requests for accommodations at least 2 days before the program provides a reasonable amount of time to meet the request\, however all requests will be considered.
URL:https://elh.umaine.edu/event/usgs-maine-cooperative-fish-wildlife-research-unit-coordination-committee-meeting/
LOCATION:204 Nutting Hall\, Orono\, ME\, United States
CATEGORIES:Department of Wildlife, Fisheries, and Conservation Biology,Lectures & Seminars
ORGANIZER;CN="Department of Wildlife%2C Fisheries%2C and Conservation Biology":MAILTO:Wildeco@maine.edu
GEO:44.8831125;-68.6719411
END:VEVENT
BEGIN:VEVENT
DTSTART;VALUE=DATE:20180329
DTEND;VALUE=DATE:20180330
DTSTAMP:20260421T154036
CREATED:20170208T211220Z
LAST-MODIFIED:20170208T211220Z
UID:10000540-1522281600-1522367999@elh.umaine.edu
SUMMARY:Go Blue Friday
DESCRIPTION:The following days have been designated as UMaine’s Go Blue Fridays\, a chance to show your UMaine spirit and campus pride by wearing blue and/or UMaine clothing: Feb. 10 and 24; March 24; April 7 and 14; and May 12.
URL:https://elh.umaine.edu/event/go-blue-friday/2018-03-29/
END:VEVENT
BEGIN:VEVENT
DTSTART;VALUE=DATE:20180330
DTEND;VALUE=DATE:20180331
DTSTAMP:20260421T154036
CREATED:20170208T211220Z
LAST-MODIFIED:20170208T211220Z
UID:10000541-1522368000-1522454399@elh.umaine.edu
SUMMARY:Go Blue Friday
DESCRIPTION:The following days have been designated as UMaine’s Go Blue Fridays\, a chance to show your UMaine spirit and campus pride by wearing blue and/or UMaine clothing: Feb. 10 and 24; March 24; April 7 and 14; and May 12.
URL:https://elh.umaine.edu/event/go-blue-friday/2018-03-30/
END:VEVENT
BEGIN:VEVENT
DTSTART;TZID=America/New_York:20180330T150000
DTEND;TZID=America/New_York:20180330T160000
DTSTAMP:20260421T154036
CREATED:20180131T201711Z
LAST-MODIFIED:20180131T201711Z
UID:10002660-1522422000-1522425600@elh.umaine.edu
SUMMARY:Ecology and Evolution of Globally Distributed Insects and Microbes in an Interconnected World
DESCRIPTION:The School of Biology and Ecology presents \nDr. Jeff Garnas\nUniversity of New Hampshire \nHost: Frank Drummond \n 
URL:https://elh.umaine.edu/event/ecology-evolution-globally-distributed-insects-microbes-interconnected-world/
LOCATION:107 Norman Smith Hall\, orono\, ME\, United States
CATEGORIES:Lectures & Seminars,School of Biology and Ecology
ORGANIZER;CN="School of Biology and Ecology":MAILTO:teresa.costello@umit.maine.edu
GEO:44.8831125;-68.6719411
END:VEVENT
BEGIN:VEVENT
DTSTART;VALUE=DATE:20180331
DTEND;VALUE=DATE:20180401
DTSTAMP:20260421T154036
CREATED:20170208T211220Z
LAST-MODIFIED:20170208T211220Z
UID:10000542-1522454400-1522540799@elh.umaine.edu
SUMMARY:Go Blue Friday
DESCRIPTION:The following days have been designated as UMaine’s Go Blue Fridays\, a chance to show your UMaine spirit and campus pride by wearing blue and/or UMaine clothing: Feb. 10 and 24; March 24; April 7 and 14; and May 12.
URL:https://elh.umaine.edu/event/go-blue-friday/2018-03-31/
END:VEVENT
BEGIN:VEVENT
DTSTART;VALUE=DATE:20180401
DTEND;VALUE=DATE:20180402
DTSTAMP:20260421T154036
CREATED:20170208T211220Z
LAST-MODIFIED:20170208T211220Z
UID:10000543-1522540800-1522627199@elh.umaine.edu
SUMMARY:Go Blue Friday
DESCRIPTION:The following days have been designated as UMaine’s Go Blue Fridays\, a chance to show your UMaine spirit and campus pride by wearing blue and/or UMaine clothing: Feb. 10 and 24; March 24; April 7 and 14; and May 12.
URL:https://elh.umaine.edu/event/go-blue-friday/2018-04-01/
END:VEVENT
BEGIN:VEVENT
DTSTART;VALUE=DATE:20180402
DTEND;VALUE=DATE:20180403
DTSTAMP:20260421T154036
CREATED:20170208T211220Z
LAST-MODIFIED:20170208T211220Z
UID:10000544-1522627200-1522713599@elh.umaine.edu
SUMMARY:Go Blue Friday
DESCRIPTION:The following days have been designated as UMaine’s Go Blue Fridays\, a chance to show your UMaine spirit and campus pride by wearing blue and/or UMaine clothing: Feb. 10 and 24; March 24; April 7 and 14; and May 12.
URL:https://elh.umaine.edu/event/go-blue-friday/2018-04-02/
END:VEVENT
BEGIN:VEVENT
DTSTART;TZID=America/New_York:20180402T120000
DTEND;TZID=America/New_York:20180402T130000
DTSTAMP:20260421T154036
CREATED:20180131T203946Z
LAST-MODIFIED:20180131T204722Z
UID:10002815-1522670400-1522674000@elh.umaine.edu
SUMMARY:Prairie-Pothole Wetlands: Climate Change is Forcing a Reconsideration of Our Conceptual Understanding
DESCRIPTION:The Department of Wildlife\, Fisheries\, and Conservation Biology presents \nDr. Dave Mushet\nUS Geological Survey\n \nHost: Scott Lindemann \nPlease contact the speaker’s respective host to make arrangements to meet with speakers. \n\nSara Boone: sara.wendt@maine.edu (414) 750-0424\nBrandon Boxler: brandon.boxler@maine.edu (808) 230-7099\nScott Lindemann: scott.lindemann@maine.edu (425) 503-8528\n\nIf you are a person with a disability and need an accommodation to participate in this program\, please call or text Scott Lindemann (425) 503-8528 to discuss your needs.  Receiving requests for accommodations at least 2 days before the program provides a reasonable amount of time to meet the request\, however all requests will be considered.
URL:https://elh.umaine.edu/event/prairie-pothole-wetlands-climate-change-forcing-reconsideration-conceptual-understanding/
LOCATION:204 Nutting Hall\, Orono\, ME\, United States
CATEGORIES:Department of Wildlife, Fisheries, and Conservation Biology,Lectures & Seminars
ORGANIZER;CN="Department of Wildlife%2C Fisheries%2C and Conservation Biology":MAILTO:Wildeco@maine.edu
GEO:44.8831125;-68.6719411
END:VEVENT
BEGIN:VEVENT
DTSTART;VALUE=DATE:20180403
DTEND;VALUE=DATE:20180404
DTSTAMP:20260421T154036
CREATED:20170208T211220Z
LAST-MODIFIED:20170208T211220Z
UID:10000545-1522713600-1522799999@elh.umaine.edu
SUMMARY:Go Blue Friday
DESCRIPTION:The following days have been designated as UMaine’s Go Blue Fridays\, a chance to show your UMaine spirit and campus pride by wearing blue and/or UMaine clothing: Feb. 10 and 24; March 24; April 7 and 14; and May 12.
URL:https://elh.umaine.edu/event/go-blue-friday/2018-04-03/
END:VEVENT
BEGIN:VEVENT
DTSTART;VALUE=DATE:20180404
DTEND;VALUE=DATE:20180405
DTSTAMP:20260421T154036
CREATED:20170208T211220Z
LAST-MODIFIED:20170208T211220Z
UID:10000546-1522800000-1522886399@elh.umaine.edu
SUMMARY:Go Blue Friday
DESCRIPTION:The following days have been designated as UMaine’s Go Blue Fridays\, a chance to show your UMaine spirit and campus pride by wearing blue and/or UMaine clothing: Feb. 10 and 24; March 24; April 7 and 14; and May 12.
URL:https://elh.umaine.edu/event/go-blue-friday/2018-04-04/
END:VEVENT
BEGIN:VEVENT
DTSTART;VALUE=DATE:20180405
DTEND;VALUE=DATE:20180406
DTSTAMP:20260421T154036
CREATED:20170208T211220Z
LAST-MODIFIED:20170208T211220Z
UID:10000547-1522886400-1522972799@elh.umaine.edu
SUMMARY:Go Blue Friday
DESCRIPTION:The following days have been designated as UMaine’s Go Blue Fridays\, a chance to show your UMaine spirit and campus pride by wearing blue and/or UMaine clothing: Feb. 10 and 24; March 24; April 7 and 14; and May 12.
URL:https://elh.umaine.edu/event/go-blue-friday/2018-04-05/
END:VEVENT
BEGIN:VEVENT
DTSTART;VALUE=DATE:20180406
DTEND;VALUE=DATE:20180407
DTSTAMP:20260421T154036
CREATED:20170208T211220Z
LAST-MODIFIED:20170208T211220Z
UID:10000548-1522972800-1523059199@elh.umaine.edu
SUMMARY:Go Blue Friday
DESCRIPTION:The following days have been designated as UMaine’s Go Blue Fridays\, a chance to show your UMaine spirit and campus pride by wearing blue and/or UMaine clothing: Feb. 10 and 24; March 24; April 7 and 14; and May 12.
URL:https://elh.umaine.edu/event/go-blue-friday/2018-04-06/
END:VEVENT
BEGIN:VEVENT
DTSTART;TZID=America/New_York:20180406T150000
DTEND;TZID=America/New_York:20180406T160000
DTSTAMP:20260421T154036
CREATED:20180131T201852Z
LAST-MODIFIED:20180131T201852Z
UID:10002662-1523026800-1523030400@elh.umaine.edu
SUMMARY:School of Biology and Ecology Undergraduate Student Research Showcase
DESCRIPTION:The School of Biology and Ecology presents \nSchool of Biology and Ecology Undergraduate Students\nUniversity of Maine \nHost: School of Biology and Ecology faculty \n 
URL:https://elh.umaine.edu/event/school-biology-ecology-undergraduate-student-research-showcase/
LOCATION:107 Norman Smith Hall\, orono\, ME\, United States
CATEGORIES:Lectures & Seminars,School of Biology and Ecology
ORGANIZER;CN="School of Biology and Ecology":MAILTO:teresa.costello@umit.maine.edu
GEO:44.8831125;-68.6719411
END:VEVENT
BEGIN:VEVENT
DTSTART;VALUE=DATE:20180407
DTEND;VALUE=DATE:20180408
DTSTAMP:20260421T154036
CREATED:20170208T211220Z
LAST-MODIFIED:20170208T211220Z
UID:10000549-1523059200-1523145599@elh.umaine.edu
SUMMARY:Go Blue Friday
DESCRIPTION:The following days have been designated as UMaine’s Go Blue Fridays\, a chance to show your UMaine spirit and campus pride by wearing blue and/or UMaine clothing: Feb. 10 and 24; March 24; April 7 and 14; and May 12.
URL:https://elh.umaine.edu/event/go-blue-friday/2018-04-07/
END:VEVENT
BEGIN:VEVENT
DTSTART;VALUE=DATE:20180408
DTEND;VALUE=DATE:20180409
DTSTAMP:20260421T154036
CREATED:20170208T211220Z
LAST-MODIFIED:20170208T211220Z
UID:10000550-1523145600-1523231999@elh.umaine.edu
SUMMARY:Go Blue Friday
DESCRIPTION:The following days have been designated as UMaine’s Go Blue Fridays\, a chance to show your UMaine spirit and campus pride by wearing blue and/or UMaine clothing: Feb. 10 and 24; March 24; April 7 and 14; and May 12.
URL:https://elh.umaine.edu/event/go-blue-friday/2018-04-08/
END:VEVENT
BEGIN:VEVENT
DTSTART;VALUE=DATE:20180409
DTEND;VALUE=DATE:20180410
DTSTAMP:20260421T154036
CREATED:20170208T211220Z
LAST-MODIFIED:20170208T211220Z
UID:10000551-1523232000-1523318399@elh.umaine.edu
SUMMARY:Go Blue Friday
DESCRIPTION:The following days have been designated as UMaine’s Go Blue Fridays\, a chance to show your UMaine spirit and campus pride by wearing blue and/or UMaine clothing: Feb. 10 and 24; March 24; April 7 and 14; and May 12.
URL:https://elh.umaine.edu/event/go-blue-friday/2018-04-09/
END:VEVENT
BEGIN:VEVENT
DTSTART;TZID=America/New_York:20180409T120000
DTEND;TZID=America/New_York:20180409T130000
DTSTAMP:20260421T154036
CREATED:20180131T204234Z
LAST-MODIFIED:20180131T204747Z
UID:10002816-1523275200-1523278800@elh.umaine.edu
SUMMARY:Aldo Leopold and Resilience in a Time of Rapid Change
DESCRIPTION:The Department of Wildlife\, Fisheries\, and Conservation Biology presents \nDr. Curt Meine\nThe Aldo Leopold Foundation \n\n \nHost: Brandon Boxler \nPlease contact the speaker’s respective host to make arrangements to meet with speakers. \n\nSara Boone: sara.wendt@maine.edu (414) 750-0424\nBrandon Boxler: brandon.boxler@maine.edu (808) 230-7099\nScott Lindemann: scott.lindemann@maine.edu (425) 503-8528\n\nIf you are a person with a disability and need an accommodation to participate in this program\, please call or text Scott Lindemann (425) 503-8528 to discuss your needs.  Receiving requests for accommodations at least 2 days before the program provides a reasonable amount of time to meet the request\, however all requests will be considered.
URL:https://elh.umaine.edu/event/aldo-leopold-and-resilience-in-a-time-of-rapid-change/
LOCATION:204 Nutting Hall\, Orono\, ME\, United States
CATEGORIES:Department of Wildlife, Fisheries, and Conservation Biology,Lectures & Seminars
ORGANIZER;CN="Department of Wildlife%2C Fisheries%2C and Conservation Biology":MAILTO:Wildeco@maine.edu
GEO:44.8831125;-68.6719411
END:VEVENT
BEGIN:VEVENT
DTSTART;VALUE=DATE:20180410
DTEND;VALUE=DATE:20180411
DTSTAMP:20260421T154036
CREATED:20170208T211220Z
LAST-MODIFIED:20170208T211220Z
UID:10000552-1523318400-1523404799@elh.umaine.edu
SUMMARY:Go Blue Friday
DESCRIPTION:The following days have been designated as UMaine’s Go Blue Fridays\, a chance to show your UMaine spirit and campus pride by wearing blue and/or UMaine clothing: Feb. 10 and 24; March 24; April 7 and 14; and May 12.
URL:https://elh.umaine.edu/event/go-blue-friday/2018-04-10/
END:VEVENT
BEGIN:VEVENT
DTSTART;VALUE=DATE:20180411
DTEND;VALUE=DATE:20180412
DTSTAMP:20260421T154036
CREATED:20170208T211220Z
LAST-MODIFIED:20170208T211220Z
UID:10000553-1523404800-1523491199@elh.umaine.edu
SUMMARY:Go Blue Friday
DESCRIPTION:The following days have been designated as UMaine’s Go Blue Fridays\, a chance to show your UMaine spirit and campus pride by wearing blue and/or UMaine clothing: Feb. 10 and 24; March 24; April 7 and 14; and May 12.
URL:https://elh.umaine.edu/event/go-blue-friday/2018-04-11/
END:VEVENT
BEGIN:VEVENT
DTSTART;VALUE=DATE:20180412
DTEND;VALUE=DATE:20180413
DTSTAMP:20260421T154036
CREATED:20170208T211220Z
LAST-MODIFIED:20170208T211220Z
UID:10000554-1523491200-1523577599@elh.umaine.edu
SUMMARY:Go Blue Friday
DESCRIPTION:The following days have been designated as UMaine’s Go Blue Fridays\, a chance to show your UMaine spirit and campus pride by wearing blue and/or UMaine clothing: Feb. 10 and 24; March 24; April 7 and 14; and May 12.
URL:https://elh.umaine.edu/event/go-blue-friday/2018-04-12/
END:VEVENT
BEGIN:VEVENT
DTSTART;VALUE=DATE:20180413
DTEND;VALUE=DATE:20180414
DTSTAMP:20260421T154036
CREATED:20170208T211220Z
LAST-MODIFIED:20170208T211220Z
UID:10000555-1523577600-1523663999@elh.umaine.edu
SUMMARY:Go Blue Friday
DESCRIPTION:The following days have been designated as UMaine’s Go Blue Fridays\, a chance to show your UMaine spirit and campus pride by wearing blue and/or UMaine clothing: Feb. 10 and 24; March 24; April 7 and 14; and May 12.
URL:https://elh.umaine.edu/event/go-blue-friday/2018-04-13/
END:VEVENT
BEGIN:VEVENT
DTSTART;TZID=America/New_York:20180413T120000
DTEND;TZID=America/New_York:20180413T130000
DTSTAMP:20260421T154036
CREATED:20180411T195209Z
LAST-MODIFIED:20180411T195209Z
UID:10002818-1523620800-1523624400@elh.umaine.edu
SUMMARY:From Where and How do Plants get Nitrogen: Revisiting Paradigms of Soil Nitrogen Cycling and Availability
DESCRIPTION:Stuart Grandy\nUniversity of New Hampshire \nThe School of Food and Agriculture is celebrating the 30th anniversary of its sustainable agriculture program with a special seminar series. The University of Maine was the first in the nation to offer a bachelor’s degree in sustainable agriculture. The Sustainable Agriculture program\, initiated in 1988\, has been highlighted in the Chronicle of Higher Education.
URL:https://elh.umaine.edu/event/plants-get-nitrogen-revisiting-paradigms-soil-nitrogen-cycling-availability/
LOCATION:107 Norman Smith Hall\, orono\, ME\, United States
CATEGORIES:Lectures & Seminars,School of Food and Agriculture
GEO:44.8831125;-68.6719411
END:VEVENT
END:VCALENDAR