BEGIN:VCALENDAR
VERSION:2.0
PRODID:-//College of Earth, Life, and Health Sciences - ECPv6.15.17.1//NONSGML v1.0//EN
CALSCALE:GREGORIAN
METHOD:PUBLISH
X-WR-CALNAME:College of Earth, Life, and Health Sciences
X-ORIGINAL-URL:https://elh.umaine.edu
X-WR-CALDESC:Events for College of Earth, Life, and Health Sciences
REFRESH-INTERVAL;VALUE=DURATION:PT1H
X-Robots-Tag:noindex
X-PUBLISHED-TTL:PT1H
BEGIN:VTIMEZONE
TZID:America/New_York
BEGIN:DAYLIGHT
TZOFFSETFROM:-0500
TZOFFSETTO:-0400
TZNAME:EDT
DTSTART:20150308T070000
END:DAYLIGHT
BEGIN:STANDARD
TZOFFSETFROM:-0400
TZOFFSETTO:-0500
TZNAME:EST
DTSTART:20151101T060000
END:STANDARD
BEGIN:DAYLIGHT
TZOFFSETFROM:-0500
TZOFFSETTO:-0400
TZNAME:EDT
DTSTART:20160313T070000
END:DAYLIGHT
BEGIN:STANDARD
TZOFFSETFROM:-0400
TZOFFSETTO:-0500
TZNAME:EST
DTSTART:20161106T060000
END:STANDARD
BEGIN:DAYLIGHT
TZOFFSETFROM:-0500
TZOFFSETTO:-0400
TZNAME:EDT
DTSTART:20170312T070000
END:DAYLIGHT
BEGIN:STANDARD
TZOFFSETFROM:-0400
TZOFFSETTO:-0500
TZNAME:EST
DTSTART:20171105T060000
END:STANDARD
END:VTIMEZONE
BEGIN:VEVENT
DTSTART;TZID=America/New_York:20160122T111000
DTEND;TZID=America/New_York:20160122T121000
DTSTAMP:20260420T195007
CREATED:20160119T152654Z
LAST-MODIFIED:20160119T152654Z
UID:10000011-1453461000-1453464600@elh.umaine.edu
SUMMARY:"Salinity Variability Along the Eastern Continental Shelf of Canada and the United States 1973-2013"
DESCRIPTION:Presented by:  Dr. James J. Bisagni\, University of Massachusetts at Dartmouth \nHost: Dr. David Townsend
URL:https://elh.umaine.edu/event/salinity-variability-along-the-eastern-continental-shelf-of-canada-and-the-united-states-1973-2013/
LOCATION:354 Aubert Hall\, 354 Aubert Hall\, Orono\, ME\, United States
CATEGORIES:Lectures & Seminars
GEO:44.9012912;-68.6707296
X-APPLE-STRUCTURED-LOCATION;VALUE=URI;X-ADDRESS=354 Aubert Hall 354 Aubert Hall Orono ME United States;X-APPLE-RADIUS=500;X-TITLE=354 Aubert Hall:geo:-68.6707296,44.9012912
END:VEVENT
BEGIN:VEVENT
DTSTART;TZID=America/New_York:20160122T151000
DTEND;TZID=America/New_York:20160122T161000
DTSTAMP:20260420T195007
CREATED:20160120T142832Z
LAST-MODIFIED:20160122T135534Z
UID:10000012-1453475400-1453479000@elh.umaine.edu
SUMMARY:"SBE Spring Seminar Series Opener Faculty Research Showcase"
DESCRIPTION:Five minute lightning talks spanning topics in macroecology\, mammalian physiology\, the science of STEM education\, cell and molecular biology\, and avian ecology. \nHosted by: Dr. Hamish Greig \nSponsored by: School of Biology and Ecology \nRefreshments served at 3:00 pm
URL:https://elh.umaine.edu/event/sbe-spring-seminar-series-opener-faculty-research-showcase/
LOCATION:102 Murray Hall\, 102 Murray Hall\, Orono
CATEGORIES:Lectures & Seminars
GEO:44.9009631;-68.6656476
X-APPLE-STRUCTURED-LOCATION;VALUE=URI;X-ADDRESS=102 Murray Hall 102 Murray Hall Orono;X-APPLE-RADIUS=500;X-TITLE=102 Murray Hall:geo:-68.6656476,44.9009631
END:VEVENT
END:VCALENDAR