BEGIN:VCALENDAR
VERSION:2.0
PRODID:-//College of Earth, Life, and Health Sciences - ECPv6.15.17.1//NONSGML v1.0//EN
CALSCALE:GREGORIAN
METHOD:PUBLISH
X-WR-CALNAME:College of Earth, Life, and Health Sciences
X-ORIGINAL-URL:https://elh.umaine.edu
X-WR-CALDESC:Events for College of Earth, Life, and Health Sciences
REFRESH-INTERVAL;VALUE=DURATION:PT1H
X-Robots-Tag:noindex
X-PUBLISHED-TTL:PT1H
BEGIN:VTIMEZONE
TZID:America/New_York
BEGIN:DAYLIGHT
TZOFFSETFROM:-0500
TZOFFSETTO:-0400
TZNAME:EDT
DTSTART:20170312T070000
END:DAYLIGHT
BEGIN:STANDARD
TZOFFSETFROM:-0400
TZOFFSETTO:-0500
TZNAME:EST
DTSTART:20171105T060000
END:STANDARD
BEGIN:DAYLIGHT
TZOFFSETFROM:-0500
TZOFFSETTO:-0400
TZNAME:EDT
DTSTART:20180311T070000
END:DAYLIGHT
BEGIN:STANDARD
TZOFFSETFROM:-0400
TZOFFSETTO:-0500
TZNAME:EST
DTSTART:20181104T060000
END:STANDARD
BEGIN:DAYLIGHT
TZOFFSETFROM:-0500
TZOFFSETTO:-0400
TZNAME:EDT
DTSTART:20190310T070000
END:DAYLIGHT
BEGIN:STANDARD
TZOFFSETFROM:-0400
TZOFFSETTO:-0500
TZNAME:EST
DTSTART:20191103T060000
END:STANDARD
END:VTIMEZONE
BEGIN:VEVENT
DTSTART;VALUE=DATE:20180513
DTEND;VALUE=DATE:20180514
DTSTAMP:20260422T013148
CREATED:20170208T211220Z
LAST-MODIFIED:20170208T211220Z
UID:10000585-1526169600-1526255999@elh.umaine.edu
SUMMARY:Go Blue Friday
DESCRIPTION:The following days have been designated as UMaine’s Go Blue Fridays\, a chance to show your UMaine spirit and campus pride by wearing blue and/or UMaine clothing: Feb. 10 and 24; March 24; April 7 and 14; and May 12.
URL:https://elh.umaine.edu/event/go-blue-friday/2018-05-13/
LOCATION:ME
END:VEVENT
BEGIN:VEVENT
DTSTART;VALUE=DATE:20180514
DTEND;VALUE=DATE:20180515
DTSTAMP:20260422T013148
CREATED:20170208T211220Z
LAST-MODIFIED:20170208T211220Z
UID:10000586-1526256000-1526342399@elh.umaine.edu
SUMMARY:Go Blue Friday
DESCRIPTION:The following days have been designated as UMaine’s Go Blue Fridays\, a chance to show your UMaine spirit and campus pride by wearing blue and/or UMaine clothing: Feb. 10 and 24; March 24; April 7 and 14; and May 12.
URL:https://elh.umaine.edu/event/go-blue-friday/2018-05-14/
LOCATION:ME
END:VEVENT
BEGIN:VEVENT
DTSTART;VALUE=DATE:20180515
DTEND;VALUE=DATE:20180516
DTSTAMP:20260422T013148
CREATED:20170208T211220Z
LAST-MODIFIED:20170208T211220Z
UID:10000587-1526342400-1526428799@elh.umaine.edu
SUMMARY:Go Blue Friday
DESCRIPTION:The following days have been designated as UMaine’s Go Blue Fridays\, a chance to show your UMaine spirit and campus pride by wearing blue and/or UMaine clothing: Feb. 10 and 24; March 24; April 7 and 14; and May 12.
URL:https://elh.umaine.edu/event/go-blue-friday/2018-05-15/
LOCATION:ME
END:VEVENT
BEGIN:VEVENT
DTSTART;VALUE=DATE:20180516
DTEND;VALUE=DATE:20180517
DTSTAMP:20260422T013148
CREATED:20170208T211220Z
LAST-MODIFIED:20170208T211220Z
UID:10000588-1526428800-1526515199@elh.umaine.edu
SUMMARY:Go Blue Friday
DESCRIPTION:The following days have been designated as UMaine’s Go Blue Fridays\, a chance to show your UMaine spirit and campus pride by wearing blue and/or UMaine clothing: Feb. 10 and 24; March 24; April 7 and 14; and May 12.
URL:https://elh.umaine.edu/event/go-blue-friday/2018-05-16/
LOCATION:ME
END:VEVENT
BEGIN:VEVENT
DTSTART;VALUE=DATE:20180517
DTEND;VALUE=DATE:20180518
DTSTAMP:20260422T013148
CREATED:20170208T211220Z
LAST-MODIFIED:20170208T211220Z
UID:10000589-1526515200-1526601599@elh.umaine.edu
SUMMARY:Go Blue Friday
DESCRIPTION:The following days have been designated as UMaine’s Go Blue Fridays\, a chance to show your UMaine spirit and campus pride by wearing blue and/or UMaine clothing: Feb. 10 and 24; March 24; April 7 and 14; and May 12.
URL:https://elh.umaine.edu/event/go-blue-friday/2018-05-17/
LOCATION:ME
END:VEVENT
BEGIN:VEVENT
DTSTART;VALUE=DATE:20180518
DTEND;VALUE=DATE:20180519
DTSTAMP:20260422T013148
CREATED:20170208T211220Z
LAST-MODIFIED:20170208T211220Z
UID:10000590-1526601600-1526687999@elh.umaine.edu
SUMMARY:Go Blue Friday
DESCRIPTION:The following days have been designated as UMaine’s Go Blue Fridays\, a chance to show your UMaine spirit and campus pride by wearing blue and/or UMaine clothing: Feb. 10 and 24; March 24; April 7 and 14; and May 12.
URL:https://elh.umaine.edu/event/go-blue-friday/2018-05-18/
LOCATION:ME
END:VEVENT
BEGIN:VEVENT
DTSTART;VALUE=DATE:20180519
DTEND;VALUE=DATE:20180520
DTSTAMP:20260422T013148
CREATED:20170208T211220Z
LAST-MODIFIED:20170208T211220Z
UID:10000591-1526688000-1526774399@elh.umaine.edu
SUMMARY:Go Blue Friday
DESCRIPTION:The following days have been designated as UMaine’s Go Blue Fridays\, a chance to show your UMaine spirit and campus pride by wearing blue and/or UMaine clothing: Feb. 10 and 24; March 24; April 7 and 14; and May 12.
URL:https://elh.umaine.edu/event/go-blue-friday/2018-05-19/
LOCATION:ME
END:VEVENT
END:VCALENDAR