BEGIN:VCALENDAR
VERSION:2.0
PRODID:-//College of Earth, Life, and Health Sciences - ECPv6.15.17.1//NONSGML v1.0//EN
CALSCALE:GREGORIAN
METHOD:PUBLISH
X-WR-CALNAME:College of Earth, Life, and Health Sciences
X-ORIGINAL-URL:https://elh.umaine.edu
X-WR-CALDESC:Events for College of Earth, Life, and Health Sciences
REFRESH-INTERVAL;VALUE=DURATION:PT1H
X-Robots-Tag:noindex
X-PUBLISHED-TTL:PT1H
BEGIN:VTIMEZONE
TZID:America/New_York
BEGIN:DAYLIGHT
TZOFFSETFROM:-0500
TZOFFSETTO:-0400
TZNAME:EDT
DTSTART:20170312T070000
END:DAYLIGHT
BEGIN:STANDARD
TZOFFSETFROM:-0400
TZOFFSETTO:-0500
TZNAME:EST
DTSTART:20171105T060000
END:STANDARD
BEGIN:DAYLIGHT
TZOFFSETFROM:-0500
TZOFFSETTO:-0400
TZNAME:EDT
DTSTART:20180311T070000
END:DAYLIGHT
BEGIN:STANDARD
TZOFFSETFROM:-0400
TZOFFSETTO:-0500
TZNAME:EST
DTSTART:20181104T060000
END:STANDARD
BEGIN:DAYLIGHT
TZOFFSETFROM:-0500
TZOFFSETTO:-0400
TZNAME:EDT
DTSTART:20190310T070000
END:DAYLIGHT
BEGIN:STANDARD
TZOFFSETFROM:-0400
TZOFFSETTO:-0500
TZNAME:EST
DTSTART:20191103T060000
END:STANDARD
END:VTIMEZONE
BEGIN:VEVENT
DTSTART;VALUE=DATE:20180708
DTEND;VALUE=DATE:20180709
DTSTAMP:20260420T024512
CREATED:20170208T211220Z
LAST-MODIFIED:20170208T211220Z
UID:10000641-1531008000-1531094399@elh.umaine.edu
SUMMARY:Go Blue Friday
DESCRIPTION:The following days have been designated as UMaine’s Go Blue Fridays\, a chance to show your UMaine spirit and campus pride by wearing blue and/or UMaine clothing: Feb. 10 and 24; March 24; April 7 and 14; and May 12.
URL:https://elh.umaine.edu/event/go-blue-friday/2018-07-08/
LOCATION:ME
END:VEVENT
BEGIN:VEVENT
DTSTART;VALUE=DATE:20180709
DTEND;VALUE=DATE:20180710
DTSTAMP:20260420T024512
CREATED:20170208T211220Z
LAST-MODIFIED:20170208T211220Z
UID:10000642-1531094400-1531180799@elh.umaine.edu
SUMMARY:Go Blue Friday
DESCRIPTION:The following days have been designated as UMaine’s Go Blue Fridays\, a chance to show your UMaine spirit and campus pride by wearing blue and/or UMaine clothing: Feb. 10 and 24; March 24; April 7 and 14; and May 12.
URL:https://elh.umaine.edu/event/go-blue-friday/2018-07-09/
LOCATION:ME
END:VEVENT
BEGIN:VEVENT
DTSTART;VALUE=DATE:20180710
DTEND;VALUE=DATE:20180711
DTSTAMP:20260420T024512
CREATED:20170208T211220Z
LAST-MODIFIED:20170208T211220Z
UID:10000643-1531180800-1531267199@elh.umaine.edu
SUMMARY:Go Blue Friday
DESCRIPTION:The following days have been designated as UMaine’s Go Blue Fridays\, a chance to show your UMaine spirit and campus pride by wearing blue and/or UMaine clothing: Feb. 10 and 24; March 24; April 7 and 14; and May 12.
URL:https://elh.umaine.edu/event/go-blue-friday/2018-07-10/
LOCATION:ME
END:VEVENT
BEGIN:VEVENT
DTSTART;TZID=America/New_York:20180710T100000
DTEND;TZID=America/New_York:20180710T160000
DTSTAMP:20260420T024512
CREATED:20180626T173116Z
LAST-MODIFIED:20180626T175256Z
UID:10002841-1531216800-1531238400@elh.umaine.edu
SUMMARY:Potato virus detection training
DESCRIPTION:For inspectors\, regulators\, growers and anyone interested in learning more about detection of PVY in the field. \n\nField identification of PVY (strains O\, N-Wi and NTN) on 18 popular cultivars grown in the Northeast\nTalk with experts from the USDA and University of Maine\nVirus detection workshops will also be held in Othello\, WA June 21st and Antigo\, WI July 26th\n\nThe workshop will be held at the University of Maine Aroostook Farm\, 59 Houlton Road\, US Route 1\, Presque Isle\, ME 10:00 a.m. – 12:00 p.m. for inspectors and 2:00 – 4:00 p.m. for growers and field staff. Refreshments will be provided. The rain date is July 12th. \nVirus detection workshops will also be held in Othello\, WA June 21st and Antigo\, WI July 26th. For additional details and to register visit http://bit.ly/2018potatovirusworkshops. \nFor more information about the workshops email: pbg-potatovirus@cornell.edu
URL:https://elh.umaine.edu/event/potato-virus-detection-training/
LOCATION:Aroostook Farm\, 59 Houlton Road\, U.S. Route 1\, Presque Isle\, ME
CATEGORIES:Lectures & Seminars,Maine Agricultural and Forest Experiment Station,School of Biology and Ecology,School of Food and Agriculture
ORGANIZER;CN="School of Biology and Ecology":MAILTO:teresa.costello@umit.maine.edu
END:VEVENT
BEGIN:VEVENT
DTSTART;VALUE=DATE:20180711
DTEND;VALUE=DATE:20180712
DTSTAMP:20260420T024512
CREATED:20170208T211220Z
LAST-MODIFIED:20170208T211220Z
UID:10000644-1531267200-1531353599@elh.umaine.edu
SUMMARY:Go Blue Friday
DESCRIPTION:The following days have been designated as UMaine’s Go Blue Fridays\, a chance to show your UMaine spirit and campus pride by wearing blue and/or UMaine clothing: Feb. 10 and 24; March 24; April 7 and 14; and May 12.
URL:https://elh.umaine.edu/event/go-blue-friday/2018-07-11/
LOCATION:ME
END:VEVENT
BEGIN:VEVENT
DTSTART;VALUE=DATE:20180712
DTEND;VALUE=DATE:20180713
DTSTAMP:20260420T024512
CREATED:20170208T211220Z
LAST-MODIFIED:20170208T211220Z
UID:10000645-1531353600-1531439999@elh.umaine.edu
SUMMARY:Go Blue Friday
DESCRIPTION:The following days have been designated as UMaine’s Go Blue Fridays\, a chance to show your UMaine spirit and campus pride by wearing blue and/or UMaine clothing: Feb. 10 and 24; March 24; April 7 and 14; and May 12.
URL:https://elh.umaine.edu/event/go-blue-friday/2018-07-12/
LOCATION:ME
END:VEVENT
BEGIN:VEVENT
DTSTART;VALUE=DATE:20180713
DTEND;VALUE=DATE:20180714
DTSTAMP:20260420T024512
CREATED:20170208T211220Z
LAST-MODIFIED:20170208T211220Z
UID:10000646-1531440000-1531526399@elh.umaine.edu
SUMMARY:Go Blue Friday
DESCRIPTION:The following days have been designated as UMaine’s Go Blue Fridays\, a chance to show your UMaine spirit and campus pride by wearing blue and/or UMaine clothing: Feb. 10 and 24; March 24; April 7 and 14; and May 12.
URL:https://elh.umaine.edu/event/go-blue-friday/2018-07-13/
LOCATION:ME
END:VEVENT
BEGIN:VEVENT
DTSTART;VALUE=DATE:20180714
DTEND;VALUE=DATE:20180715
DTSTAMP:20260420T024512
CREATED:20170208T211220Z
LAST-MODIFIED:20170208T211220Z
UID:10000647-1531526400-1531612799@elh.umaine.edu
SUMMARY:Go Blue Friday
DESCRIPTION:The following days have been designated as UMaine’s Go Blue Fridays\, a chance to show your UMaine spirit and campus pride by wearing blue and/or UMaine clothing: Feb. 10 and 24; March 24; April 7 and 14; and May 12.
URL:https://elh.umaine.edu/event/go-blue-friday/2018-07-14/
LOCATION:ME
END:VEVENT
END:VCALENDAR